Workbook

Sheet DATA
A1: YOUR SENIOR HIGH SCHOOL -CALL US 0554356954 / 0541709799 | I1: CORE SUBJECTS | M1: ELECTIVES SUBJECTS | AF1: C6 | AI1: E8
A2: S/N | B2: Index No. | C2: Gender | D2: Name | E2: DOB | F2: PRGM | G2: DAY/B | H2: CLASS | I2: Social | J2: English | K2: Maths | L2: IntSci | M2: E1 | N2: Grade 1 | O2: E2 | P2: Grade 2 | Q2: E3 | R2: Grade 3 | S2: E4 | T2: Grade 4 | U2: ALL 8 C6 | V2: ALL 8 E8 | W2: Soc | X2: Int | Y2: S/I | Z2: En | AA2: Mt | AB2: E1 | AC2: E2 | AD2: E3 | AE2: E4 | AF2: C | AG2: E | AH2: Q | AI2: C | AJ2: E | AK2: Q | AL2: Written | AM2: BEST 6 AGREGATE | AN2: ALS
A3: 1 | B3: 1 | C3: F | D3: JEST DEMO | E3: 2004-11-14 | I3: B3 | J3: B3 | K3: F9 | L3: D7 | M3: ECONOMICS | N3: E8 | O3: CHEMISTRY | P3: F9 | Q3: CLOTHING & TEXTILES | R3: C6 | S3: MGT IN LIVING | T3: B2 | U3: =IF(A3>0,COUNTIF(W3:X3,"<7") + COUNTIF(Z3:AA3,"<7")+COUNTIF(AB3:AE3,"<7"),"") -> 4 | V3: =IF(A3>0,COUNTIF(W3:X3,"<=8") + COUNTIF(Z3:AA3,"<=8")+COUNTIF(AB3:AE3,"<=8"),"") -> 6 | W3: =IF(LEN(I3) = 2,INT(RIGHT(I3,1)),"") -> 3 | X3: =IF(LEN(L3) = 2,INT(RIGHT(L3,1)),"") -> 7 | Y3: =IF(LEN(I3) = 2,IF(A3>0,MIN(W3:X3),""),"") -> 3 | Z3: =IF(LEN(J3)=2,INT(RIGHT(J3,1)),"") -> 3 | AA3: =IF(LEN(K3) = 2,INT(RIGHT(K3,1)),"") -> 9 | AB3: =IF(LEN(N3)=2,INT(RIGHT(N3,1)),"") -> 8 | AC3: =IF(LEN(P3) = 2,INT(RIGHT(P3,1)),"") -> 9 | AD3: =IF(LEN(R3)=2,INT(RIGHT(R3,1)),"") -> 6 | AE3: =IF(LEN(T3)=2,INT(RIGHT(T3,1)),"") -> 2 | AF3: =IF(A3>0,COUNTIF(Y3:AA3,"<7"),"") -> 2 | AG3: =IF(A3>0,IF(COUNTIF(AB3:AE3,"<7")>3,3,COUNTIF(AB3:AE3,"<7")),"") -> 2 | AH3: =IF(A3>0,AF3+AG3,"") -> 4 | AI3: =IF(A3>0,COUNTIF(Y3:AA3,"<9"),"") -> 2 | AJ3: =IF(A3>0,IF(COUNTIF(AB3:AE3,"<=8")>3,3,COUNTIF(AB3:AE3,"<=8")),"") -> 3 | AK3: =IF(A3>0,AI3+AJ3,"") -> 5 | AL3: =COUNTIF(Y3:AE3,">0")-1 -> 6 | AM3: =IF(AL3>=6,IF(A3>0,IF(AE3<>"",SUM(Y3:AA3) + SUM(AB3:AE3)-MAX(AB3:AE3),SUM(Y3:AA3) + SUM(AB3:AE3)),""),"") -> 31 | AN3: =COUNTIF(I3:L3,"A1")+COUNTIF(N3,"A1")+COUNTIF(P3,"A1")+COUNTIF(R3,"A1")+COUNTIF(T3,"A1") -> 0
A4: 2 | B4: 2 | C4: F | D4: JEST DEMO | E4: 2004-11-15 | I4: C5 | J4: C4 | K4: X | L4: F9 | M4: GOVERNMENT | N4: D7 | O4: HISTORY | P4: C6 | Q4: LIT IN ENGLISH | R4: F9 | S4: FRENCH | T4: F9 | U4: =IF(A4>0,COUNTIF(W4:X4,"<7") + COUNTIF(Z4:AA4,"<7")+COUNTIF(AB4:AE4,"<7"),"") -> 3 | V4: =IF(A4>0,COUNTIF(W4:X4,"<=8") + COUNTIF(Z4:AA4,"<=8")+COUNTIF(AB4:AE4,"<=8"),"") -> 4 | W4: =IF(LEN(I4) = 2,INT(RIGHT(I4,1)),"") -> 5 | X4: =IF(LEN(L4) = 2,INT(RIGHT(L4,1)),"") -> 9 | Y4: =IF(LEN(I4) = 2,IF(A4>0,MIN(W4:X4),""),"") -> 5 | Z4: =IF(LEN(J4)=2,INT(RIGHT(J4,1)),"") -> 4 | AA4: =IF(LEN(K4) = 2,INT(RIGHT(K4,1)),"") | AB4: =IF(LEN(N4)=2,INT(RIGHT(N4,1)),"") -> 7 | AC4: =IF(LEN(P4) = 2,INT(RIGHT(P4,1)),"") -> 6 | AD4: =IF(LEN(R4)=2,INT(RIGHT(R4,1)),"") -> 9 | AE4: =IF(LEN(T4)=2,INT(RIGHT(T4,1)),"") -> 9 | AF4: =IF(A4>0,COUNTIF(Y4:AA4,"<7"),"") -> 2 | AG4: =IF(A4>0,IF(COUNTIF(AB4:AE4,"<7")>3,3,COUNTIF(AB4:AE4,"<7")),"") -> 1 | AH4: =IF(A4>0,AF4+AG4,"") -> 3 | AI4: =IF(A4>0,COUNTIF(Y4:AA4,"<9"),"") -> 2 | AJ4: =IF(A4>0,IF(COUNTIF(AB4:AE4,"<=8")>3,3,COUNTIF(AB4:AE4,"<=8")),"") -> 2 | AK4: =IF(A4>0,AI4+AJ4,"") -> 4 | AL4: =COUNTIF(Y4:AE4,">0")-1 -> 5 | AM4: =IF(AL4>=6,IF(A4>0,IF(AE4<>"",SUM(Y4:AA4) + SUM(AB4:AE4)-MAX(AB4:AE4),SUM(Y4:AA4) + SUM(AB4:AE4)),""),"") | AN4: =COUNTIF(I4:L4,"A1")+COUNTIF(N4,"A1")+COUNTIF(P4,"A1")+COUNTIF(R4,"A1")+COUNTIF(T4,"A1") -> 0
A5: 3 | B5: 3 | C5: M | D5: JEST DEMO | E5: 2004-11-16 | I5: E8 | J5: C6 | K5: F9 | L5: F9 | M5: MATHEMATICS(ELECTIVE) | N5: F9 | O5: BIOLOGY | P5: F9 | Q5: CHEMISTRY | R5: F9 | S5: PHYSICS | T5: F9 | U5: =IF(A5>0,COUNTIF(W5:X5,"<7") + COUNTIF(Z5:AA5,"<7")+COUNTIF(AB5:AE5,"<7"),"") -> 1 | V5: =IF(A5>0,COUNTIF(W5:X5,"<=8") + COUNTIF(Z5:AA5,"<=8")+COUNTIF(AB5:AE5,"<=8"),"") -> 2 | W5: =IF(LEN(I5) = 2,INT(RIGHT(I5,1)),"") -> 8 | X5: =IF(LEN(L5) = 2,INT(RIGHT(L5,1)),"") -> 9 | Y5: =IF(LEN(I5) = 2,IF(A5>0,MIN(W5:X5),""),"") -> 8 | Z5: =IF(LEN(J5)=2,INT(RIGHT(J5,1)),"") -> 6 | AA5: =IF(LEN(K5) = 2,INT(RIGHT(K5,1)),"") -> 9 | AB5: =IF(LEN(N5)=2,INT(RIGHT(N5,1)),"") -> 9 | AC5: =IF(LEN(P5) = 2,INT(RIGHT(P5,1)),"") -> 9 | AD5: =IF(LEN(R5)=2,INT(RIGHT(R5,1)),"") -> 9 | AE5: =IF(LEN(T5)=2,INT(RIGHT(T5,1)),"") -> 9 | AF5: =IF(A5>0,COUNTIF(Y5:AA5,"<7"),"") -> 1 | AG5: =IF(A5>0,IF(COUNTIF(AB5:AE5,"<7")>3,3,COUNTIF(AB5:AE5,"<7")),"") -> 0 | AH5: =IF(A5>0,AF5+AG5,"") -> 1 | AI5: =IF(A5>0,COUNTIF(Y5:AA5,"<9"),"") -> 2 | AJ5: =IF(A5>0,IF(COUNTIF(AB5:AE5,"<=8")>3,3,COUNTIF(AB5:AE5,"<=8")),"") -> 0 | AK5: =IF(A5>0,AI5+AJ5,"") -> 2 | AL5: =COUNTIF(Y5:AE5,">0")-1 -> 6 | AM5: =IF(AL5>=6,IF(A5>0,IF(AE5<>"",SUM(Y5:AA5) + SUM(AB5:AE5)-MAX(AB5:AE5),SUM(Y5:AA5) + SUM(AB5:AE5)),""),"") -> 50 | AN5: =COUNTIF(I5:L5,"A1")+COUNTIF(N5,"A1")+COUNTIF(P5,"A1")+COUNTIF(R5,"A1")+COUNTIF(T5,"A1") -> 0
A6: 4 | B6: 4 | C6: F | D6: JEST DEMO | E6: 2004-11-17 | I6: F9 | J6: F9 | K6: F9 | L6: F9 | M6: BUSINESS MANAGEMENT | N6: F9 | O6: CLERICAL OFF DUTIES | P6: F9 | Q6: TYPEWRITING | R6: F9 | S6: ECONOMICS | T6: F9 | U6: =IF(A6>0,COUNTIF(W6:X6,"<7") + COUNTIF(Z6:AA6,"<7")+COUNTIF(AB6:AE6,"<7"),"") -> 0 | V6: =IF(A6>0,COUNTIF(W6:X6,"<=8") + COUNTIF(Z6:AA6,"<=8")+COUNTIF(AB6:AE6,"<=8"),"") -> 0 | W6: =IF(LEN(I6) = 2,INT(RIGHT(I6,1)),"") -> 9 | X6: =IF(LEN(L6) = 2,INT(RIGHT(L6,1)),"") -> 9 | Y6: =IF(LEN(I6) = 2,IF(A6>0,MIN(W6:X6),""),"") -> 9 | Z6: =IF(LEN(J6)=2,INT(RIGHT(J6,1)),"") -> 9 | AA6: =IF(LEN(K6) = 2,INT(RIGHT(K6,1)),"") -> 9 | AB6: =IF(LEN(N6)=2,INT(RIGHT(N6,1)),"") -> 9 | AC6: =IF(LEN(P6) = 2,INT(RIGHT(P6,1)),"") -> 9 | AD6: =IF(LEN(R6)=2,INT(RIGHT(R6,1)),"") -> 9 | AE6: =IF(LEN(T6)=2,INT(RIGHT(T6,1)),"") -> 9 | AF6: =IF(A6>0,COUNTIF(Y6:AA6,"<7"),"") -> 0 | AG6: =IF(A6>0,IF(COUNTIF(AB6:AE6,"<7")>3,3,COUNTIF(AB6:AE6,"<7")),"") -> 0 | AH6: =IF(A6>0,AF6+AG6,"") -> 0 | AI6: =IF(A6>0,COUNTIF(Y6:AA6,"<9"),"") -> 0 | AJ6: =IF(A6>0,IF(COUNTIF(AB6:AE6,"<=8")>3,3,COUNTIF(AB6:AE6,"<=8")),"") -> 0 | AK6: =IF(A6>0,AI6+AJ6,"") -> 0 | AL6: =COUNTIF(Y6:AE6,">0")-1 -> 6 | AM6: =IF(AL6>=6,IF(A6>0,IF(AE6<>"",SUM(Y6:AA6) + SUM(AB6:AE6)-MAX(AB6:AE6),SUM(Y6:AA6) + SUM(AB6:AE6)),""),"") -> 54 | AN6: =COUNTIF(I6:L6,"A1")+COUNTIF(N6,"A1")+COUNTIF(P6,"A1")+COUNTIF(R6,"A1")+COUNTIF(T6,"A1") -> 0
A7: 5 | B7: 5 | C7: F | D7: JEST DEMO | E7: 2004-11-18 | I7: A1 | J7: C4 | K7: F9 | L7: E8 | M7: CHRISTIAN REL STUD | N7: C4 | O7: ECONOMICS | P7: C6 | Q7: GEOGRAPHY | R7: C4 | S7: FRENCH | T7: C5 | U7: =IF(A7>0,COUNTIF(W7:X7,"<7") + COUNTIF(Z7:AA7,"<7")+COUNTIF(AB7:AE7,"<7"),"") -> 6 | V7: =IF(A7>0,COUNTIF(W7:X7,"<=8") + COUNTIF(Z7:AA7,"<=8")+COUNTIF(AB7:AE7,"<=8"),"") -> 7 | W7: =IF(LEN(I7) = 2,INT(RIGHT(I7,1)),"") -> 1 | X7: =IF(LEN(L7) = 2,INT(RIGHT(L7,1)),"") -> 8 | Y7: =IF(LEN(I7) = 2,IF(A7>0,MIN(W7:X7),""),"") -> 1 | Z7: =IF(LEN(J7)=2,INT(RIGHT(J7,1)),"") -> 4 | AA7: =IF(LEN(K7) = 2,INT(RIGHT(K7,1)),"") -> 9 | AB7: =IF(LEN(N7)=2,INT(RIGHT(N7,1)),"") -> 4 | AC7: =IF(LEN(P7) = 2,INT(RIGHT(P7,1)),"") -> 6 | AD7: =IF(LEN(R7)=2,INT(RIGHT(R7,1)),"") -> 4 | AE7: =IF(LEN(T7)=2,INT(RIGHT(T7,1)),"") -> 5 | AF7: =IF(A7>0,COUNTIF(Y7:AA7,"<7"),"") -> 2 | AG7: =IF(A7>0,IF(COUNTIF(AB7:AE7,"<7")>3,3,COUNTIF(AB7:AE7,"<7")),"") -> 3 | AH7: =IF(A7>0,AF7+AG7,"") -> 5 | AI7: =IF(A7>0,COUNTIF(Y7:AA7,"<9"),"") -> 2 | AJ7: =IF(A7>0,IF(COUNTIF(AB7:AE7,"<=8")>3,3,COUNTIF(AB7:AE7,"<=8")),"") -> 3 | AK7: =IF(A7>0,AI7+AJ7,"") -> 5 | AL7: =COUNTIF(Y7:AE7,">0")-1 -> 6 | AM7: =IF(AL7>=6,IF(A7>0,IF(AE7<>"",SUM(Y7:AA7) + SUM(AB7:AE7)-MAX(AB7:AE7),SUM(Y7:AA7) + SUM(AB7:AE7)),""),"") -> 27 | AN7: =COUNTIF(I7:L7,"A1")+COUNTIF(N7,"A1")+COUNTIF(P7,"A1")+COUNTIF(R7,"A1")+COUNTIF(T7,"A1") -> 1
A8: 6 | B8: 6 | C8: M | D8: JEST DEMO | E8: 2004-11-19 | I8: D7 | J8: F9 | K8: F9 | L8: F9 | M8: CHRISTIAN REL STUD | N8: F9 | O8: GOVERNMENT | P8: D7 | Q8: HISTORY | R8: C6 | S8: MUSIC | T8: F9 | U8: =IF(A8>0,COUNTIF(W8:X8,"<7") + COUNTIF(Z8:AA8,"<7")+COUNTIF(AB8:AE8,"<7"),"") -> 1 | V8: =IF(A8>0,COUNTIF(W8:X8,"<=8") + COUNTIF(Z8:AA8,"<=8")+COUNTIF(AB8:AE8,"<=8"),"") -> 3 | W8: =IF(LEN(I8) = 2,INT(RIGHT(I8,1)),"") -> 7 | X8: =IF(LEN(L8) = 2,INT(RIGHT(L8,1)),"") -> 9 | Y8: =IF(LEN(I8) = 2,IF(A8>0,MIN(W8:X8),""),"") -> 7 | Z8: =IF(LEN(J8)=2,INT(RIGHT(J8,1)),"") -> 9 | AA8: =IF(LEN(K8) = 2,INT(RIGHT(K8,1)),"") -> 9 | AB8: =IF(LEN(N8)=2,INT(RIGHT(N8,1)),"") -> 9 | AC8: =IF(LEN(P8) = 2,INT(RIGHT(P8,1)),"") -> 7 | AD8: =IF(LEN(R8)=2,INT(RIGHT(R8,1)),"") -> 6 | AE8: =IF(LEN(T8)=2,INT(RIGHT(T8,1)),"") -> 9 | AF8: =IF(A8>0,COUNTIF(Y8:AA8,"<7"),"") -> 0 | AG8: =IF(A8>0,IF(COUNTIF(AB8:AE8,"<7")>3,3,COUNTIF(AB8:AE8,"<7")),"") -> 1 | AH8: =IF(A8>0,AF8+AG8,"") -> 1 | AI8: =IF(A8>0,COUNTIF(Y8:AA8,"<9"),"") -> 1 | AJ8: =IF(A8>0,IF(COUNTIF(AB8:AE8,"<=8")>3,3,COUNTIF(AB8:AE8,"<=8")),"") -> 2 | AK8: =IF(A8>0,AI8+AJ8,"") -> 3 | AL8: =COUNTIF(Y8:AE8,">0")-1 -> 6 | AM8: =IF(AL8>=6,IF(A8>0,IF(AE8<>"",SUM(Y8:AA8) + SUM(AB8:AE8)-MAX(AB8:AE8),SUM(Y8:AA8) + SUM(AB8:AE8)),""),"") -> 47 | AN8: =COUNTIF(I8:L8,"A1")+COUNTIF(N8,"A1")+COUNTIF(P8,"A1")+COUNTIF(R8,"A1")+COUNTIF(T8,"A1") -> 0
A9: 7 | B9: 7 | C9: F | D9: JEST DEMO | E9: 2004-11-20 | I9: D7 | J9: C6 | K9: F9 | L9: F9 | M9: ECONOMICS | N9: F9 | O9: GEOGRAPHY | P9: E8 | Q9: MATHEMATICS(ELECTIVE) | R9: F9 | S9: ICT (ELECTIVE) | T9: E8 | U9: =IF(A9>0,COUNTIF(W9:X9,"<7") + COUNTIF(Z9:AA9,"<7")+COUNTIF(AB9:AE9,"<7"),"") -> 1 | V9: =IF(A9>0,COUNTIF(W9:X9,"<=8") + COUNTIF(Z9:AA9,"<=8")+COUNTIF(AB9:AE9,"<=8"),"") -> 4 | W9: =IF(LEN(I9) = 2,INT(RIGHT(I9,1)),"") -> 7 | X9: =IF(LEN(L9) = 2,INT(RIGHT(L9,1)),"") -> 9 | Y9: =IF(LEN(I9) = 2,IF(A9>0,MIN(W9:X9),""),"") -> 7 | Z9: =IF(LEN(J9)=2,INT(RIGHT(J9,1)),"") -> 6 | AA9: =IF(LEN(K9) = 2,INT(RIGHT(K9,1)),"") -> 9 | AB9: =IF(LEN(N9)=2,INT(RIGHT(N9,1)),"") -> 9 | AC9: =IF(LEN(P9) = 2,INT(RIGHT(P9,1)),"") -> 8 | AD9: =IF(LEN(R9)=2,INT(RIGHT(R9,1)),"") -> 9 | AE9: =IF(LEN(T9)=2,INT(RIGHT(T9,1)),"") -> 8 | AF9: =IF(A9>0,COUNTIF(Y9:AA9,"<7"),"") -> 1 | AG9: =IF(A9>0,IF(COUNTIF(AB9:AE9,"<7")>3,3,COUNTIF(AB9:AE9,"<7")),"") -> 0 | AH9: =IF(A9>0,AF9+AG9,"") -> 1 | AI9: =IF(A9>0,COUNTIF(Y9:AA9,"<9"),"") -> 2 | AJ9: =IF(A9>0,IF(COUNTIF(AB9:AE9,"<=8")>3,3,COUNTIF(AB9:AE9,"<=8")),"") -> 2 | AK9: =IF(A9>0,AI9+AJ9,"") -> 4 | AL9: =COUNTIF(Y9:AE9,">0")-1 -> 6 | AM9: =IF(AL9>=6,IF(A9>0,IF(AE9<>"",SUM(Y9:AA9) + SUM(AB9:AE9)-MAX(AB9:AE9),SUM(Y9:AA9) + SUM(AB9:AE9)),""),"") -> 47 | AN9: =COUNTIF(I9:L9,"A1")+COUNTIF(N9,"A1")+COUNTIF(P9,"A1")+COUNTIF(R9,"A1")+COUNTIF(T9,"A1") -> 0
A10: 8 | B10: 8 | C10: F | D10: JEST DEMO | E10: 2004-11-21 | I10: D7 | J10: C5 | K10: F9 | L10: E8 | M10: BUSINESS MANAGEMENT | N10: E8 | O10: FINANCIAL ACCOUNTING | P10: F9 | Q10: PRINCIPLES OF COST ACCOUNTING | R10: F9 | S10: ECONOMICS | T10: F9 | U10: =IF(A10>0,COUNTIF(W10:X10,"<7") + COUNTIF(Z10:AA10,"<7")+COUNTIF(AB10:AE10,"<7"),"") -> 1 | V10: =IF(A10>0,COUNTIF(W10:X10,"<=8") + COUNTIF(Z10:AA10,"<=8")+COUNTIF(AB10:AE10,"<=8"),"") -> 4 | W10: =IF(LEN(I10) = 2,INT(RIGHT(I10,1)),"") -> 7 | X10: =IF(LEN(L10) = 2,INT(RIGHT(L10,1)),"") -> 8 | Y10: =IF(LEN(I10) = 2,IF(A10>0,MIN(W10:X10),""),"") -> 7 | Z10: =IF(LEN(J10)=2,INT(RIGHT(J10,1)),"") -> 5 | AA10: =IF(LEN(K10) = 2,INT(RIGHT(K10,1)),"") -> 9 | AB10: =IF(LEN(N10)=2,INT(RIGHT(N10,1)),"") -> 8 | AC10: =IF(LEN(P10) = 2,INT(RIGHT(P10,1)),"") -> 9 | AD10: =IF(LEN(R10)=2,INT(RIGHT(R10,1)),"") -> 9 | AE10: =IF(LEN(T10)=2,INT(RIGHT(T10,1)),"") -> 9 | AF10: =IF(A10>0,COUNTIF(Y10:AA10,"<7"),"") -> 1 | AG10: =IF(A10>0,IF(COUNTIF(AB10:AE10,"<7")>3,3,COUNTIF(AB10:AE10,"<7")),"") -> 0 | AH10: =IF(A10>0,AF10+AG10,"") -> 1 | AI10: =IF(A10>0,COUNTIF(Y10:AA10,"<9"),"") -> 2 | AJ10: =IF(A10>0,IF(COUNTIF(AB10:AE10,"<=8")>3,3,COUNTIF(AB10:AE10,"<=8")),"") -> 1 | AK10: =IF(A10>0,AI10+AJ10,"") -> 3 | AL10: =COUNTIF(Y10:AE10,">0")-1 -> 6 | AM10: =IF(AL10>=6,IF(A10>0,IF(AE10<>"",SUM(Y10:AA10) + SUM(AB10:AE10)-MAX(AB10:AE10),SUM(Y10:AA10) + SUM(AB10:AE10)),""),"") -> 47 | AN10: =COUNTIF(I10:L10,"A1")+COUNTIF(N10,"A1")+COUNTIF(P10,"A1")+COUNTIF(R10,"A1")+COUNTIF(T10,"A1") -> 0
A11: 9 | B11: 9 | C11: M | D11: JEST DEMO | E11: 2004-11-22 | I11: C5 | J11: C4 | K11: F9 | L11: F9 | M11: MUSIC | N11: C6 | O11: CERAMICS | P11: B3 | Q11: GEN KNOW IN ART | R11: B2 | S11: GRAPHIC DESIGN | T11: C5 | U11: =IF(A11>0,COUNTIF(W11:X11,"<7") + COUNTIF(Z11:AA11,"<7")+COUNTIF(AB11:AE11,"<7"),"") -> 6 | V11: =IF(A11>0,COUNTIF(W11:X11,"<=8") + COUNTIF(Z11:AA11,"<=8")+COUNTIF(AB11:AE11,"<=8"),"") -> 6 | W11: =IF(LEN(I11) = 2,INT(RIGHT(I11,1)),"") -> 5 | X11: =IF(LEN(L11) = 2,INT(RIGHT(L11,1)),"") -> 9 | Y11: =IF(LEN(I11) = 2,IF(A11>0,MIN(W11:X11),""),"") -> 5 | Z11: =IF(LEN(J11)=2,INT(RIGHT(J11,1)),"") -> 4 | AA11: =IF(LEN(K11) = 2,INT(RIGHT(K11,1)),"") -> 9 | AB11: =IF(LEN(N11)=2,INT(RIGHT(N11,1)),"") -> 6 | AC11: =IF(LEN(P11) = 2,INT(RIGHT(P11,1)),"") -> 3 | AD11: =IF(LEN(R11)=2,INT(RIGHT(R11,1)),"") -> 2 | AE11: =IF(LEN(T11)=2,INT(RIGHT(T11,1)),"") -> 5 | AF11: =IF(A11>0,COUNTIF(Y11:AA11,"<7"),"") -> 2 | AG11: =IF(A11>0,IF(COUNTIF(AB11:AE11,"<7")>3,3,COUNTIF(AB11:AE11,"<7")),"") -> 3 | AH11: =IF(A11>0,AF11+AG11,"") -> 5 | AI11: =IF(A11>0,COUNTIF(Y11:AA11,"<9"),"") -> 2 | AJ11: =IF(A11>0,IF(COUNTIF(AB11:AE11,"<=8")>3,3,COUNTIF(AB11:AE11,"<=8")),"") -> 3 | AK11: =IF(A11>0,AI11+AJ11,"") -> 5 | AL11: =COUNTIF(Y11:AE11,">0")-1 -> 6 | AM11: =IF(AL11>=6,IF(A11>0,IF(AE11<>"",SUM(Y11:AA11) + SUM(AB11:AE11)-MAX(AB11:AE11),SUM(Y11:AA11) + SUM(AB11:AE11)),""),"") -> 28 | AN11: =COUNTIF(I11:L11,"A1")+COUNTIF(N11,"A1")+COUNTIF(P11,"A1")+COUNTIF(R11,"A1")+COUNTIF(T11,"A1") -> 0
A12: 10 | B12: 10 | C12: M | D12: JEST DEMO | E12: 2004-11-23 | I12: E8 | J12: C5 | K12: E8 | L12: F9 | M12: ICT (ELECTIVE) | N12: C6 | O12: CERAMICS | P12: C4 | Q12: GEN KNOW IN ART | R12: B3 | S12: GRAPHIC DESIGN | T12: D7 | U12: =IF(A12>0,COUNTIF(W12:X12,"<7") + COUNTIF(Z12:AA12,"<7")+COUNTIF(AB12:AE12,"<7"),"") -> 4 | V12: =IF(A12>0,COUNTIF(W12:X12,"<=8") + COUNTIF(Z12:AA12,"<=8")+COUNTIF(AB12:AE12,"<=8"),"") -> 7 | W12: =IF(LEN(I12) = 2,INT(RIGHT(I12,1)),"") -> 8 | X12: =IF(LEN(L12) = 2,INT(RIGHT(L12,1)),"") -> 9 | Y12: =IF(LEN(I12) = 2,IF(A12>0,MIN(W12:X12),""),"") -> 8 | Z12: =IF(LEN(J12)=2,INT(RIGHT(J12,1)),"") -> 5 | AA12: =IF(LEN(K12) = 2,INT(RIGHT(K12,1)),"") -> 8 | AB12: =IF(LEN(N12)=2,INT(RIGHT(N12,1)),"") -> 6 | AC12: =IF(LEN(P12) = 2,INT(RIGHT(P12,1)),"") -> 4 | AD12: =IF(LEN(R12)=2,INT(RIGHT(R12,1)),"") -> 3 | AE12: =IF(LEN(T12)=2,INT(RIGHT(T12,1)),"") -> 7 | AF12: =IF(A12>0,COUNTIF(Y12:AA12,"<7"),"") -> 1 | AG12: =IF(A12>0,IF(COUNTIF(AB12:AE12,"<7")>3,3,COUNTIF(AB12:AE12,"<7")),"") -> 3 | AH12: =IF(A12>0,AF12+AG12,"") -> 4 | AI12: =IF(A12>0,COUNTIF(Y12:AA12,"<9"),"") -> 3 | AJ12: =IF(A12>0,IF(COUNTIF(AB12:AE12,"<=8")>3,3,COUNTIF(AB12:AE12,"<=8")),"") -> 3 | AK12: =IF(A12>0,AI12+AJ12,"") -> 6 | AL12: =COUNTIF(Y12:AE12,">0")-1 -> 6 | AM12: =IF(AL12>=6,IF(A12>0,IF(AE12<>"",SUM(Y12:AA12) + SUM(AB12:AE12)-MAX(AB12:AE12),SUM(Y12:AA12) + SUM(AB12:AE12)),""),"") -> 34 | AN12: =COUNTIF(I12:L12,"A1")+COUNTIF(N12,"A1")+COUNTIF(P12,"A1")+COUNTIF(R12,"A1")+COUNTIF(T12,"A1") -> 0
A13: 11 | B13: 11 | C13: F | D13: JEST DEMO | E13: 2004-11-24 | I13: C5 | J13: B3 | K13: F9 | L13: E8 | M13: ECONOMICS | N13: F9 | O13: BIOLOGY | P13: D7 | Q13: FOODS & NUTRITION | R13: B2 | S13: MGT IN LIVING | T13: B3 | U13: =IF(A13>0,COUNTIF(W13:X13,"<7") + COUNTIF(Z13:AA13,"<7")+COUNTIF(AB13:AE13,"<7"),"") -> 4 | V13: =IF(A13>0,COUNTIF(W13:X13,"<=8") + COUNTIF(Z13:AA13,"<=8")+COUNTIF(AB13:AE13,"<=8"),"") -> 6 | W13: =IF(LEN(I13) = 2,INT(RIGHT(I13,1)),"") -> 5 | X13: =IF(LEN(L13) = 2,INT(RIGHT(L13,1)),"") -> 8 | Y13: =IF(LEN(I13) = 2,IF(A13>0,MIN(W13:X13),""),"") -> 5 | Z13: =IF(LEN(J13)=2,INT(RIGHT(J13,1)),"") -> 3 | AA13: =IF(LEN(K13) = 2,INT(RIGHT(K13,1)),"") -> 9 | AB13: =IF(LEN(N13)=2,INT(RIGHT(N13,1)),"") -> 9 | AC13: =IF(LEN(P13) = 2,INT(RIGHT(P13,1)),"") -> 7 | AD13: =IF(LEN(R13)=2,INT(RIGHT(R13,1)),"") -> 2 | AE13: =IF(LEN(T13)=2,INT(RIGHT(T13,1)),"") -> 3 | AF13: =IF(A13>0,COUNTIF(Y13:AA13,"<7"),"") -> 2 | AG13: =IF(A13>0,IF(COUNTIF(AB13:AE13,"<7")>3,3,COUNTIF(AB13:AE13,"<7")),"") -> 2 | AH13: =IF(A13>0,AF13+AG13,"") -> 4 | AI13: =IF(A13>0,COUNTIF(Y13:AA13,"<9"),"") -> 2 | AJ13: =IF(A13>0,IF(COUNTIF(AB13:AE13,"<=8")>3,3,COUNTIF(AB13:AE13,"<=8")),"") -> 3 | AK13: =IF(A13>0,AI13+AJ13,"") -> 5 | AL13: =COUNTIF(Y13:AE13,">0")-1 -> 6 | AM13: =IF(AL13>=6,IF(A13>0,IF(AE13<>"",SUM(Y13:AA13) + SUM(AB13:AE13)-MAX(AB13:AE13),SUM(Y13:AA13) + SUM(AB13:AE13)),""),"") -> 29 | AN13: =COUNTIF(I13:L13,"A1")+COUNTIF(N13,"A1")+COUNTIF(P13,"A1")+COUNTIF(R13,"A1")+COUNTIF(T13,"A1") -> 0
A14: 12 | B14: 12 | C14: F | D14: JEST DEMO | E14: 2004-11-25 | I14: A1 | J14: B3 | K14: F9 | L14: C6 | M14: ECONOMICS | N14: E8 | O14: BIOLOGY | P14: C6 | Q14: FOODS & NUTRITION | R14: B3 | S14: MGT IN LIVING | T14: A1 | U14: =IF(A14>0,COUNTIF(W14:X14,"<7") + COUNTIF(Z14:AA14,"<7")+COUNTIF(AB14:AE14,"<7"),"") -> 6 | V14: =IF(A14>0,COUNTIF(W14:X14,"<=8") + COUNTIF(Z14:AA14,"<=8")+COUNTIF(AB14:AE14,"<=8"),"") -> 7 | W14: =IF(LEN(I14) = 2,INT(RIGHT(I14,1)),"") -> 1 | X14: =IF(LEN(L14) = 2,INT(RIGHT(L14,1)),"") -> 6 | Y14: =IF(LEN(I14) = 2,IF(A14>0,MIN(W14:X14),""),"") -> 1 | Z14: =IF(LEN(J14)=2,INT(RIGHT(J14,1)),"") -> 3 | AA14: =IF(LEN(K14) = 2,INT(RIGHT(K14,1)),"") -> 9 | AB14: =IF(LEN(N14)=2,INT(RIGHT(N14,1)),"") -> 8 | AC14: =IF(LEN(P14) = 2,INT(RIGHT(P14,1)),"") -> 6 | AD14: =IF(LEN(R14)=2,INT(RIGHT(R14,1)),"") -> 3 | AE14: =IF(LEN(T14)=2,INT(RIGHT(T14,1)),"") -> 1 | AF14: =IF(A14>0,COUNTIF(Y14:AA14,"<7"),"") -> 2 | AG14: =IF(A14>0,IF(COUNTIF(AB14:AE14,"<7")>3,3,COUNTIF(AB14:AE14,"<7")),"") -> 3 | AH14: =IF(A14>0,AF14+AG14,"") -> 5 | AI14: =IF(A14>0,COUNTIF(Y14:AA14,"<9"),"") -> 2 | AJ14: =IF(A14>0,IF(COUNTIF(AB14:AE14,"<=8")>3,3,COUNTIF(AB14:AE14,"<=8")),"") -> 3 | AK14: =IF(A14>0,AI14+AJ14,"") -> 5 | AL14: =COUNTIF(Y14:AE14,">0")-1 -> 6 | AM14: =IF(AL14>=6,IF(A14>0,IF(AE14<>"",SUM(Y14:AA14) + SUM(AB14:AE14)-MAX(AB14:AE14),SUM(Y14:AA14) + SUM(AB14:AE14)),""),"") -> 23 | AN14: =COUNTIF(I14:L14,"A1")+COUNTIF(N14,"A1")+COUNTIF(P14,"A1")+COUNTIF(R14,"A1")+COUNTIF(T14,"A1") -> 2
... A632: 630 | B632: 630 | C632: M | D632: JEST DEMO | E632: 2004-11-643 | I632: D7 | J632: C6 | K632: F9 | L632: F9 | M632: ECONOMICS | N632: F9 | O632: GEOGRAPHY | P632: F9 | Q632: MATHEMATICS(ELECTIVE) | R632: F9 | S632: ICT (ELECTIVE) | T632: C6 | U632: =IF(A632>0,COUNTIF(W632:X632,"<7") + COUNTIF(Z632:AA632,"<7")+COUNTIF(AB632:AE632,"<7"),"") -> 2 | V632: =IF(A632>0,COUNTIF(W632:X632,"<=8") + COUNTIF(Z632:AA632,"<=8")+COUNTIF(AB632:AE632,"<=8"),"") -> 3 | W632: =IF(LEN(I632) = 2,INT(RIGHT(I632,1)),"") -> 7 | X632: =IF(LEN(L632) = 2,INT(RIGHT(L632,1)),"") -> 9 | Y632: =IF(LEN(I632) = 2,IF(A632>0,MIN(W632:X632),""),"") -> 7 | Z632: =IF(LEN(J632)=2,INT(RIGHT(J632,1)),"") -> 6 | AA632: =IF(LEN(K632) = 2,INT(RIGHT(K632,1)),"") -> 9 | AB632: =IF(LEN(N632)=2,INT(RIGHT(N632,1)),"") -> 9 | AC632: =IF(LEN(P632) = 2,INT(RIGHT(P632,1)),"") -> 9 | AD632: =IF(LEN(R632)=2,INT(RIGHT(R632,1)),"") -> 9 | AE632: =IF(LEN(T632)=2,INT(RIGHT(T632,1)),"") -> 6 | AF632: =IF(A632>0,COUNTIF(Y632:AA632,"<7"),"") -> 1 | AG632: =IF(A632>0,IF(COUNTIF(AB632:AE632,"<7")>3,3,COUNTIF(AB632:AE632,"<7")),"") -> 1 | AH632: =IF(A632>0,AF632+AG632,"") -> 2 | AI632: =IF(A632>0,COUNTIF(Y632:AA632,"<9"),"") -> 2 | AJ632: =IF(A632>0,IF(COUNTIF(AB632:AE632,"<=8")>3,3,COUNTIF(AB632:AE632,"<=8")),"") -> 1 | AK632: =IF(A632>0,AI632+AJ632,"") -> 3 | AL632: =COUNTIF(Y632:AE632,">0")-1 -> 6 | AM632: =IF(AL632>=6,IF(A632>0,IF(AE632<>"",SUM(Y632:AA632) + SUM(AB632:AE632)-MAX(AB632:AE632),SUM(Y632:AA632) + SUM(AB632:AE632)),""),"") -> 46 | AN632: =COUNTIF(I632:L632,"A1")+COUNTIF(N632,"A1")+COUNTIF(P632,"A1")+COUNTIF(R632,"A1")+COUNTIF(T632,"A1") -> 0
U633: =IF(A633>0,COUNTIF(W633:X633,"<7") + COUNTIF(Z633:AA633,"<7")+COUNTIF(AB633:AE633,"<7"),"") | V633: =IF(A633>0,COUNTIF(W633:X633,"<=8") + COUNTIF(Z633:AA633,"<=8")+COUNTIF(AB633:AE633,"<=8"),"") | W633: =IF(LEN(I633) = 2,INT(RIGHT(I633,1)),"") | X633: =IF(LEN(L633) = 2,INT(RIGHT(L633,1)),"") | Y633: =IF(LEN(I633) = 2,IF(A633>0,MIN(W633:X633),""),"") | Z633: =IF(LEN(J633)=2,INT(RIGHT(J633,1)),"") | AA633: =IF(LEN(K633) = 2,INT(RIGHT(K633,1)),"") | AB633: =IF(LEN(N633)=2,INT(RIGHT(N633,1)),"") | AC633: =IF(LEN(P633) = 2,INT(RIGHT(P633,1)),"") | AD633: =IF(LEN(R633)=2,INT(RIGHT(R633,1)),"") | AE633: =IF(LEN(T633)=2,INT(RIGHT(T633,1)),"") | AF633: =IF(A633>0,COUNTIF(Y633:AA633,"<7"),"") | AG633: =IF(A633>0,IF(COUNTIF(AB633:AE633,"<7")>3,3,COUNTIF(AB633:AE633,"<7")),"") | AH633: =IF(A633>0,AF633+AG633,"") | AI633: =IF(A633>0,COUNTIF(Y633:AA633,"<9"),"") | AJ633: =IF(A633>0,IF(COUNTIF(AB633:AE633,"<=8")>3,3,COUNTIF(AB633:AE633,"<=8")),"") | AK633: =IF(A633>0,AI633+AJ633,"") | AL633: =COUNTIF(Y633:AE633,">0")-1 -> -1 | AM633: =IF(AL633>=6,IF(A633>0,IF(AE633<>"",SUM(Y633:AA633) + SUM(AB633:AE633)-MAX(AB633:AE633),SUM(Y633:AA633) + SUM(AB633:AE633)),""),"") | AN633: =COUNTIF(I633:L633,"A1")+COUNTIF(N633,"A1")+COUNTIF(P633,"A1")+COUNTIF(R633,"A1")+COUNTIF(T633,"A1") -> 0
U634: =IF(A634>0,COUNTIF(W634:X634,"<7") + COUNTIF(Z634:AA634,"<7")+COUNTIF(AB634:AE634,"<7"),"") | V634: =IF(A634>0,COUNTIF(W634:X634,"<=8") + COUNTIF(Z634:AA634,"<=8")+COUNTIF(AB634:AE634,"<=8"),"") | W634: =IF(LEN(I634) = 2,INT(RIGHT(I634,1)),"") | X634: =IF(LEN(L634) = 2,INT(RIGHT(L634,1)),"") | Y634: =IF(LEN(I634) = 2,IF(A634>0,MIN(W634:X634),""),"") | Z634: =IF(LEN(J634)=2,INT(RIGHT(J634,1)),"") | AA634: =IF(LEN(K634) = 2,INT(RIGHT(K634,1)),"") | AB634: =IF(LEN(N634)=2,INT(RIGHT(N634,1)),"") | AC634: =IF(LEN(P634) = 2,INT(RIGHT(P634,1)),"") | AD634: =IF(LEN(R634)=2,INT(RIGHT(R634,1)),"") | AE634: =IF(LEN(T634)=2,INT(RIGHT(T634,1)),"") | AF634: =IF(A634>0,COUNTIF(Y634:AA634,"<7"),"") | AG634: =IF(A634>0,IF(COUNTIF(AB634:AE634,"<7")>3,3,COUNTIF(AB634:AE634,"<7")),"") | AH634: =IF(A634>0,AF634+AG634,"") | AI634: =IF(A634>0,COUNTIF(Y634:AA634,"<9"),"") | AJ634: =IF(A634>0,IF(COUNTIF(AB634:AE634,"<=8")>3,3,COUNTIF(AB634:AE634,"<=8")),"") | AK634: =IF(A634>0,AI634+AJ634,"") | AL634: =COUNTIF(Y634:AE634,">0")-1 -> -1 | AM634: =IF(AL634>=6,IF(A634>0,IF(AE634<>"",SUM(Y634:AA634) + SUM(AB634:AE634)-MAX(AB634:AE634),SUM(Y634:AA634) + SUM(AB634:AE634)),""),"") | AN634: =COUNTIF(I634:L634,"A1")+COUNTIF(N634,"A1")+COUNTIF(P634,"A1")+COUNTIF(R634,"A1")+COUNTIF(T634,"A1") -> 0
U635: =IF(A635>0,COUNTIF(W635:X635,"<7") + COUNTIF(Z635:AA635,"<7")+COUNTIF(AB635:AE635,"<7"),"") | V635: =IF(A635>0,COUNTIF(W635:X635,"<=8") + COUNTIF(Z635:AA635,"<=8")+COUNTIF(AB635:AE635,"<=8"),"") | W635: =IF(LEN(I635) = 2,INT(RIGHT(I635,1)),"") | X635: =IF(LEN(L635) = 2,INT(RIGHT(L635,1)),"") | Y635: =IF(LEN(I635) = 2,IF(A635>0,MIN(W635:X635),""),"") | Z635: =IF(LEN(J635)=2,INT(RIGHT(J635,1)),"") | AA635: =IF(LEN(K635) = 2,INT(RIGHT(K635,1)),"") | AB635: =IF(LEN(N635)=2,INT(RIGHT(N635,1)),"") | AC635: =IF(LEN(P635) = 2,INT(RIGHT(P635,1)),"") | AD635: =IF(LEN(R635)=2,INT(RIGHT(R635,1)),"") | AE635: =IF(LEN(T635)=2,INT(RIGHT(T635,1)),"") | AF635: =IF(A635>0,COUNTIF(Y635:AA635,"<7"),"") | AG635: =IF(A635>0,IF(COUNTIF(AB635:AE635,"<7")>3,3,COUNTIF(AB635:AE635,"<7")),"") | AH635: =IF(A635>0,AF635+AG635,"") | AI635: =IF(A635>0,COUNTIF(Y635:AA635,"<9"),"") | AJ635: =IF(A635>0,IF(COUNTIF(AB635:AE635,"<=8")>3,3,COUNTIF(AB635:AE635,"<=8")),"") | AK635: =IF(A635>0,AI635+AJ635,"") | AL635: =COUNTIF(Y635:AE635,">0")-1 -> -1 | AM635: =IF(AL635>=6,IF(A635>0,IF(AE635<>"",SUM(Y635:AA635) + SUM(AB635:AE635)-MAX(AB635:AE635),SUM(Y635:AA635) + SUM(AB635:AE635)),""),"") | AN635: =COUNTIF(I635:L635,"A1")+COUNTIF(N635,"A1")+COUNTIF(P635,"A1")+COUNTIF(R635,"A1")+COUNTIF(T635,"A1") -> 0
U636: =IF(A636>0,COUNTIF(W636:X636,"<7") + COUNTIF(Z636:AA636,"<7")+COUNTIF(AB636:AE636,"<7"),"") | V636: =IF(A636>0,COUNTIF(W636:X636,"<=8") + COUNTIF(Z636:AA636,"<=8")+COUNTIF(AB636:AE636,"<=8"),"") | W636: =IF(LEN(I636) = 2,INT(RIGHT(I636,1)),"") | X636: =IF(LEN(L636) = 2,INT(RIGHT(L636,1)),"") | Y636: =IF(LEN(I636) = 2,IF(A636>0,MIN(W636:X636),""),"") | Z636: =IF(LEN(J636)=2,INT(RIGHT(J636,1)),"") | AA636: =IF(LEN(K636) = 2,INT(RIGHT(K636,1)),"") | AB636: =IF(LEN(N636)=2,INT(RIGHT(N636,1)),"") | AC636: =IF(LEN(P636) = 2,INT(RIGHT(P636,1)),"") | AD636: =IF(LEN(R636)=2,INT(RIGHT(R636,1)),"") | AE636: =IF(LEN(T636)=2,INT(RIGHT(T636,1)),"") | AF636: =IF(A636>0,COUNTIF(Y636:AA636,"<7"),"") | AG636: =IF(A636>0,IF(COUNTIF(AB636:AE636,"<7")>3,3,COUNTIF(AB636:AE636,"<7")),"") | AH636: =IF(A636>0,AF636+AG636,"") | AI636: =IF(A636>0,COUNTIF(Y636:AA636,"<9"),"") | AJ636: =IF(A636>0,IF(COUNTIF(AB636:AE636,"<=8")>3,3,COUNTIF(AB636:AE636,"<=8")),"") | AK636: =IF(A636>0,AI636+AJ636,"") | AL636: =COUNTIF(Y636:AE636,">0")-1 -> -1 | AM636: =IF(AL636>=6,IF(A636>0,IF(AE636<>"",SUM(Y636:AA636) + SUM(AB636:AE636)-MAX(AB636:AE636),SUM(Y636:AA636) + SUM(AB636:AE636)),""),"") | AN636: =COUNTIF(I636:L636,"A1")+COUNTIF(N636,"A1")+COUNTIF(P636,"A1")+COUNTIF(R636,"A1")+COUNTIF(T636,"A1") -> 0
U637: =IF(A637>0,COUNTIF(W637:X637,"<7") + COUNTIF(Z637:AA637,"<7")+COUNTIF(AB637:AE637,"<7"),"") | V637: =IF(A637>0,COUNTIF(W637:X637,"<=8") + COUNTIF(Z637:AA637,"<=8")+COUNTIF(AB637:AE637,"<=8"),"") | W637: =IF(LEN(I637) = 2,INT(RIGHT(I637,1)),"") | X637: =IF(LEN(L637) = 2,INT(RIGHT(L637,1)),"") | Y637: =IF(LEN(I637) = 2,IF(A637>0,MIN(W637:X637),""),"") | Z637: =IF(LEN(J637)=2,INT(RIGHT(J637,1)),"") | AA637: =IF(LEN(K637) = 2,INT(RIGHT(K637,1)),"") | AB637: =IF(LEN(N637)=2,INT(RIGHT(N637,1)),"") | AC637: =IF(LEN(P637) = 2,INT(RIGHT(P637,1)),"") | AD637: =IF(LEN(R637)=2,INT(RIGHT(R637,1)),"") | AE637: =IF(LEN(T637)=2,INT(RIGHT(T637,1)),"") | AF637: =IF(A637>0,COUNTIF(Y637:AA637,"<7"),"") | AG637: =IF(A637>0,IF(COUNTIF(AB637:AE637,"<7")>3,3,COUNTIF(AB637:AE637,"<7")),"") | AH637: =IF(A637>0,AF637+AG637,"") | AI637: =IF(A637>0,COUNTIF(Y637:AA637,"<9"),"") | AJ637: =IF(A637>0,IF(COUNTIF(AB637:AE637,"<=8")>3,3,COUNTIF(AB637:AE637,"<=8")),"") | AK637: =IF(A637>0,AI637+AJ637,"") | AL637: =COUNTIF(Y637:AE637,">0")-1 -> -1 | AM637: =IF(AL637>=6,IF(A637>0,IF(AE637<>"",SUM(Y637:AA637) + SUM(AB637:AE637)-MAX(AB637:AE637),SUM(Y637:AA637) + SUM(AB637:AE637)),""),"") | AN637: =COUNTIF(I637:L637,"A1")+COUNTIF(N637,"A1")+COUNTIF(P637,"A1")+COUNTIF(R637,"A1")+COUNTIF(T637,"A1") -> 0
U638: =IF(A638>0,COUNTIF(W638:X638,"<7") + COUNTIF(Z638:AA638,"<7")+COUNTIF(AB638:AE638,"<7"),"") | V638: =IF(A638>0,COUNTIF(W638:X638,"<=8") + COUNTIF(Z638:AA638,"<=8")+COUNTIF(AB638:AE638,"<=8"),"") | W638: =IF(LEN(I638) = 2,INT(RIGHT(I638,1)),"") | X638: =IF(LEN(L638) = 2,INT(RIGHT(L638,1)),"") | Y638: =IF(LEN(I638) = 2,IF(A638>0,MIN(W638:X638),""),"") | Z638: =IF(LEN(J638)=2,INT(RIGHT(J638,1)),"") | AA638: =IF(LEN(K638) = 2,INT(RIGHT(K638,1)),"") | AB638: =IF(LEN(N638)=2,INT(RIGHT(N638,1)),"") | AC638: =IF(LEN(P638) = 2,INT(RIGHT(P638,1)),"") | AD638: =IF(LEN(R638)=2,INT(RIGHT(R638,1)),"") | AE638: =IF(LEN(T638)=2,INT(RIGHT(T638,1)),"") | AF638: =IF(A638>0,COUNTIF(Y638:AA638,"<7"),"") | AG638: =IF(A638>0,IF(COUNTIF(AB638:AE638,"<7")>3,3,COUNTIF(AB638:AE638,"<7")),"") | AH638: =IF(A638>0,AF638+AG638,"") | AI638: =IF(A638>0,COUNTIF(Y638:AA638,"<9"),"") | AJ638: =IF(A638>0,IF(COUNTIF(AB638:AE638,"<=8")>3,3,COUNTIF(AB638:AE638,"<=8")),"") | AK638: =IF(A638>0,AI638+AJ638,"") | AL638: =COUNTIF(Y638:AE638,">0")-1 -> -1 | AM638: =IF(AL638>=6,IF(A638>0,IF(AE638<>"",SUM(Y638:AA638) + SUM(AB638:AE638)-MAX(AB638:AE638),SUM(Y638:AA638) + SUM(AB638:AE638)),""),"") | AN638: =COUNTIF(I638:L638,"A1")+COUNTIF(N638,"A1")+COUNTIF(P638,"A1")+COUNTIF(R638,"A1")+COUNTIF(T638,"A1") -> 0
U639: =IF(A639>0,COUNTIF(W639:X639,"<7") + COUNTIF(Z639:AA639,"<7")+COUNTIF(AB639:AE639,"<7"),"") | V639: =IF(A639>0,COUNTIF(W639:X639,"<=8") + COUNTIF(Z639:AA639,"<=8")+COUNTIF(AB639:AE639,"<=8"),"") | W639: =IF(LEN(I639) = 2,INT(RIGHT(I639,1)),"") | X639: =IF(LEN(L639) = 2,INT(RIGHT(L639,1)),"") | Y639: =IF(LEN(I639) = 2,IF(A639>0,MIN(W639:X639),""),"") | Z639: =IF(LEN(J639)=2,INT(RIGHT(J639,1)),"") | AA639: =IF(LEN(K639) = 2,INT(RIGHT(K639,1)),"") | AB639: =IF(LEN(N639)=2,INT(RIGHT(N639,1)),"") | AC639: =IF(LEN(P639) = 2,INT(RIGHT(P639,1)),"") | AD639: =IF(LEN(R639)=2,INT(RIGHT(R639,1)),"") | AE639: =IF(LEN(T639)=2,INT(RIGHT(T639,1)),"") | AF639: =IF(A639>0,COUNTIF(Y639:AA639,"<7"),"") | AG639: =IF(A639>0,IF(COUNTIF(AB639:AE639,"<7")>3,3,COUNTIF(AB639:AE639,"<7")),"") | AH639: =IF(A639>0,AF639+AG639,"") | AI639: =IF(A639>0,COUNTIF(Y639:AA639,"<9"),"") | AJ639: =IF(A639>0,IF(COUNTIF(AB639:AE639,"<=8")>3,3,COUNTIF(AB639:AE639,"<=8")),"") | AK639: =IF(A639>0,AI639+AJ639,"") | AL639: =COUNTIF(Y639:AE639,">0")-1 -> -1 | AM639: =IF(AL639>=6,IF(A639>0,IF(AE639<>"",SUM(Y639:AA639) + SUM(AB639:AE639)-MAX(AB639:AE639),SUM(Y639:AA639) + SUM(AB639:AE639)),""),"") | AN639: =COUNTIF(I639:L639,"A1")+COUNTIF(N639,"A1")+COUNTIF(P639,"A1")+COUNTIF(R639,"A1")+COUNTIF(T639,"A1") -> 0
U640: =IF(A640>0,COUNTIF(W640:X640,"<7") + COUNTIF(Z640:AA640,"<7")+COUNTIF(AB640:AE640,"<7"),"") | V640: =IF(A640>0,COUNTIF(W640:X640,"<=8") + COUNTIF(Z640:AA640,"<=8")+COUNTIF(AB640:AE640,"<=8"),"") | W640: =IF(LEN(I640) = 2,INT(RIGHT(I640,1)),"") | X640: =IF(LEN(L640) = 2,INT(RIGHT(L640,1)),"") | Y640: =IF(LEN(I640) = 2,IF(A640>0,MIN(W640:X640),""),"") | Z640: =IF(LEN(J640)=2,INT(RIGHT(J640,1)),"") | AA640: =IF(LEN(K640) = 2,INT(RIGHT(K640,1)),"") | AB640: =IF(LEN(N640)=2,INT(RIGHT(N640,1)),"") | AC640: =IF(LEN(P640) = 2,INT(RIGHT(P640,1)),"") | AD640: =IF(LEN(R640)=2,INT(RIGHT(R640,1)),"") | AE640: =IF(LEN(T640)=2,INT(RIGHT(T640,1)),"") | AF640: =IF(A640>0,COUNTIF(Y640:AA640,"<7"),"") | AG640: =IF(A640>0,IF(COUNTIF(AB640:AE640,"<7")>3,3,COUNTIF(AB640:AE640,"<7")),"") | AH640: =IF(A640>0,AF640+AG640,"") | AI640: =IF(A640>0,COUNTIF(Y640:AA640,"<9"),"") | AJ640: =IF(A640>0,IF(COUNTIF(AB640:AE640,"<=8")>3,3,COUNTIF(AB640:AE640,"<=8")),"") | AK640: =IF(A640>0,AI640+AJ640,"") | AL640: =COUNTIF(Y640:AE640,">0")-1 -> -1 | AM640: =IF(AL640>=6,IF(A640>0,IF(AE640<>"",SUM(Y640:AA640) + SUM(AB640:AE640)-MAX(AB640:AE640),SUM(Y640:AA640) + SUM(AB640:AE640)),""),"") | AN640: =COUNTIF(I640:L640,"A1")+COUNTIF(N640,"A1")+COUNTIF(P640,"A1")+COUNTIF(R640,"A1")+COUNTIF(T640,"A1") -> 0
U641: =IF(A641>0,COUNTIF(W641:X641,"<7") + COUNTIF(Z641:AA641,"<7")+COUNTIF(AB641:AE641,"<7"),"") | V641: =IF(A641>0,COUNTIF(W641:X641,"<=8") + COUNTIF(Z641:AA641,"<=8")+COUNTIF(AB641:AE641,"<=8"),"") | W641: =IF(LEN(I641) = 2,INT(RIGHT(I641,1)),"") | X641: =IF(LEN(L641) = 2,INT(RIGHT(L641,1)),"") | Y641: =IF(LEN(I641) = 2,IF(A641>0,MIN(W641:X641),""),"") | Z641: =IF(LEN(J641)=2,INT(RIGHT(J641,1)),"") | AA641: =IF(LEN(K641) = 2,INT(RIGHT(K641,1)),"") | AB641: =IF(LEN(N641)=2,INT(RIGHT(N641,1)),"") | AC641: =IF(LEN(P641) = 2,INT(RIGHT(P641,1)),"") | AD641: =IF(LEN(R641)=2,INT(RIGHT(R641,1)),"") | AE641: =IF(LEN(T641)=2,INT(RIGHT(T641,1)),"") | AF641: =IF(A641>0,COUNTIF(Y641:AA641,"<7"),"") | AG641: =IF(A641>0,IF(COUNTIF(AB641:AE641,"<7")>3,3,COUNTIF(AB641:AE641,"<7")),"") | AH641: =IF(A641>0,AF641+AG641,"") | AI641: =IF(A641>0,COUNTIF(Y641:AA641,"<9"),"") | AJ641: =IF(A641>0,IF(COUNTIF(AB641:AE641,"<=8")>3,3,COUNTIF(AB641:AE641,"<=8")),"") | AK641: =IF(A641>0,AI641+AJ641,"") | AL641: =COUNTIF(Y641:AE641,">0")-1 -> -1 | AM641: =IF(AL641>=6,IF(A641>0,IF(AE641<>"",SUM(Y641:AA641) + SUM(AB641:AE641)-MAX(AB641:AE641),SUM(Y641:AA641) + SUM(AB641:AE641)),""),"") | AN641: =COUNTIF(I641:L641,"A1")+COUNTIF(N641,"A1")+COUNTIF(P641,"A1")+COUNTIF(R641,"A1")+COUNTIF(T641,"A1") -> 0
U642: =IF(A642>0,COUNTIF(W642:X642,"<7") + COUNTIF(Z642:AA642,"<7")+COUNTIF(AB642:AE642,"<7"),"") | V642: =IF(A642>0,COUNTIF(W642:X642,"<=8") + COUNTIF(Z642:AA642,"<=8")+COUNTIF(AB642:AE642,"<=8"),"") | W642: =IF(LEN(I642) = 2,INT(RIGHT(I642,1)),"") | X642: =IF(LEN(L642) = 2,INT(RIGHT(L642,1)),"") | Y642: =IF(LEN(I642) = 2,IF(A642>0,MIN(W642:X642),""),"") | Z642: =IF(LEN(J642)=2,INT(RIGHT(J642,1)),"") | AA642: =IF(LEN(K642) = 2,INT(RIGHT(K642,1)),"") | AB642: =IF(LEN(N642)=2,INT(RIGHT(N642,1)),"") | AC642: =IF(LEN(P642) = 2,INT(RIGHT(P642,1)),"") | AD642: =IF(LEN(R642)=2,INT(RIGHT(R642,1)),"") | AE642: =IF(LEN(T642)=2,INT(RIGHT(T642,1)),"") | AF642: =IF(A642>0,COUNTIF(Y642:AA642,"<7"),"") | AG642: =IF(A642>0,IF(COUNTIF(AB642:AE642,"<7")>3,3,COUNTIF(AB642:AE642,"<7")),"") | AH642: =IF(A642>0,AF642+AG642,"") | AI642: =IF(A642>0,COUNTIF(Y642:AA642,"<9"),"") | AJ642: =IF(A642>0,IF(COUNTIF(AB642:AE642,"<=8")>3,3,COUNTIF(AB642:AE642,"<=8")),"") | AK642: =IF(A642>0,AI642+AJ642,"") | AL642: =COUNTIF(Y642:AE642,">0")-1 -> -1 | AM642: =IF(AL642>=6,IF(A642>0,IF(AE642<>"",SUM(Y642:AA642) + SUM(AB642:AE642)-MAX(AB642:AE642),SUM(Y642:AA642) + SUM(AB642:AE642)),""),"") | AN642: =COUNTIF(I642:L642,"A1")+COUNTIF(N642,"A1")+COUNTIF(P642,"A1")+COUNTIF(R642,"A1")+COUNTIF(T642,"A1") -> 0
U643: =IF(A643>0,COUNTIF(W643:X643,"<7") + COUNTIF(Z643:AA643,"<7")+COUNTIF(AB643:AE643,"<7"),"") | V643: =IF(A643>0,COUNTIF(W643:X643,"<=8") + COUNTIF(Z643:AA643,"<=8")+COUNTIF(AB643:AE643,"<=8"),"") | W643: =IF(LEN(I643) = 2,INT(RIGHT(I643,1)),"") | X643: =IF(LEN(L643) = 2,INT(RIGHT(L643,1)),"") | Y643: =IF(LEN(I643) = 2,IF(A643>0,MIN(W643:X643),""),"") | Z643: =IF(LEN(J643)=2,INT(RIGHT(J643,1)),"") | AA643: =IF(LEN(K643) = 2,INT(RIGHT(K643,1)),"") | AB643: =IF(LEN(N643)=2,INT(RIGHT(N643,1)),"") | AC643: =IF(LEN(P643) = 2,INT(RIGHT(P643,1)),"") | AD643: =IF(LEN(R643)=2,INT(RIGHT(R643,1)),"") | AE643: =IF(LEN(T643)=2,INT(RIGHT(T643,1)),"") | AF643: =IF(A643>0,COUNTIF(Y643:AA643,"<7"),"") | AG643: =IF(A643>0,IF(COUNTIF(AB643:AE643,"<7")>3,3,COUNTIF(AB643:AE643,"<7")),"") | AH643: =IF(A643>0,AF643+AG643,"") | AI643: =IF(A643>0,COUNTIF(Y643:AA643,"<9"),"") | AJ643: =IF(A643>0,IF(COUNTIF(AB643:AE643,"<=8")>3,3,COUNTIF(AB643:AE643,"<=8")),"") | AK643: =IF(A643>0,AI643+AJ643,"") | AL643: =COUNTIF(Y643:AE643,">0")-1 -> -1 | AM643: =IF(AL643>=6,IF(A643>0,IF(AE643<>"",SUM(Y643:AA643) + SUM(AB643:AE643)-MAX(AB643:AE643),SUM(Y643:AA643) + SUM(AB643:AE643)),""),"") | AN643: =COUNTIF(I643:L643,"A1")+COUNTIF(N643,"A1")+COUNTIF(P643,"A1")+COUNTIF(R643,"A1")+COUNTIF(T643,"A1") -> 0
U644: =IF(A644>0,COUNTIF(W644:X644,"<7") + COUNTIF(Z644:AA644,"<7")+COUNTIF(AB644:AE644,"<7"),"") | V644: =IF(A644>0,COUNTIF(W644:X644,"<=8") + COUNTIF(Z644:AA644,"<=8")+COUNTIF(AB644:AE644,"<=8"),"") | W644: =IF(LEN(I644) = 2,INT(RIGHT(I644,1)),"") | X644: =IF(LEN(L644) = 2,INT(RIGHT(L644,1)),"") | Y644: =IF(LEN(I644) = 2,IF(A644>0,MIN(W644:X644),""),"") | Z644: =IF(LEN(J644)=2,INT(RIGHT(J644,1)),"") | AA644: =IF(LEN(K644) = 2,INT(RIGHT(K644,1)),"") | AB644: =IF(LEN(N644)=2,INT(RIGHT(N644,1)),"") | AC644: =IF(LEN(P644) = 2,INT(RIGHT(P644,1)),"") | AD644: =IF(LEN(R644)=2,INT(RIGHT(R644,1)),"") | AE644: =IF(LEN(T644)=2,INT(RIGHT(T644,1)),"") | AF644: =IF(A644>0,COUNTIF(Y644:AA644,"<7"),"") | AG644: =IF(A644>0,IF(COUNTIF(AB644:AE644,"<7")>3,3,COUNTIF(AB644:AE644,"<7")),"") | AH644: =IF(A644>0,AF644+AG644,"") | AI644: =IF(A644>0,COUNTIF(Y644:AA644,"<9"),"") | AJ644: =IF(A644>0,IF(COUNTIF(AB644:AE644,"<=8")>3,3,COUNTIF(AB644:AE644,"<=8")),"") | AK644: =IF(A644>0,AI644+AJ644,"") | AL644: =COUNTIF(Y644:AE644,">0")-1 -> -1 | AM644: =IF(AL644>=6,IF(A644>0,IF(AE644<>"",SUM(Y644:AA644) + SUM(AB644:AE644)-MAX(AB644:AE644),SUM(Y644:AA644) + SUM(AB644:AE644)),""),"") | AN644: =COUNTIF(I644:L644,"A1")+COUNTIF(N644,"A1")+COUNTIF(P644,"A1")+COUNTIF(R644,"A1")+COUNTIF(T644,"A1") -> 0
... U2627: =IF(A2627>0,COUNTIF(W2627:X2627,"<7") + COUNTIF(Z2627:AA2627,"<7")+COUNTIF(AB2627:AE2627,"<7"),"") | V2627: =IF(A2627>0,COUNTIF(W2627:X2627,"<=8") + COUNTIF(Z2627:AA2627,"<=8")+COUNTIF(AB2627:AE2627,"<=8"),"") | W2627: =IF(LEN(I2627) = 2,INT(RIGHT(I2627,1)),"") | X2627: =IF(LEN(L2627) = 2,INT(RIGHT(L2627,1)),"") | Y2627: =IF(LEN(I2627) = 2,IF(A2627>0,MIN(W2627:X2627),""),"") | Z2627: =IF(LEN(J2627)=2,INT(RIGHT(J2627,1)),"") | AA2627: =IF(LEN(K2627) = 2,INT(RIGHT(K2627,1)),"") | AB2627: =IF(LEN(N2627)=2,INT(RIGHT(N2627,1)),"") | AC2627: =IF(LEN(P2627) = 2,INT(RIGHT(P2627,1)),"") | AD2627: =IF(LEN(R2627)=2,INT(RIGHT(R2627,1)),"") | AE2627: =IF(LEN(T2627)=2,INT(RIGHT(T2627,1)),"") | AF2627: =IF(A2627>0,COUNTIF(Y2627:AA2627,"<7"),"") | AG2627: =IF(A2627>0,IF(COUNTIF(AB2627:AE2627,"<7")>3,3,COUNTIF(AB2627:AE2627,"<7")),"") | AH2627: =IF(A2627>0,AF2627+AG2627,"") | AI2627: =IF(A2627>0,COUNTIF(Y2627:AA2627,"<9"),"") | AJ2627: =IF(A2627>0,IF(COUNTIF(AB2627:AE2627,"<=8")>3,3,COUNTIF(AB2627:AE2627,"<=8")),"") | AK2627: =IF(A2627>0,AI2627+AJ2627,"") | AL2627: =COUNTIF(Y2627:AE2627,">0")-1 -> -1 | AM2627: =IF(AL2627>=6,IF(A2627>0,IF(AE2627<>"",SUM(Y2627:AA2627) + SUM(AB2627:AE2627)-MAX(AB2627:AE2627),SUM(Y2627:AA2627) + SUM(AB2627:AE2627)),""),"") | AN2627: =COUNTIF(I2627:L2627,"A1")+COUNTIF(N2627,"A1")+COUNTIF(P2627,"A1")+COUNTIF(R2627,"A1")+COUNTIF(T2627,"A1") -> 0

Sheet SUBJECTS
A1: N/S | B1: THE FIRST 4 SUBJECTS MUST NOT BE TOUCHED | C1: No. PRESENTED | F1: A1 | H1: B2 | J1: B3 | L1: C4 | N1: C5 | P1: C6 | R1: No. PASSED (A1-C6) | U1: A1-C6 % PASSED | V1: D7 | X1: E8 | Z1: F9 | AB1: No. PASSED (A1-E8) | AC1: No. PASSED %(A1-E8)
C2: M | D2: F | E2: ALL | F2: M | G2: F | H2: M | I2: F | J2: M | K2: F | L2: M | M2: F | N2: M | O2: F | P2: M | Q2: F | R2: M | S2: F | T2: ALL | U2: ALL | V2: M | W2: F | X2: M | Y2: F | Z2: M | AA2: F | AB2: TOTAL | AC2: ALL
A3: 1 | B3: SOCIAL STUDIES | C3: =COUNTIF(DATA!$C$3:$C$3092,"M") -> 242 | D3: =COUNTIF(DATA!$C$3:$C$3092,"F") -> 388 | E3: =C3+D3 -> 630 | F3: =COUNTIFS(DATA!$I$3:$I$3499,"A1",DATA!$C$3:$C$3499,"M") -> 12 | G3: =COUNTIFS(DATA!$I$3:$I$2995,"A1",DATA!$C$3:$C$2995,"F") -> 20 | H3: =COUNTIFS(DATA!$I$3:$I$2995,"B2",DATA!$C$3:$C$2995,"M") -> 10 | I3: =COUNTIFS(DATA!$I$3:$I$2995,"B2",DATA!$C$3:$C$2995,"F") -> 23 | J3: =COUNTIFS(DATA!$I$3:$I$2995,"B3",DATA!$C$3:$C$2995,"M") -> 45 | K3: =COUNTIFS(DATA!$I$3:$I$2995,"B3",DATA!$C$3:$C$2995,"F") -> 90 | L3: =COUNTIFS(DATA!$I$3:$I$2995,"C4",DATA!$C$3:$C$2995,"M") -> 15 | M3: =COUNTIFS(DATA!$I$3:$I$2995,"C4",DATA!$C$3:$C$2995,"F") -> 36 | N3: =COUNTIFS(DATA!$I$3:$I$2995,"C5",DATA!$C$3:$C$2995,"M") -> 23 | O3: =COUNTIFS(DATA!$I$3:$I$2995,"C5",DATA!$C$3:$C$2995,"F") -> 40 | P3: =COUNTIFS(DATA!$I$3:$I$2995,"C6",DATA!$C$3:$C$2995,"M") -> 23 | Q3: =COUNTIFS(DATA!$I$3:$I$2995,"C6",DATA!$C$3:$C$2995,"F") -> 58 | R3: =F3+H3+J3+L3+N3+P3 -> 128 | S3: =G3+I3+K3+M3+O3+Q3 -> 267 | T3: =R3+S3 -> 395 | U3: =IF(E3>0,(R3+S3)/E3,"") -> 0.62698413 | V3: =COUNTIFS(DATA!$I$3:$I$2995,"D7",DATA!$C$3:$C$2995,"M") -> 28 | W3: =COUNTIFS(DATA!$I$3:$I$2995,"D7",DATA!$C$3:$C$2995,"F") -> 33 | X3: =COUNTIFS(DATA!$I$3:$I$2995,"E8",DATA!$C$3:$C$2995,"M") -> 32 | Y3: =COUNTIFS(DATA!$I$3:$I$2995,"E8",DATA!$C$3:$C$2995,"F") -> 39 | Z3: =COUNTIFS(DATA!$I$3:$I$2995,"F9",DATA!$C$3:$C$2995,"M") -> 52 | AA3: =COUNTIFS(DATA!$I$3:$I$2995,"F9",DATA!$C$3:$C$2995,"F") -> 49 | AB3: =T3+V3+W3+X3+Y3 -> 527 | AC3: =IF(E3>0,(AB3)/E3,"") -> 0.83650794
A4: 2 | B4: ENGLISH LANG | C4: =COUNTIF(DATA!$C$3:$C$2995,"M") -> 242 | D4: =COUNTIF(DATA!$C$3:$C$2995,"F") -> 388 | E4: =C4+D4 -> 630 | F4: =COUNTIFS(DATA!$J$3:$J$2995,"A1",DATA!$C$3:$C$2995,"M") -> 0 | G4: =COUNTIFS(DATA!$J$3:$J$2995,"A1",DATA!$C$3:$C$2995,"F") -> 1 | H4: =COUNTIFS(DATA!$J$3:$J$2995,"B2",DATA!$C$3:$C$2995,"M") -> 7 | I4: =COUNTIFS(DATA!$J$3:$J$2995,"B2",DATA!$C$3:$C$2995,"F") -> 7 | J4: =COUNTIFS(DATA!$J$3:$J$2995,"B3",DATA!$C$3:$C$2995,"M") -> 25 | K4: =COUNTIFS(DATA!$J$3:$J$2995,"B3",DATA!$C$3:$C$2995,"F") -> 64 | L4: =COUNTIFS(DATA!$J$3:$J$2995,"C4",DATA!$C$3:$C$2995,"M") -> 36 | M4: =COUNTIFS(DATA!$J$3:$J$2995,"C4",DATA!$C$3:$C$2995,"F") -> 59 | N4: =COUNTIFS(DATA!$J$3:$J$2995,"C5",DATA!$C$3:$C$2995,"M") -> 19 | O4: =COUNTIFS(DATA!$J$3:$J$2995,"C5",DATA!$C$3:$C$2995,"F") -> 65 | P4: =COUNTIFS(DATA!$J$3:$J$2995,"C6",DATA!$C$3:$C$2995,"M") -> 56 | Q4: =COUNTIFS(DATA!$J$3:$J$2995,"C6",DATA!$C$3:$C$2995,"F") -> 89 | R4: =F4+H4+J4+L4+N4+P4 -> 143 | S4: =G4+I4+K4+M4+O4+Q4 -> 285 | T4: =R4+S4 -> 428 | U4: =IF(E4>0,(R4+S4)/E4,"") -> 0.67936508 | V4: =COUNTIFS(DATA!$J$3:$J$2995,"D7",DATA!$C$3:$C$2995,"M") -> 31 | W4: =COUNTIFS(DATA!$J$3:$J$2995,"D7",DATA!$C$3:$C$2995,"F") -> 42 | X4: =COUNTIFS(DATA!$J$3:$J$2995,"E8",DATA!$C$3:$C$2995,"M") -> 27 | Y4: =COUNTIFS(DATA!$J$3:$J$2995,"E8",DATA!$C$3:$C$2995,"F") -> 33 | Z4: =COUNTIFS(DATA!$J$3:$J$2995,"F9",DATA!$C$3:$C$2995,"M") -> 41 | AA4: =COUNTIFS(DATA!$J$3:$J$2995,"F9",DATA!$C$3:$C$2995,"F") -> 28 | AB4: =T4+V4+W4+X4+Y4 -> 561 | AC4: =IF(E4>0,(AB4)/E4,"") -> 0.89047619
A5: 3 | B5: MATHEMATICS(CORE) | C5: =COUNTIF(DATA!$C$3:$C$2995,"M") -> 242 | D5: =COUNTIF(DATA!$C$3:$C$2995,"F") -> 388 | E5: =C5+D5 -> 630 | F5: =COUNTIFS(DATA!$K$3:$K$2995,"A1",DATA!$C$3:$C$2995,"M") -> 1 | G5: =COUNTIFS(DATA!$K$3:$K$2995,"A1",DATA!$C$3:$C$2995,"F") -> 0 | H5: =COUNTIFS(DATA!$K$3:$K$2995,"B2",DATA!$C$3:$C$2995,"M") -> 2 | I5: =COUNTIFS(DATA!$K$3:$K$2995,"B2",DATA!$C$3:$C$2995,"F") -> 0 | J5: =COUNTIFS(DATA!$K$3:$K$2995,"B3",DATA!$C$3:$C$2995,"M") -> 2 | K5: =COUNTIFS(DATA!$K$3:$K$2995,"B3",DATA!$C$3:$C$2995,"F") -> 0 | L5: =COUNTIFS(DATA!$K$3:$K$2995,"C4",DATA!$C$3:$C$2995,"M") -> 2 | M5: =COUNTIFS(DATA!$K$3:$K$2995,"C4",DATA!$C$3:$C$2995,"F") -> 0 | N5: =COUNTIFS(DATA!$K$3:$K$2995,"C5",DATA!$C$3:$C$2995,"M") -> 3 | O5: =COUNTIFS(DATA!$K$3:$K$2995,"C5",DATA!$C$3:$C$2995,"F") -> 0 | P5: =COUNTIFS(DATA!$K$3:$K$2995,"C6",DATA!$C$3:$C$2995,"M") -> 6 | Q5: =COUNTIFS(DATA!$K$3:$K$2995,"C6",DATA!$C$3:$C$2995,"F") -> 4 | R5: =F5+H5+J5+L5+N5+P5 -> 16 | S5: =G5+I5+K5+M5+O5+Q5 -> 4 | T5: =R5+S5 -> 20 | U5: =IF(E5>0,(R5+S5)/E5,"") -> 0.031746032 | V5: =COUNTIFS(DATA!$K$3:$K$2995,"D7",DATA!$C$3:$C$2995,"M") -> 4 | W5: =COUNTIFS(DATA!$K$3:$K$2995,"D7",DATA!$C$3:$C$2995,"F") -> 6 | X5: =COUNTIFS(DATA!$K$3:$K$2995,"E8",DATA!$C$3:$C$2995,"M") -> 14 | Y5: =COUNTIFS(DATA!$K$3:$K$2995,"E8",DATA!$C$3:$C$2995,"F") -> 23 | Z5: =COUNTIFS(DATA!$K$3:$K$2995,"F9",DATA!$C$3:$C$2995,"M") -> 205 | AA5: =COUNTIFS(DATA!$K$3:$K$2995,"F9",DATA!$C$3:$C$2995,"F") -> 352 | AB5: =T5+V5+W5+X5+Y5 -> 67 | AC5: =IF(E5>0,(AB5)/E5,"") -> 0.10634921
A6: 4 | B6: INTEGRATED SCIENCE | C6: =COUNTIF(DATA!$C$3:$C$2995,"M") -> 242 | D6: =COUNTIF(DATA!$C$3:$C$2995,"F") -> 388 | E6: =C6+D6 -> 630 | F6: =COUNTIFS(DATA!$L$3:$L$2995,"A1",DATA!$C$3:$C$2995,$F$2) -> 1 | G6: =COUNTIFS(DATA!$L$3:$L$2995,"A1",DATA!$C$3:$C$2995,$G$2) -> 0 | H6: =COUNTIFS(DATA!$L$3:$L$2995,"B2",DATA!$C$3:$C$2995,$F$2) -> 2 | I6: =COUNTIFS(DATA!$L$3:$L$2995,"B2",DATA!$C$3:$C$2995,$G$2) -> 1 | J6: =COUNTIFS(DATA!$L$3:$L$2995,"B3",DATA!$C$3:$C$2995,$F$2) -> 4 | K6: =COUNTIFS(DATA!$L$3:$L$2995,"B3",DATA!$C$3:$C$2995,$G$2) -> 0 | L6: =COUNTIFS(DATA!$L$3:$L$2995,"C4",DATA!$C$3:$C$2995,$F$2) -> 3 | M6: =COUNTIFS(DATA!$L$3:$L$2995,"C4",DATA!$C$3:$C$2995,$G$2) -> 4 | N6: =COUNTIFS(DATA!$L$3:$L$2995,"C5",DATA!$C$3:$C$2995,$F$2) -> 4 | O6: =COUNTIFS(DATA!$L$3:$L$2995,"C5",DATA!$C$3:$C$2995,$G$2) -> 3 | P6: =COUNTIFS(DATA!$L$3:$L$2995,"C6",DATA!$C$3:$C$2995,$F$2) -> 7 | Q6: =COUNTIFS(DATA!$L$3:$L$2995,"C6",DATA!$C$3:$C$2995,$G$2) -> 11 | R6: =F6+H6+J6+L6+N6+P6 -> 21 | S6: =G6+I6+K6+M6+O6+Q6 -> 19 | T6: =R6+S6 -> 40 | U6: =IF(E6>0,(R6+S6)/E6,"") -> 0.063492063 | V6: =COUNTIFS(DATA!$L$3:$L$2995,"D7",DATA!$C$3:$C$2995,$F$2) -> 19 | W6: =COUNTIFS(DATA!$L$3:$L$2995,"D7",DATA!$C$3:$C$2995,$G$2) -> 40 | X6: =COUNTIFS(DATA!$L$3:$L$2995,"E8",DATA!$C$3:$C$2995,$F$2) -> 40 | Y6: =COUNTIFS(DATA!$L$3:$L$2995,"E8",DATA!$C$3:$C$2995,$G$2) -> 87 | Z6: =COUNTIFS(DATA!$L$3:$L$2995,"F9",DATA!$C$3:$C$2995,$F$2) -> 159 | AA6: =COUNTIFS(DATA!$L$3:$L$2995,"F9",DATA!$C$3:$C$2995,$G$2) -> 240 | AB6: =T6+V6+W6+X6+Y6 -> 226 | AC6: =IF(E6>0,(AB6)/E6,"") -> 0.35873016
A7: 5 | B7: BIOLOGY | C7: =COUNTIFS(DATA!$M$3:M$3499,B7,DATA!$C$3:C$3499,"M")+COUNTIFS(DATA!$O$3:O$3499,B7,DATA!$C$3:C$3499,"M")+COUNTIFS(DATA!$Q$3:Q$3499,B7,DATA!$C$3:C$3499,"M")+COUNTIFS(DATA!$S$3:S$3499,B7,DATA!$C$3:C$3499,"M") -> 19 | D7: =COUNTIFS(DATA!$M$3:M$3499,B7,DATA!$C$3:C$3499,"F")+COUNTIFS(DATA!$O$3:O$3499,B7,DATA!$C$3:C$3499,"F")+COUNTIFS(DATA!$Q$3:Q$3499,B7,DATA!$C$3:C$3499,"F")+COUNTIFS(DATA!$S$3:S$3499,B7,DATA!$C$3:C$3499,"F") -> 88 | E7: =C7+D7 -> 107 | F7: =SUMPRODUCT((DATA!$C$3:$C$3499=F$2)*(DATA!$M$3:$S$3499=$B7)*(DATA!$N$3:$T$3499="A1")) -> 0 | G7: =SUMPRODUCT((DATA!$C$3:$C$3499=G$2)*(DATA!$M$3:$S$3499=$B7)*(DATA!$N$3:$T$3499="A1")) -> 0 | H7: =SUMPRODUCT((DATA!$C$3:$C$3499=H$2)*(DATA!$M$3:$S$3499=$B7)*(DATA!$N$3:$T$3499="B2")) -> 1 | I7: =SUMPRODUCT((DATA!$C$3:$C$3499=I$2)*(DATA!$M$3:$S$3499=$B7)*(DATA!$N$3:$T$3499="B2")) -> 0 | J7: =SUMPRODUCT((DATA!$C$3:$C$3499=J$2)*(DATA!$M$3:$S$3499=$B7)*(DATA!$N$3:$T$3499="B3")) -> 2 | K7: =SUMPRODUCT((DATA!$C$3:$C$3499=K$2)*(DATA!$M$3:$S$3499=$B7)*(DATA!$N$3:$T$3499="B3")) -> 1 | L7: =SUMPRODUCT((DATA!$C$3:$C$3499=L$2)*(DATA!$M$3:$S$3499=$B7)*(DATA!$N$3:$T$3499="C4")) -> 2 | M7: =SUMPRODUCT((DATA!$C$3:$C$3499=M$2)*(DATA!$M$3:$S$3499=$B7)*(DATA!$N$3:$T$3499="C4")) -> 1 | N7: =SUMPRODUCT((DATA!$C$3:$C$3499=N$2)*(DATA!$M$3:$S$3499=$B7)*(DATA!$N$3:$T$3499="C5")) -> 0 | O7: =SUMPRODUCT((DATA!$C$3:$C$3499=O$2)*(DATA!$M$3:$S$3499=$B7)*(DATA!$N$3:$T$3499="C5")) -> 1 | P7: =SUMPRODUCT((DATA!$C$3:$C$3499=P$2)*(DATA!$M$3:$S$3499=$B7)*(DATA!$N$3:$T$3499="C6")) -> 2 | Q7: =SUMPRODUCT((DATA!$C$3:$C$3499=Q$2)*(DATA!$M$3:$S$3499=$B7)*(DATA!$N$3:$T$3499="C6")) -> 4 | R7: =F7+H7+J7+L7+N7+P7 -> 7 | S7: =G7+I7+K7+M7+O7+Q7 -> 7 | T7: =R7+S7 -> 14 | U7: =IF(E7>0,(R7+S7)/E7,"") -> 0.13084112 | V7: =SUMPRODUCT((DATA!$C$3:$C$3499=V$2)*(DATA!$M$3:$S$3499=$B7)*(DATA!$N$3:$T$3499="D7")) -> 2 | W7: =SUMPRODUCT((DATA!$C$3:$C$3499=W$2)*(DATA!$M$3:$S$3499=$B7)*(DATA!$N$3:$T$3499="D7")) -> 15 | X7: =SUMPRODUCT((DATA!$C$3:$C$3499=X$2)*(DATA!$M$3:$S$3499=$B7)*(DATA!$N$3:$T$3499="E8")) -> 4 | Y7: =SUMPRODUCT((DATA!$C$3:$C$3499=Y$2)*(DATA!$M$3:$S$3499=$B7)*(DATA!$N$3:$T$3499="E8")) -> 21 | Z7: =SUMPRODUCT((DATA!$C$3:$C$3499=Z$2)*(DATA!$M$3:$S$3499=$B7)*(DATA!$N$3:$T$3499="F9")) -> 6 | AA7: =SUMPRODUCT((DATA!$C$3:$C$3499=AA$2)*(DATA!$M$3:$S$3499=$B7)*(DATA!$N$3:$T$3499="F9")) -> 45 | AB7: =T7+V7+W7+X7+Y7 -> 56 | AC7: =IF(E7>0,(AB7)/E7,"") -> 0.52336449
A8: 6 | B8: BUSINESS MANAGEMENT | C8: =COUNTIFS(DATA!$M$3:M$3499,B8,DATA!$C$3:C$3499,"M")+COUNTIFS(DATA!$O$3:O$3499,B8,DATA!$C$3:C$3499,"M")+COUNTIFS(DATA!$Q$3:Q$3499,B8,DATA!$C$3:C$3499,"M")+COUNTIFS(DATA!$S$3:S$3499,B8,DATA!$C$3:C$3499,"M") -> 45 | D8: =COUNTIFS(DATA!$M$3:M$3499,B8,DATA!$C$3:C$3499,"F")+COUNTIFS(DATA!$O$3:O$3499,B8,DATA!$C$3:C$3499,"F")+COUNTIFS(DATA!$Q$3:Q$3499,B8,DATA!$C$3:C$3499,"F")+COUNTIFS(DATA!$S$3:S$3499,B8,DATA!$C$3:C$3499,"F") -> 48 | E8: =C8+D8 -> 93 | F8: =SUMPRODUCT((DATA!$C$3:$C$3499=F$2)*(DATA!$M$3:$S$3499=$B8)*(DATA!$N$3:$T$3499="A1")) -> 0 | G8: =SUMPRODUCT((DATA!$C$3:$C$3499=G$2)*(DATA!$M$3:$S$3499=$B8)*(DATA!$N$3:$T$3499="A1")) -> 0 | H8: =SUMPRODUCT((DATA!$C$3:$C$3499=H$2)*(DATA!$M$3:$S$3499=$B8)*(DATA!$N$3:$T$3499="B2")) -> 1 | I8: =SUMPRODUCT((DATA!$C$3:$C$3499=I$2)*(DATA!$M$3:$S$3499=$B8)*(DATA!$N$3:$T$3499="B2")) -> 0 | J8: =SUMPRODUCT((DATA!$C$3:$C$3499=J$2)*(DATA!$M$3:$S$3499=$B8)*(DATA!$N$3:$T$3499="B3")) -> 4 | K8: =SUMPRODUCT((DATA!$C$3:$C$3499=K$2)*(DATA!$M$3:$S$3499=$B8)*(DATA!$N$3:$T$3499="B3")) -> 0 | L8: =SUMPRODUCT((DATA!$C$3:$C$3499=L$2)*(DATA!$M$3:$S$3499=$B8)*(DATA!$N$3:$T$3499="C4")) -> 3 | M8: =SUMPRODUCT((DATA!$C$3:$C$3499=M$2)*(DATA!$M$3:$S$3499=$B8)*(DATA!$N$3:$T$3499="C4")) -> 0 | N8: =SUMPRODUCT((DATA!$C$3:$C$3499=N$2)*(DATA!$M$3:$S$3499=$B8)*(DATA!$N$3:$T$3499="C5")) -> 1 | O8: =SUMPRODUCT((DATA!$C$3:$C$3499=O$2)*(DATA!$M$3:$S$3499=$B8)*(DATA!$N$3:$T$3499="C5")) -> 1 | P8: =SUMPRODUCT((DATA!$C$3:$C$3499=P$2)*(DATA!$M$3:$S$3499=$B8)*(DATA!$N$3:$T$3499="C6")) -> 5 | Q8: =SUMPRODUCT((DATA!$C$3:$C$3499=Q$2)*(DATA!$M$3:$S$3499=$B8)*(DATA!$N$3:$T$3499="C6")) -> 3 | R8: =F8+H8+J8+L8+N8+P8 -> 14 | S8: =G8+I8+K8+M8+O8+Q8 -> 4 | T8: =R8+S8 -> 18 | U8: =IF(E8>0,(R8+S8)/E8,"") -> 0.19354839 | V8: =SUMPRODUCT((DATA!$C$3:$C$3499=V$2)*(DATA!$M$3:$S$3499=$B8)*(DATA!$N$3:$T$3499="D7")) -> 2 | W8: =SUMPRODUCT((DATA!$C$3:$C$3499=W$2)*(DATA!$M$3:$S$3499=$B8)*(DATA!$N$3:$T$3499="D7")) -> 3 | X8: =SUMPRODUCT((DATA!$C$3:$C$3499=X$2)*(DATA!$M$3:$S$3499=$B8)*(DATA!$N$3:$T$3499="E8")) -> 3 | Y8: =SUMPRODUCT((DATA!$C$3:$C$3499=Y$2)*(DATA!$M$3:$S$3499=$B8)*(DATA!$N$3:$T$3499="E8")) -> 6 | Z8: =SUMPRODUCT((DATA!$C$3:$C$3499=Z$2)*(DATA!$M$3:$S$3499=$B8)*(DATA!$N$3:$T$3499="F9")) -> 25 | AA8: =SUMPRODUCT((DATA!$C$3:$C$3499=AA$2)*(DATA!$M$3:$S$3499=$B8)*(DATA!$N$3:$T$3499="F9")) -> 35 | AB8: =T8+V8+W8+X8+Y8 -> 32 | AC8: =IF(E8>0,(AB8)/E8,"") -> 0.34408602
A9: 7 | B9: CERAMICS | C9: =COUNTIFS(DATA!$M$3:M$3499,B9,DATA!$C$3:C$3499,"M")+COUNTIFS(DATA!$O$3:O$3499,B9,DATA!$C$3:C$3499,"M")+COUNTIFS(DATA!$Q$3:Q$3499,B9,DATA!$C$3:C$3499,"M")+COUNTIFS(DATA!$S$3:S$3499,B9,DATA!$C$3:C$3499,"M") -> 59 | D9: =COUNTIFS(DATA!$M$3:M$3499,B9,DATA!$C$3:C$3499,"F")+COUNTIFS(DATA!$O$3:O$3499,B9,DATA!$C$3:C$3499,"F")+COUNTIFS(DATA!$Q$3:Q$3499,B9,DATA!$C$3:C$3499,"F")+COUNTIFS(DATA!$S$3:S$3499,B9,DATA!$C$3:C$3499,"F") -> 9 | E9: =C9+D9 -> 68 | F9: =SUMPRODUCT((DATA!$C$3:$C$3499=F$2)*(DATA!$M$3:$S$3499=$B9)*(DATA!$N$3:$T$3499="A1")) -> 0 | G9: =SUMPRODUCT((DATA!$C$3:$C$3499=G$2)*(DATA!$M$3:$S$3499=$B9)*(DATA!$N$3:$T$3499="A1")) -> 0 | H9: =SUMPRODUCT((DATA!$C$3:$C$3499=H$2)*(DATA!$M$3:$S$3499=$B9)*(DATA!$N$3:$T$3499="B2")) -> 3 | I9: =SUMPRODUCT((DATA!$C$3:$C$3499=I$2)*(DATA!$M$3:$S$3499=$B9)*(DATA!$N$3:$T$3499="B2")) -> 0 | J9: =SUMPRODUCT((DATA!$C$3:$C$3499=J$2)*(DATA!$M$3:$S$3499=$B9)*(DATA!$N$3:$T$3499="B3")) -> 15 | K9: =SUMPRODUCT((DATA!$C$3:$C$3499=K$2)*(DATA!$M$3:$S$3499=$B9)*(DATA!$N$3:$T$3499="B3")) -> 4 | L9: =SUMPRODUCT((DATA!$C$3:$C$3499=L$2)*(DATA!$M$3:$S$3499=$B9)*(DATA!$N$3:$T$3499="C4")) -> 1 | M9: =SUMPRODUCT((DATA!$C$3:$C$3499=M$2)*(DATA!$M$3:$S$3499=$B9)*(DATA!$N$3:$T$3499="C4")) -> 0 | N9: =SUMPRODUCT((DATA!$C$3:$C$3499=N$2)*(DATA!$M$3:$S$3499=$B9)*(DATA!$N$3:$T$3499="C5")) -> 3 | O9: =SUMPRODUCT((DATA!$C$3:$C$3499=O$2)*(DATA!$M$3:$S$3499=$B9)*(DATA!$N$3:$T$3499="C5")) -> 0 | P9: =SUMPRODUCT((DATA!$C$3:$C$3499=P$2)*(DATA!$M$3:$S$3499=$B9)*(DATA!$N$3:$T$3499="C6")) -> 9 | Q9: =SUMPRODUCT((DATA!$C$3:$C$3499=Q$2)*(DATA!$M$3:$S$3499=$B9)*(DATA!$N$3:$T$3499="C6")) -> 2 | R9: =F9+H9+J9+L9+N9+P9 -> 31 | S9: =G9+I9+K9+M9+O9+Q9 -> 6 | T9: =R9+S9 -> 37 | U9: =IF(E9>0,(R9+S9)/E9,"") -> 0.54411765 | V9: =SUMPRODUCT((DATA!$C$3:$C$3499=V$2)*(DATA!$M$3:$S$3499=$B9)*(DATA!$N$3:$T$3499="D7")) -> 7 | W9: =SUMPRODUCT((DATA!$C$3:$C$3499=W$2)*(DATA!$M$3:$S$3499=$B9)*(DATA!$N$3:$T$3499="D7")) -> 1 | X9: =SUMPRODUCT((DATA!$C$3:$C$3499=X$2)*(DATA!$M$3:$S$3499=$B9)*(DATA!$N$3:$T$3499="E8")) -> 7 | Y9: =SUMPRODUCT((DATA!$C$3:$C$3499=Y$2)*(DATA!$M$3:$S$3499=$B9)*(DATA!$N$3:$T$3499="E8")) -> 2 | Z9: =SUMPRODUCT((DATA!$C$3:$C$3499=Z$2)*(DATA!$M$3:$S$3499=$B9)*(DATA!$N$3:$T$3499="F9")) -> 14 | AA9: =SUMPRODUCT((DATA!$C$3:$C$3499=AA$2)*(DATA!$M$3:$S$3499=$B9)*(DATA!$N$3:$T$3499="F9")) -> 0 | AB9: =T9+V9+W9+X9+Y9 -> 54 | AC9: =IF(E9>0,(AB9)/E9,"") -> 0.79411765
A10: 8 | B10: CHEMISTRY | C10: =COUNTIFS(DATA!$M$3:M$3499,B10,DATA!$C$3:C$3499,"M")+COUNTIFS(DATA!$O$3:O$3499,B10,DATA!$C$3:C$3499,"M")+COUNTIFS(DATA!$Q$3:Q$3499,B10,DATA!$C$3:C$3499,"M")+COUNTIFS(DATA!$S$3:S$3499,B10,DATA!$C$3:C$3499,"M") -> 17 | D10: =COUNTIFS(DATA!$M$3:M$3499,B10,DATA!$C$3:C$3499,"F")+COUNTIFS(DATA!$O$3:O$3499,B10,DATA!$C$3:C$3499,"F")+COUNTIFS(DATA!$Q$3:Q$3499,B10,DATA!$C$3:C$3499,"F")+COUNTIFS(DATA!$S$3:S$3499,B10,DATA!$C$3:C$3499,"F") -> 75 | E10: =C10+D10 -> 92 | F10: =SUMPRODUCT((DATA!$C$3:$C$3499=F$2)*(DATA!$M$3:$S$3499=$B10)*(DATA!$N$3:$T$3499="A1")) -> 2 | G10: =SUMPRODUCT((DATA!$C$3:$C$3499=G$2)*(DATA!$M$3:$S$3499=$B10)*(DATA!$N$3:$T$3499="A1")) -> 0 | H10: =SUMPRODUCT((DATA!$C$3:$C$3499=H$2)*(DATA!$M$3:$S$3499=$B10)*(DATA!$N$3:$T$3499="B2")) -> 2 | I10: =SUMPRODUCT((DATA!$C$3:$C$3499=I$2)*(DATA!$M$3:$S$3499=$B10)*(DATA!$N$3:$T$3499="B2")) -> 0 | J10: =SUMPRODUCT((DATA!$C$3:$C$3499=J$2)*(DATA!$M$3:$S$3499=$B10)*(DATA!$N$3:$T$3499="B3")) -> 3 | K10: =SUMPRODUCT((DATA!$C$3:$C$3499=K$2)*(DATA!$M$3:$S$3499=$B10)*(DATA!$N$3:$T$3499="B3")) -> 2 | L10: =SUMPRODUCT((DATA!$C$3:$C$3499=L$2)*(DATA!$M$3:$S$3499=$B10)*(DATA!$N$3:$T$3499="C4")) -> 0 | M10: =SUMPRODUCT((DATA!$C$3:$C$3499=M$2)*(DATA!$M$3:$S$3499=$B10)*(DATA!$N$3:$T$3499="C4")) -> 0 | N10: =SUMPRODUCT((DATA!$C$3:$C$3499=N$2)*(DATA!$M$3:$S$3499=$B10)*(DATA!$N$3:$T$3499="C5")) -> 0 | O10: =SUMPRODUCT((DATA!$C$3:$C$3499=O$2)*(DATA!$M$3:$S$3499=$B10)*(DATA!$N$3:$T$3499="C5")) -> 0 | P10: =SUMPRODUCT((DATA!$C$3:$C$3499=P$2)*(DATA!$M$3:$S$3499=$B10)*(DATA!$N$3:$T$3499="C6")) -> 1 | Q10: =SUMPRODUCT((DATA!$C$3:$C$3499=Q$2)*(DATA!$M$3:$S$3499=$B10)*(DATA!$N$3:$T$3499="C6")) -> 3 | R10: =F10+H10+J10+L10+N10+P10 -> 8 | S10: =G10+I10+K10+M10+O10+Q10 -> 5 | T10: =R10+S10 -> 13 | U10: =IF(E10>0,(R10+S10)/E10,"") -> 0.14130435 | V10: =SUMPRODUCT((DATA!$C$3:$C$3499=V$2)*(DATA!$M$3:$S$3499=$B10)*(DATA!$N$3:$T$3499="D7")) -> 4 | W10: =SUMPRODUCT((DATA!$C$3:$C$3499=W$2)*(DATA!$M$3:$S$3499=$B10)*(DATA!$N$3:$T$3499="D7")) -> 4 | X10: =SUMPRODUCT((DATA!$C$3:$C$3499=X$2)*(DATA!$M$3:$S$3499=$B10)*(DATA!$N$3:$T$3499="E8")) -> 4 | Y10: =SUMPRODUCT((DATA!$C$3:$C$3499=Y$2)*(DATA!$M$3:$S$3499=$B10)*(DATA!$N$3:$T$3499="E8")) -> 7 | Z10: =SUMPRODUCT((DATA!$C$3:$C$3499=Z$2)*(DATA!$M$3:$S$3499=$B10)*(DATA!$N$3:$T$3499="F9")) -> 1 | AA10: =SUMPRODUCT((DATA!$C$3:$C$3499=AA$2)*(DATA!$M$3:$S$3499=$B10)*(DATA!$N$3:$T$3499="F9")) -> 56 | AB10: =T10+V10+W10+X10+Y10 -> 32 | AC10: =IF(E10>0,(AB10)/E10,"") -> 0.34782609
A11: 9 | B11: CHRISTIAN REL STUD | C11: =COUNTIFS(DATA!$M$3:M$3499,B11,DATA!$C$3:C$3499,"M")+COUNTIFS(DATA!$O$3:O$3499,B11,DATA!$C$3:C$3499,"M")+COUNTIFS(DATA!$Q$3:Q$3499,B11,DATA!$C$3:C$3499,"M")+COUNTIFS(DATA!$S$3:S$3499,B11,DATA!$C$3:C$3499,"M") -> 50 | D11: =COUNTIFS(DATA!$M$3:M$3499,B11,DATA!$C$3:C$3499,"F")+COUNTIFS(DATA!$O$3:O$3499,B11,DATA!$C$3:C$3499,"F")+COUNTIFS(DATA!$Q$3:Q$3499,B11,DATA!$C$3:C$3499,"F")+COUNTIFS(DATA!$S$3:S$3499,B11,DATA!$C$3:C$3499,"F") -> 105 | E11: =C11+D11 -> 155 | F11: =SUMPRODUCT((DATA!$C$3:$C$3499=F$2)*(DATA!$M$3:$S$3499=$B11)*(DATA!$N$3:$T$3499="A1")) -> 0 | G11: =SUMPRODUCT((DATA!$C$3:$C$3499=G$2)*(DATA!$M$3:$S$3499=$B11)*(DATA!$N$3:$T$3499="A1")) -> 0 | H11: =SUMPRODUCT((DATA!$C$3:$C$3499=H$2)*(DATA!$M$3:$S$3499=$B11)*(DATA!$N$3:$T$3499="B2")) -> 0 | I11: =SUMPRODUCT((DATA!$C$3:$C$3499=I$2)*(DATA!$M$3:$S$3499=$B11)*(DATA!$N$3:$T$3499="B2")) -> 0 | J11: =SUMPRODUCT((DATA!$C$3:$C$3499=J$2)*(DATA!$M$3:$S$3499=$B11)*(DATA!$N$3:$T$3499="B3")) -> 1 | K11: =SUMPRODUCT((DATA!$C$3:$C$3499=K$2)*(DATA!$M$3:$S$3499=$B11)*(DATA!$N$3:$T$3499="B3")) -> 3 | L11: =SUMPRODUCT((DATA!$C$3:$C$3499=L$2)*(DATA!$M$3:$S$3499=$B11)*(DATA!$N$3:$T$3499="C4")) -> 1 | M11: =SUMPRODUCT((DATA!$C$3:$C$3499=M$2)*(DATA!$M$3:$S$3499=$B11)*(DATA!$N$3:$T$3499="C4")) -> 5 | N11: =SUMPRODUCT((DATA!$C$3:$C$3499=N$2)*(DATA!$M$3:$S$3499=$B11)*(DATA!$N$3:$T$3499="C5")) -> 0 | O11: =SUMPRODUCT((DATA!$C$3:$C$3499=O$2)*(DATA!$M$3:$S$3499=$B11)*(DATA!$N$3:$T$3499="C5")) -> 7 | P11: =SUMPRODUCT((DATA!$C$3:$C$3499=P$2)*(DATA!$M$3:$S$3499=$B11)*(DATA!$N$3:$T$3499="C6")) -> 3 | Q11: =SUMPRODUCT((DATA!$C$3:$C$3499=Q$2)*(DATA!$M$3:$S$3499=$B11)*(DATA!$N$3:$T$3499="C6")) -> 13 | R11: =F11+H11+J11+L11+N11+P11 -> 5 | S11: =G11+I11+K11+M11+O11+Q11 -> 28 | T11: =R11+S11 -> 33 | U11: =IF(E11>0,(R11+S11)/E11,"") -> 0.21290323 | V11: =SUMPRODUCT((DATA!$C$3:$C$3499=V$2)*(DATA!$M$3:$S$3499=$B11)*(DATA!$N$3:$T$3499="D7")) -> 1 | W11: =SUMPRODUCT((DATA!$C$3:$C$3499=W$2)*(DATA!$M$3:$S$3499=$B11)*(DATA!$N$3:$T$3499="D7")) -> 8 | X11: =SUMPRODUCT((DATA!$C$3:$C$3499=X$2)*(DATA!$M$3:$S$3499=$B11)*(DATA!$N$3:$T$3499="E8")) -> 2 | Y11: =SUMPRODUCT((DATA!$C$3:$C$3499=Y$2)*(DATA!$M$3:$S$3499=$B11)*(DATA!$N$3:$T$3499="E8")) -> 11 | Z11: =SUMPRODUCT((DATA!$C$3:$C$3499=Z$2)*(DATA!$M$3:$S$3499=$B11)*(DATA!$N$3:$T$3499="F9")) -> 42 | AA11: =SUMPRODUCT((DATA!$C$3:$C$3499=AA$2)*(DATA!$M$3:$S$3499=$B11)*(DATA!$N$3:$T$3499="F9")) -> 57 | AB11: =T11+V11+W11+X11+Y11 -> 55 | AC11: =IF(E11>0,(AB11)/E11,"") -> 0.35483871
A12: 10 | B12: CLERICAL OFF DUTIES | C12: =COUNTIFS(DATA!$M$3:M$3499,B12,DATA!$C$3:C$3499,"M")+COUNTIFS(DATA!$O$3:O$3499,B12,DATA!$C$3:C$3499,"M")+COUNTIFS(DATA!$Q$3:Q$3499,B12,DATA!$C$3:C$3499,"M")+COUNTIFS(DATA!$S$3:S$3499,B12,DATA!$C$3:C$3499,"M") -> 5 | D12: =COUNTIFS(DATA!$M$3:M$3499,B12,DATA!$C$3:C$3499,"F")+COUNTIFS(DATA!$O$3:O$3499,B12,DATA!$C$3:C$3499,"F")+COUNTIFS(DATA!$Q$3:Q$3499,B12,DATA!$C$3:C$3499,"F")+COUNTIFS(DATA!$S$3:S$3499,B12,DATA!$C$3:C$3499,"F") -> 17 | E12: =C12+D12 -> 22 | F12: =SUMPRODUCT((DATA!$C$3:$C$3499=F$2)*(DATA!$M$3:$S$3499=$B12)*(DATA!$N$3:$T$3499="A1")) -> 1 | G12: =SUMPRODUCT((DATA!$C$3:$C$3499=G$2)*(DATA!$M$3:$S$3499=$B12)*(DATA!$N$3:$T$3499="A1")) -> 0 | H12: =SUMPRODUCT((DATA!$C$3:$C$3499=H$2)*(DATA!$M$3:$S$3499=$B12)*(DATA!$N$3:$T$3499="B2")) -> 0 | I12: =SUMPRODUCT((DATA!$C$3:$C$3499=I$2)*(DATA!$M$3:$S$3499=$B12)*(DATA!$N$3:$T$3499="B2")) -> 0 | J12: =SUMPRODUCT((DATA!$C$3:$C$3499=J$2)*(DATA!$M$3:$S$3499=$B12)*(DATA!$N$3:$T$3499="B3")) -> 1 | K12: =SUMPRODUCT((DATA!$C$3:$C$3499=K$2)*(DATA!$M$3:$S$3499=$B12)*(DATA!$N$3:$T$3499="B3")) -> 6 | L12: =SUMPRODUCT((DATA!$C$3:$C$3499=L$2)*(DATA!$M$3:$S$3499=$B12)*(DATA!$N$3:$T$3499="C4")) -> 0 | M12: =SUMPRODUCT((DATA!$C$3:$C$3499=M$2)*(DATA!$M$3:$S$3499=$B12)*(DATA!$N$3:$T$3499="C4")) -> 2 | N12: =SUMPRODUCT((DATA!$C$3:$C$3499=N$2)*(DATA!$M$3:$S$3499=$B12)*(DATA!$N$3:$T$3499="C5")) -> 1 | O12: =SUMPRODUCT((DATA!$C$3:$C$3499=O$2)*(DATA!$M$3:$S$3499=$B12)*(DATA!$N$3:$T$3499="C5")) -> 1 | P12: =SUMPRODUCT((DATA!$C$3:$C$3499=P$2)*(DATA!$M$3:$S$3499=$B12)*(DATA!$N$3:$T$3499="C6")) -> 1 | Q12: =SUMPRODUCT((DATA!$C$3:$C$3499=Q$2)*(DATA!$M$3:$S$3499=$B12)*(DATA!$N$3:$T$3499="C6")) -> 2 | R12: =F12+H12+J12+L12+N12+P12 -> 4 | S12: =G12+I12+K12+M12+O12+Q12 -> 11 | T12: =R12+S12 -> 15 | U12: =IF(E12>0,(R12+S12)/E12,"") -> 0.68181818 | V12: =SUMPRODUCT((DATA!$C$3:$C$3499=V$2)*(DATA!$M$3:$S$3499=$B12)*(DATA!$N$3:$T$3499="D7")) -> 0 | W12: =SUMPRODUCT((DATA!$C$3:$C$3499=W$2)*(DATA!$M$3:$S$3499=$B12)*(DATA!$N$3:$T$3499="D7")) -> 0 | X12: =SUMPRODUCT((DATA!$C$3:$C$3499=X$2)*(DATA!$M$3:$S$3499=$B12)*(DATA!$N$3:$T$3499="E8")) -> 1 | Y12: =SUMPRODUCT((DATA!$C$3:$C$3499=Y$2)*(DATA!$M$3:$S$3499=$B12)*(DATA!$N$3:$T$3499="E8")) -> 2 | Z12: =SUMPRODUCT((DATA!$C$3:$C$3499=Z$2)*(DATA!$M$3:$S$3499=$B12)*(DATA!$N$3:$T$3499="F9")) -> 0 | AA12: =SUMPRODUCT((DATA!$C$3:$C$3499=AA$2)*(DATA!$M$3:$S$3499=$B12)*(DATA!$N$3:$T$3499="F9")) -> 3 | AB12: =T12+V12+W12+X12+Y12 -> 18 | AC12: =IF(E12>0,(AB12)/E12,"") -> 0.81818182
A13: 11 | B13: CLOTHING & TEXTILES | C13: =COUNTIFS(DATA!$M$3:M$3499,B13,DATA!$C$3:C$3499,"M")+COUNTIFS(DATA!$O$3:O$3499,B13,DATA!$C$3:C$3499,"M")+COUNTIFS(DATA!$Q$3:Q$3499,B13,DATA!$C$3:C$3499,"M")+COUNTIFS(DATA!$S$3:S$3499,B13,DATA!$C$3:C$3499,"M") -> 0 | D13: =COUNTIFS(DATA!$M$3:M$3499,B13,DATA!$C$3:C$3499,"F")+COUNTIFS(DATA!$O$3:O$3499,B13,DATA!$C$3:C$3499,"F")+COUNTIFS(DATA!$Q$3:Q$3499,B13,DATA!$C$3:C$3499,"F")+COUNTIFS(DATA!$S$3:S$3499,B13,DATA!$C$3:C$3499,"F") -> 63 | E13: =C13+D13 -> 63 | F13: =SUMPRODUCT((DATA!$C$3:$C$3499=F$2)*(DATA!$M$3:$S$3499=$B13)*(DATA!$N$3:$T$3499="A1")) -> 0 | G13: =SUMPRODUCT((DATA!$C$3:$C$3499=G$2)*(DATA!$M$3:$S$3499=$B13)*(DATA!$N$3:$T$3499="A1")) -> 0 | H13: =SUMPRODUCT((DATA!$C$3:$C$3499=H$2)*(DATA!$M$3:$S$3499=$B13)*(DATA!$N$3:$T$3499="B2")) -> 0 | I13: =SUMPRODUCT((DATA!$C$3:$C$3499=I$2)*(DATA!$M$3:$S$3499=$B13)*(DATA!$N$3:$T$3499="B2")) -> 0 | J13: =SUMPRODUCT((DATA!$C$3:$C$3499=J$2)*(DATA!$M$3:$S$3499=$B13)*(DATA!$N$3:$T$3499="B3")) -> 0 | K13: =SUMPRODUCT((DATA!$C$3:$C$3499=K$2)*(DATA!$M$3:$S$3499=$B13)*(DATA!$N$3:$T$3499="B3")) -> 0 | L13: =SUMPRODUCT((DATA!$C$3:$C$3499=L$2)*(DATA!$M$3:$S$3499=$B13)*(DATA!$N$3:$T$3499="C4")) -> 0 | M13: =SUMPRODUCT((DATA!$C$3:$C$3499=M$2)*(DATA!$M$3:$S$3499=$B13)*(DATA!$N$3:$T$3499="C4")) -> 1 | N13: =SUMPRODUCT((DATA!$C$3:$C$3499=N$2)*(DATA!$M$3:$S$3499=$B13)*(DATA!$N$3:$T$3499="C5")) -> 0 | O13: =SUMPRODUCT((DATA!$C$3:$C$3499=O$2)*(DATA!$M$3:$S$3499=$B13)*(DATA!$N$3:$T$3499="C5")) -> 5 | P13: =SUMPRODUCT((DATA!$C$3:$C$3499=P$2)*(DATA!$M$3:$S$3499=$B13)*(DATA!$N$3:$T$3499="C6")) -> 0 | Q13: =SUMPRODUCT((DATA!$C$3:$C$3499=Q$2)*(DATA!$M$3:$S$3499=$B13)*(DATA!$N$3:$T$3499="C6")) -> 16 | R13: =F13+H13+J13+L13+N13+P13 -> 0 | S13: =G13+I13+K13+M13+O13+Q13 -> 22 | T13: =R13+S13 -> 22 | U13: =IF(E13>0,(R13+S13)/E13,"") -> 0.34920635 | V13: =SUMPRODUCT((DATA!$C$3:$C$3499=V$2)*(DATA!$M$3:$S$3499=$B13)*(DATA!$N$3:$T$3499="D7")) -> 0 | W13: =SUMPRODUCT((DATA!$C$3:$C$3499=W$2)*(DATA!$M$3:$S$3499=$B13)*(DATA!$N$3:$T$3499="D7")) -> 9 | X13: =SUMPRODUCT((DATA!$C$3:$C$3499=X$2)*(DATA!$M$3:$S$3499=$B13)*(DATA!$N$3:$T$3499="E8")) -> 0 | Y13: =SUMPRODUCT((DATA!$C$3:$C$3499=Y$2)*(DATA!$M$3:$S$3499=$B13)*(DATA!$N$3:$T$3499="E8")) -> 5 | Z13: =SUMPRODUCT((DATA!$C$3:$C$3499=Z$2)*(DATA!$M$3:$S$3499=$B13)*(DATA!$N$3:$T$3499="F9")) -> 0 | AA13: =SUMPRODUCT((DATA!$C$3:$C$3499=AA$2)*(DATA!$M$3:$S$3499=$B13)*(DATA!$N$3:$T$3499="F9")) -> 27 | AB13: =T13+V13+W13+X13+Y13 -> 36 | AC13: =IF(E13>0,(AB13)/E13,"") -> 0.57142857
A14: 12 | B14: ECONOMICS | C14: =COUNTIFS(DATA!$M$3:M$3499,B14,DATA!$C$3:C$3499,"M")+COUNTIFS(DATA!$O$3:O$3499,B14,DATA!$C$3:C$3499,"M")+COUNTIFS(DATA!$Q$3:Q$3499,B14,DATA!$C$3:C$3499,"M")+COUNTIFS(DATA!$S$3:S$3499,B14,DATA!$C$3:C$3499,"M") -> 104 | D14: =COUNTIFS(DATA!$M$3:M$3499,B14,DATA!$C$3:C$3499,"F")+COUNTIFS(DATA!$O$3:O$3499,B14,DATA!$C$3:C$3499,"F")+COUNTIFS(DATA!$Q$3:Q$3499,B14,DATA!$C$3:C$3499,"F")+COUNTIFS(DATA!$S$3:S$3499,B14,DATA!$C$3:C$3499,"F") -> 173 | E14: =C14+D14 -> 277 | F14: =SUMPRODUCT((DATA!$C$3:$C$3499=F$2)*(DATA!$M$3:$S$3499=$B14)*(DATA!$N$3:$T$3499="A1")) -> 0 | G14: =SUMPRODUCT((DATA!$C$3:$C$3499=G$2)*(DATA!$M$3:$S$3499=$B14)*(DATA!$N$3:$T$3499="A1")) -> 0 | H14: =SUMPRODUCT((DATA!$C$3:$C$3499=H$2)*(DATA!$M$3:$S$3499=$B14)*(DATA!$N$3:$T$3499="B2")) -> 1 | I14: =SUMPRODUCT((DATA!$C$3:$C$3499=I$2)*(DATA!$M$3:$S$3499=$B14)*(DATA!$N$3:$T$3499="B2")) -> 0 | J14: =SUMPRODUCT((DATA!$C$3:$C$3499=J$2)*(DATA!$M$3:$S$3499=$B14)*(DATA!$N$3:$T$3499="B3")) -> 3 | K14: =SUMPRODUCT((DATA!$C$3:$C$3499=K$2)*(DATA!$M$3:$S$3499=$B14)*(DATA!$N$3:$T$3499="B3")) -> 0 | L14: =SUMPRODUCT((DATA!$C$3:$C$3499=L$2)*(DATA!$M$3:$S$3499=$B14)*(DATA!$N$3:$T$3499="C4")) -> 0 | M14: =SUMPRODUCT((DATA!$C$3:$C$3499=M$2)*(DATA!$M$3:$S$3499=$B14)*(DATA!$N$3:$T$3499="C4")) -> 1 | N14: =SUMPRODUCT((DATA!$C$3:$C$3499=N$2)*(DATA!$M$3:$S$3499=$B14)*(DATA!$N$3:$T$3499="C5")) -> 4 | O14: =SUMPRODUCT((DATA!$C$3:$C$3499=O$2)*(DATA!$M$3:$S$3499=$B14)*(DATA!$N$3:$T$3499="C5")) -> 0 | P14: =SUMPRODUCT((DATA!$C$3:$C$3499=P$2)*(DATA!$M$3:$S$3499=$B14)*(DATA!$N$3:$T$3499="C6")) -> 12 | Q14: =SUMPRODUCT((DATA!$C$3:$C$3499=Q$2)*(DATA!$M$3:$S$3499=$B14)*(DATA!$N$3:$T$3499="C6")) -> 15 | R14: =F14+H14+J14+L14+N14+P14 -> 20 | S14: =G14+I14+K14+M14+O14+Q14 -> 16 | T14: =R14+S14 -> 36 | U14: =IF(E14>0,(R14+S14)/E14,"") -> 0.1299639 | V14: =SUMPRODUCT((DATA!$C$3:$C$3499=V$2)*(DATA!$M$3:$S$3499=$B14)*(DATA!$N$3:$T$3499="D7")) -> 6 | W14: =SUMPRODUCT((DATA!$C$3:$C$3499=W$2)*(DATA!$M$3:$S$3499=$B14)*(DATA!$N$3:$T$3499="D7")) -> 7 | X14: =SUMPRODUCT((DATA!$C$3:$C$3499=X$2)*(DATA!$M$3:$S$3499=$B14)*(DATA!$N$3:$T$3499="E8")) -> 15 | Y14: =SUMPRODUCT((DATA!$C$3:$C$3499=Y$2)*(DATA!$M$3:$S$3499=$B14)*(DATA!$N$3:$T$3499="E8")) -> 17 | Z14: =SUMPRODUCT((DATA!$C$3:$C$3499=Z$2)*(DATA!$M$3:$S$3499=$B14)*(DATA!$N$3:$T$3499="F9")) -> 58 | AA14: =SUMPRODUCT((DATA!$C$3:$C$3499=AA$2)*(DATA!$M$3:$S$3499=$B14)*(DATA!$N$3:$T$3499="F9")) -> 132 | AB14: =T14+V14+W14+X14+Y14 -> 81 | AC14: =IF(E14>0,(AB14)/E14,"") -> 0.29241877
A15: 13 | B15: FINANCIAL ACCOUNTING | C15: =COUNTIFS(DATA!$M$3:M$3499,B15,DATA!$C$3:C$3499,"M")+COUNTIFS(DATA!$O$3:O$3499,B15,DATA!$C$3:C$3499,"M")+COUNTIFS(DATA!$Q$3:Q$3499,B15,DATA!$C$3:C$3499,"M")+COUNTIFS(DATA!$S$3:S$3499,B15,DATA!$C$3:C$3499,"M") -> 40 | D15: =COUNTIFS(DATA!$M$3:M$3499,B15,DATA!$C$3:C$3499,"F")+COUNTIFS(DATA!$O$3:O$3499,B15,DATA!$C$3:C$3499,"F")+COUNTIFS(DATA!$Q$3:Q$3499,B15,DATA!$C$3:C$3499,"F")+COUNTIFS(DATA!$S$3:S$3499,B15,DATA!$C$3:C$3499,"F") -> 31 | E15: =C15+D15 -> 71 | F15: =SUMPRODUCT((DATA!$C$3:$C$3499=F$2)*(DATA!$M$3:$S$3499=$B15)*(DATA!$N$3:$T$3499="A1")) -> 0 | G15: =SUMPRODUCT((DATA!$C$3:$C$3499=G$2)*(DATA!$M$3:$S$3499=$B15)*(DATA!$N$3:$T$3499="A1")) -> 0 | H15: =SUMPRODUCT((DATA!$C$3:$C$3499=H$2)*(DATA!$M$3:$S$3499=$B15)*(DATA!$N$3:$T$3499="B2")) -> 0 | I15: =SUMPRODUCT((DATA!$C$3:$C$3499=I$2)*(DATA!$M$3:$S$3499=$B15)*(DATA!$N$3:$T$3499="B2")) -> 0 | J15: =SUMPRODUCT((DATA!$C$3:$C$3499=J$2)*(DATA!$M$3:$S$3499=$B15)*(DATA!$N$3:$T$3499="B3")) -> 2 | K15: =SUMPRODUCT((DATA!$C$3:$C$3499=K$2)*(DATA!$M$3:$S$3499=$B15)*(DATA!$N$3:$T$3499="B3")) -> 0 | L15: =SUMPRODUCT((DATA!$C$3:$C$3499=L$2)*(DATA!$M$3:$S$3499=$B15)*(DATA!$N$3:$T$3499="C4")) -> 0 | M15: =SUMPRODUCT((DATA!$C$3:$C$3499=M$2)*(DATA!$M$3:$S$3499=$B15)*(DATA!$N$3:$T$3499="C4")) -> 0 | N15: =SUMPRODUCT((DATA!$C$3:$C$3499=N$2)*(DATA!$M$3:$S$3499=$B15)*(DATA!$N$3:$T$3499="C5")) -> 1 | O15: =SUMPRODUCT((DATA!$C$3:$C$3499=O$2)*(DATA!$M$3:$S$3499=$B15)*(DATA!$N$3:$T$3499="C5")) -> 1 | P15: =SUMPRODUCT((DATA!$C$3:$C$3499=P$2)*(DATA!$M$3:$S$3499=$B15)*(DATA!$N$3:$T$3499="C6")) -> 4 | Q15: =SUMPRODUCT((DATA!$C$3:$C$3499=Q$2)*(DATA!$M$3:$S$3499=$B15)*(DATA!$N$3:$T$3499="C6")) -> 2 | R15: =F15+H15+J15+L15+N15+P15 -> 7 | S15: =G15+I15+K15+M15+O15+Q15 -> 3 | T15: =R15+S15 -> 10 | U15: =IF(E15>0,(R15+S15)/E15,"") -> 0.14084507 | V15: =SUMPRODUCT((DATA!$C$3:$C$3499=V$2)*(DATA!$M$3:$S$3499=$B15)*(DATA!$N$3:$T$3499="D7")) -> 4 | W15: =SUMPRODUCT((DATA!$C$3:$C$3499=W$2)*(DATA!$M$3:$S$3499=$B15)*(DATA!$N$3:$T$3499="D7")) -> 0 | X15: =SUMPRODUCT((DATA!$C$3:$C$3499=X$2)*(DATA!$M$3:$S$3499=$B15)*(DATA!$N$3:$T$3499="E8")) -> 6 | Y15: =SUMPRODUCT((DATA!$C$3:$C$3499=Y$2)*(DATA!$M$3:$S$3499=$B15)*(DATA!$N$3:$T$3499="E8")) -> 1 | Z15: =SUMPRODUCT((DATA!$C$3:$C$3499=Z$2)*(DATA!$M$3:$S$3499=$B15)*(DATA!$N$3:$T$3499="F9")) -> 23 | AA15: =SUMPRODUCT((DATA!$C$3:$C$3499=AA$2)*(DATA!$M$3:$S$3499=$B15)*(DATA!$N$3:$T$3499="F9")) -> 27 | AB15: =T15+V15+W15+X15+Y15 -> 21 | AC15: =IF(E15>0,(AB15)/E15,"") -> 0.29577465
A16: 14 | B16: FOODS & NUTRITION | C16: =COUNTIFS(DATA!$M$3:M$3499,B16,DATA!$C$3:C$3499,"M")+COUNTIFS(DATA!$O$3:O$3499,B16,DATA!$C$3:C$3499,"M")+COUNTIFS(DATA!$Q$3:Q$3499,B16,DATA!$C$3:C$3499,"M")+COUNTIFS(DATA!$S$3:S$3499,B16,DATA!$C$3:C$3499,"M") -> 2 | D16: =COUNTIFS(DATA!$M$3:M$3499,B16,DATA!$C$3:C$3499,"F")+COUNTIFS(DATA!$O$3:O$3499,B16,DATA!$C$3:C$3499,"F")+COUNTIFS(DATA!$Q$3:Q$3499,B16,DATA!$C$3:C$3499,"F")+COUNTIFS(DATA!$S$3:S$3499,B16,DATA!$C$3:C$3499,"F") -> 76 | E16: =C16+D16 -> 78 | F16: =SUMPRODUCT((DATA!$C$3:$C$3499=F$2)*(DATA!$M$3:$S$3499=$B16)*(DATA!$N$3:$T$3499="A1")) -> 0 | G16: =SUMPRODUCT((DATA!$C$3:$C$3499=G$2)*(DATA!$M$3:$S$3499=$B16)*(DATA!$N$3:$T$3499="A1")) -> 2 | H16: =SUMPRODUCT((DATA!$C$3:$C$3499=H$2)*(DATA!$M$3:$S$3499=$B16)*(DATA!$N$3:$T$3499="B2")) -> 0 | I16: =SUMPRODUCT((DATA!$C$3:$C$3499=I$2)*(DATA!$M$3:$S$3499=$B16)*(DATA!$N$3:$T$3499="B2")) -> 15 | J16: =SUMPRODUCT((DATA!$C$3:$C$3499=J$2)*(DATA!$M$3:$S$3499=$B16)*(DATA!$N$3:$T$3499="B3")) -> 1 | K16: =SUMPRODUCT((DATA!$C$3:$C$3499=K$2)*(DATA!$M$3:$S$3499=$B16)*(DATA!$N$3:$T$3499="B3")) -> 35 | L16: =SUMPRODUCT((DATA!$C$3:$C$3499=L$2)*(DATA!$M$3:$S$3499=$B16)*(DATA!$N$3:$T$3499="C4")) -> 0 | M16: =SUMPRODUCT((DATA!$C$3:$C$3499=M$2)*(DATA!$M$3:$S$3499=$B16)*(DATA!$N$3:$T$3499="C4")) -> 6 | N16: =SUMPRODUCT((DATA!$C$3:$C$3499=N$2)*(DATA!$M$3:$S$3499=$B16)*(DATA!$N$3:$T$3499="C5")) -> 1 | O16: =SUMPRODUCT((DATA!$C$3:$C$3499=O$2)*(DATA!$M$3:$S$3499=$B16)*(DATA!$N$3:$T$3499="C5")) -> 8 | P16: =SUMPRODUCT((DATA!$C$3:$C$3499=P$2)*(DATA!$M$3:$S$3499=$B16)*(DATA!$N$3:$T$3499="C6")) -> 0 | Q16: =SUMPRODUCT((DATA!$C$3:$C$3499=Q$2)*(DATA!$M$3:$S$3499=$B16)*(DATA!$N$3:$T$3499="C6")) -> 8 | R16: =F16+H16+J16+L16+N16+P16 -> 2 | S16: =G16+I16+K16+M16+O16+Q16 -> 74 | T16: =R16+S16 -> 76 | U16: =IF(E16>0,(R16+S16)/E16,"") -> 0.97435897 | V16: =SUMPRODUCT((DATA!$C$3:$C$3499=V$2)*(DATA!$M$3:$S$3499=$B16)*(DATA!$N$3:$T$3499="D7")) -> 0 | W16: =SUMPRODUCT((DATA!$C$3:$C$3499=W$2)*(DATA!$M$3:$S$3499=$B16)*(DATA!$N$3:$T$3499="D7")) -> 1 | X16: =SUMPRODUCT((DATA!$C$3:$C$3499=X$2)*(DATA!$M$3:$S$3499=$B16)*(DATA!$N$3:$T$3499="E8")) -> 0 | Y16: =SUMPRODUCT((DATA!$C$3:$C$3499=Y$2)*(DATA!$M$3:$S$3499=$B16)*(DATA!$N$3:$T$3499="E8")) -> 0 | Z16: =SUMPRODUCT((DATA!$C$3:$C$3499=Z$2)*(DATA!$M$3:$S$3499=$B16)*(DATA!$N$3:$T$3499="F9")) -> 0 | AA16: =SUMPRODUCT((DATA!$C$3:$C$3499=AA$2)*(DATA!$M$3:$S$3499=$B16)*(DATA!$N$3:$T$3499="F9")) -> 1 | AB16: =T16+V16+W16+X16+Y16 -> 77 | AC16: =IF(E16>0,(AB16)/E16,"") -> 0.98717949
A17: 15 | B17: FRENCH | C17: =COUNTIFS(DATA!$M$3:M$3499,B17,DATA!$C$3:C$3499,"M")+COUNTIFS(DATA!$O$3:O$3499,B17,DATA!$C$3:C$3499,"M")+COUNTIFS(DATA!$Q$3:Q$3499,B17,DATA!$C$3:C$3499,"M")+COUNTIFS(DATA!$S$3:S$3499,B17,DATA!$C$3:C$3499,"M") -> 24 | D17: =COUNTIFS(DATA!$M$3:M$3499,B17,DATA!$C$3:C$3499,"F")+COUNTIFS(DATA!$O$3:O$3499,B17,DATA!$C$3:C$3499,"F")+COUNTIFS(DATA!$Q$3:Q$3499,B17,DATA!$C$3:C$3499,"F")+COUNTIFS(DATA!$S$3:S$3499,B17,DATA!$C$3:C$3499,"F") -> 65 | E17: =C17+D17 -> 89 | F17: =SUMPRODUCT((DATA!$C$3:$C$3499=F$2)*(DATA!$M$3:$S$3499=$B17)*(DATA!$N$3:$T$3499="A1")) -> 0 | G17: =SUMPRODUCT((DATA!$C$3:$C$3499=G$2)*(DATA!$M$3:$S$3499=$B17)*(DATA!$N$3:$T$3499="A1")) -> 0 | H17: =SUMPRODUCT((DATA!$C$3:$C$3499=H$2)*(DATA!$M$3:$S$3499=$B17)*(DATA!$N$3:$T$3499="B2")) -> 0 | I17: =SUMPRODUCT((DATA!$C$3:$C$3499=I$2)*(DATA!$M$3:$S$3499=$B17)*(DATA!$N$3:$T$3499="B2")) -> 0 | J17: =SUMPRODUCT((DATA!$C$3:$C$3499=J$2)*(DATA!$M$3:$S$3499=$B17)*(DATA!$N$3:$T$3499="B3")) -> 1 | K17: =SUMPRODUCT((DATA!$C$3:$C$3499=K$2)*(DATA!$M$3:$S$3499=$B17)*(DATA!$N$3:$T$3499="B3")) -> 6 | L17: =SUMPRODUCT((DATA!$C$3:$C$3499=L$2)*(DATA!$M$3:$S$3499=$B17)*(DATA!$N$3:$T$3499="C4")) -> 2 | M17: =SUMPRODUCT((DATA!$C$3:$C$3499=M$2)*(DATA!$M$3:$S$3499=$B17)*(DATA!$N$3:$T$3499="C4")) -> 0 | N17: =SUMPRODUCT((DATA!$C$3:$C$3499=N$2)*(DATA!$M$3:$S$3499=$B17)*(DATA!$N$3:$T$3499="C5")) -> 4 | O17: =SUMPRODUCT((DATA!$C$3:$C$3499=O$2)*(DATA!$M$3:$S$3499=$B17)*(DATA!$N$3:$T$3499="C5")) -> 5 | P17: =SUMPRODUCT((DATA!$C$3:$C$3499=P$2)*(DATA!$M$3:$S$3499=$B17)*(DATA!$N$3:$T$3499="C6")) -> 6 | Q17: =SUMPRODUCT((DATA!$C$3:$C$3499=Q$2)*(DATA!$M$3:$S$3499=$B17)*(DATA!$N$3:$T$3499="C6")) -> 13 | R17: =F17+H17+J17+L17+N17+P17 -> 13 | S17: =G17+I17+K17+M17+O17+Q17 -> 24 | T17: =R17+S17 -> 37 | U17: =IF(E17>0,(R17+S17)/E17,"") -> 0.41573034 | V17: =SUMPRODUCT((DATA!$C$3:$C$3499=V$2)*(DATA!$M$3:$S$3499=$B17)*(DATA!$N$3:$T$3499="D7")) -> 3 | W17: =SUMPRODUCT((DATA!$C$3:$C$3499=W$2)*(DATA!$M$3:$S$3499=$B17)*(DATA!$N$3:$T$3499="D7")) -> 10 | X17: =SUMPRODUCT((DATA!$C$3:$C$3499=X$2)*(DATA!$M$3:$S$3499=$B17)*(DATA!$N$3:$T$3499="E8")) -> 3 | Y17: =SUMPRODUCT((DATA!$C$3:$C$3499=Y$2)*(DATA!$M$3:$S$3499=$B17)*(DATA!$N$3:$T$3499="E8")) -> 3 | Z17: =SUMPRODUCT((DATA!$C$3:$C$3499=Z$2)*(DATA!$M$3:$S$3499=$B17)*(DATA!$N$3:$T$3499="F9")) -> 5 | AA17: =SUMPRODUCT((DATA!$C$3:$C$3499=AA$2)*(DATA!$M$3:$S$3499=$B17)*(DATA!$N$3:$T$3499="F9")) -> 28 | AB17: =T17+V17+W17+X17+Y17 -> 56 | AC17: =IF(E17>0,(AB17)/E17,"") -> 0.62921348
A18: 16 | B18: GEN KNOW IN ART | C18: =COUNTIFS(DATA!$M$3:M$3499,B18,DATA!$C$3:C$3499,"M")+COUNTIFS(DATA!$O$3:O$3499,B18,DATA!$C$3:C$3499,"M")+COUNTIFS(DATA!$Q$3:Q$3499,B18,DATA!$C$3:C$3499,"M")+COUNTIFS(DATA!$S$3:S$3499,B18,DATA!$C$3:C$3499,"M") -> 92 | D18: =COUNTIFS(DATA!$M$3:M$3499,B18,DATA!$C$3:C$3499,"F")+COUNTIFS(DATA!$O$3:O$3499,B18,DATA!$C$3:C$3499,"F")+COUNTIFS(DATA!$Q$3:Q$3499,B18,DATA!$C$3:C$3499,"F")+COUNTIFS(DATA!$S$3:S$3499,B18,DATA!$C$3:C$3499,"F") -> 91 | E18: =C18+D18 -> 183 | F18: =SUMPRODUCT((DATA!$C$3:$C$3499=F$2)*(DATA!$M$3:$S$3499=$B18)*(DATA!$N$3:$T$3499="A1")) -> 4 | G18: =SUMPRODUCT((DATA!$C$3:$C$3499=G$2)*(DATA!$M$3:$S$3499=$B18)*(DATA!$N$3:$T$3499="A1")) -> 5 | H18: =SUMPRODUCT((DATA!$C$3:$C$3499=H$2)*(DATA!$M$3:$S$3499=$B18)*(DATA!$N$3:$T$3499="B2")) -> 11 | I18: =SUMPRODUCT((DATA!$C$3:$C$3499=I$2)*(DATA!$M$3:$S$3499=$B18)*(DATA!$N$3:$T$3499="B2")) -> 6 | J18: =SUMPRODUCT((DATA!$C$3:$C$3499=J$2)*(DATA!$M$3:$S$3499=$B18)*(DATA!$N$3:$T$3499="B3")) -> 32 | K18: =SUMPRODUCT((DATA!$C$3:$C$3499=K$2)*(DATA!$M$3:$S$3499=$B18)*(DATA!$N$3:$T$3499="B3")) -> 38 | L18: =SUMPRODUCT((DATA!$C$3:$C$3499=L$2)*(DATA!$M$3:$S$3499=$B18)*(DATA!$N$3:$T$3499="C4")) -> 8 | M18: =SUMPRODUCT((DATA!$C$3:$C$3499=M$2)*(DATA!$M$3:$S$3499=$B18)*(DATA!$N$3:$T$3499="C4")) -> 20 | N18: =SUMPRODUCT((DATA!$C$3:$C$3499=N$2)*(DATA!$M$3:$S$3499=$B18)*(DATA!$N$3:$T$3499="C5")) -> 6 | O18: =SUMPRODUCT((DATA!$C$3:$C$3499=O$2)*(DATA!$M$3:$S$3499=$B18)*(DATA!$N$3:$T$3499="C5")) -> 9 | P18: =SUMPRODUCT((DATA!$C$3:$C$3499=P$2)*(DATA!$M$3:$S$3499=$B18)*(DATA!$N$3:$T$3499="C6")) -> 12 | Q18: =SUMPRODUCT((DATA!$C$3:$C$3499=Q$2)*(DATA!$M$3:$S$3499=$B18)*(DATA!$N$3:$T$3499="C6")) -> 7 | R18: =F18+H18+J18+L18+N18+P18 -> 73 | S18: =G18+I18+K18+M18+O18+Q18 -> 85 | T18: =R18+S18 -> 158 | U18: =IF(E18>0,(R18+S18)/E18,"") -> 0.86338798 | V18: =SUMPRODUCT((DATA!$C$3:$C$3499=V$2)*(DATA!$M$3:$S$3499=$B18)*(DATA!$N$3:$T$3499="D7")) -> 7 | W18: =SUMPRODUCT((DATA!$C$3:$C$3499=W$2)*(DATA!$M$3:$S$3499=$B18)*(DATA!$N$3:$T$3499="D7")) -> 6 | X18: =SUMPRODUCT((DATA!$C$3:$C$3499=X$2)*(DATA!$M$3:$S$3499=$B18)*(DATA!$N$3:$T$3499="E8")) -> 5 | Y18: =SUMPRODUCT((DATA!$C$3:$C$3499=Y$2)*(DATA!$M$3:$S$3499=$B18)*(DATA!$N$3:$T$3499="E8")) -> 0 | Z18: =SUMPRODUCT((DATA!$C$3:$C$3499=Z$2)*(DATA!$M$3:$S$3499=$B18)*(DATA!$N$3:$T$3499="F9")) -> 6 | AA18: =SUMPRODUCT((DATA!$C$3:$C$3499=AA$2)*(DATA!$M$3:$S$3499=$B18)*(DATA!$N$3:$T$3499="F9")) -> 0 | AB18: =T18+V18+W18+X18+Y18 -> 176 | AC18: =IF(E18>0,(AB18)/E18,"") -> 0.96174863
... A33: 31 | B33: TYPEWRITING | C33: =COUNTIFS(DATA!$M$3:M$3499,B33,DATA!$C$3:C$3499,"M")+COUNTIFS(DATA!$O$3:O$3499,B33,DATA!$C$3:C$3499,"M")+COUNTIFS(DATA!$Q$3:Q$3499,B33,DATA!$C$3:C$3499,"M")+COUNTIFS(DATA!$S$3:S$3499,B33,DATA!$C$3:C$3499,"M") -> 5 | D33: =COUNTIFS(DATA!$M$3:M$3499,B33,DATA!$C$3:C$3499,"F")+COUNTIFS(DATA!$O$3:O$3499,B33,DATA!$C$3:C$3499,"F")+COUNTIFS(DATA!$Q$3:Q$3499,B33,DATA!$C$3:C$3499,"F")+COUNTIFS(DATA!$S$3:S$3499,B33,DATA!$C$3:C$3499,"F") -> 17 | E33: =C33+D33 -> 22 | F33: =SUMPRODUCT((DATA!$C$3:$C$3499=F$2)*(DATA!$M$3:$S$3499=$B33)*(DATA!$N$3:$T$3499="A1")) -> 3 | G33: =SUMPRODUCT((DATA!$C$3:$C$3499=G$2)*(DATA!$M$3:$S$3499=$B33)*(DATA!$N$3:$T$3499="A1")) -> 9 | H33: =SUMPRODUCT((DATA!$C$3:$C$3499=H$2)*(DATA!$M$3:$S$3499=$B33)*(DATA!$N$3:$T$3499="B2")) -> 1 | I33: =SUMPRODUCT((DATA!$C$3:$C$3499=I$2)*(DATA!$M$3:$S$3499=$B33)*(DATA!$N$3:$T$3499="B2")) -> 1 | J33: =SUMPRODUCT((DATA!$C$3:$C$3499=J$2)*(DATA!$M$3:$S$3499=$B33)*(DATA!$N$3:$T$3499="B3")) -> 0 | K33: =SUMPRODUCT((DATA!$C$3:$C$3499=K$2)*(DATA!$M$3:$S$3499=$B33)*(DATA!$N$3:$T$3499="B3")) -> 2 | L33: =SUMPRODUCT((DATA!$C$3:$C$3499=L$2)*(DATA!$M$3:$S$3499=$B33)*(DATA!$N$3:$T$3499="C4")) -> 0 | M33: =SUMPRODUCT((DATA!$C$3:$C$3499=M$2)*(DATA!$M$3:$S$3499=$B33)*(DATA!$N$3:$T$3499="C4")) -> 0 | N33: =SUMPRODUCT((DATA!$C$3:$C$3499=N$2)*(DATA!$M$3:$S$3499=$B33)*(DATA!$N$3:$T$3499="C5")) -> 0 | O33: =SUMPRODUCT((DATA!$C$3:$C$3499=O$2)*(DATA!$M$3:$S$3499=$B33)*(DATA!$N$3:$T$3499="C5")) -> 0 | P33: =SUMPRODUCT((DATA!$C$3:$C$3499=P$2)*(DATA!$M$3:$S$3499=$B33)*(DATA!$N$3:$T$3499="C6")) -> 0 | Q33: =SUMPRODUCT((DATA!$C$3:$C$3499=Q$2)*(DATA!$M$3:$S$3499=$B33)*(DATA!$N$3:$T$3499="C6")) -> 2 | R33: =F33+H33+J33+L33+N33+P33 -> 4 | S33: =G33+I33+K33+M33+O33+Q33 -> 14 | T33: =R33+S33 -> 18 | U33: =IF(E33>0,(R33+S33)/E33,"") -> 0.81818182 | V33: =SUMPRODUCT((DATA!$C$3:$C$3499=V$2)*(DATA!$M$3:$S$3499=$B33)*(DATA!$N$3:$T$3499="D7")) -> 0 | W33: =SUMPRODUCT((DATA!$C$3:$C$3499=W$2)*(DATA!$M$3:$S$3499=$B33)*(DATA!$N$3:$T$3499="D7")) -> 1 | X33: =SUMPRODUCT((DATA!$C$3:$C$3499=X$2)*(DATA!$M$3:$S$3499=$B33)*(DATA!$N$3:$T$3499="E8")) -> 0 | Y33: =SUMPRODUCT((DATA!$C$3:$C$3499=Y$2)*(DATA!$M$3:$S$3499=$B33)*(DATA!$N$3:$T$3499="E8")) -> 0 | Z33: =SUMPRODUCT((DATA!$C$3:$C$3499=Z$2)*(DATA!$M$3:$S$3499=$B33)*(DATA!$N$3:$T$3499="F9")) -> 1 | AA33: =SUMPRODUCT((DATA!$C$3:$C$3499=AA$2)*(DATA!$M$3:$S$3499=$B33)*(DATA!$N$3:$T$3499="F9")) -> 2 | AB33: =T33+V33+W33+X33+Y33 -> 19 | AC33: =IF(E33>0,(AB33)/E33,"") -> 0.86363636
C34: =COUNTIFS(DATA!$M$3:M$3499,B34,DATA!$C$3:C$3499,"M")+COUNTIFS(DATA!$O$3:O$3499,B34,DATA!$C$3:C$3499,"M")+COUNTIFS(DATA!$Q$3:Q$3499,B34,DATA!$C$3:C$3499,"M")+COUNTIFS(DATA!$S$3:S$3499,B34,DATA!$C$3:C$3499,"M") -> 0 | D34: =COUNTIFS(DATA!$M$3:M$3499,B34,DATA!$C$3:C$3499,"F")+COUNTIFS(DATA!$O$3:O$3499,B34,DATA!$C$3:C$3499,"F")+COUNTIFS(DATA!$Q$3:Q$3499,B34,DATA!$C$3:C$3499,"F")+COUNTIFS(DATA!$S$3:S$3499,B34,DATA!$C$3:C$3499,"F") -> 0 | E34: =C34+D34 -> 0 | F34: =SUMPRODUCT((DATA!$C$3:$C$3499=F$2)*(DATA!$M$3:$S$3499=$B34)*(DATA!$N$3:$T$3499="A1")) -> 0 | G34: =SUMPRODUCT((DATA!$C$3:$C$3499=G$2)*(DATA!$M$3:$S$3499=$B34)*(DATA!$N$3:$T$3499="A1")) -> 0 | H34: =SUMPRODUCT((DATA!$C$3:$C$3499=H$2)*(DATA!$M$3:$S$3499=$B34)*(DATA!$N$3:$T$3499="B2")) -> 0 | I34: =SUMPRODUCT((DATA!$C$3:$C$3499=I$2)*(DATA!$M$3:$S$3499=$B34)*(DATA!$N$3:$T$3499="B2")) -> 0 | J34: =SUMPRODUCT((DATA!$C$3:$C$3499=J$2)*(DATA!$M$3:$S$3499=$B34)*(DATA!$N$3:$T$3499="B3")) -> 0 | K34: =SUMPRODUCT((DATA!$C$3:$C$3499=K$2)*(DATA!$M$3:$S$3499=$B34)*(DATA!$N$3:$T$3499="B3")) -> 0 | L34: =SUMPRODUCT((DATA!$C$3:$C$3499=L$2)*(DATA!$M$3:$S$3499=$B34)*(DATA!$N$3:$T$3499="C4")) -> 0 | M34: =SUMPRODUCT((DATA!$C$3:$C$3499=M$2)*(DATA!$M$3:$S$3499=$B34)*(DATA!$N$3:$T$3499="C4")) -> 0 | N34: =SUMPRODUCT((DATA!$C$3:$C$3499=N$2)*(DATA!$M$3:$S$3499=$B34)*(DATA!$N$3:$T$3499="C5")) -> 0 | O34: =SUMPRODUCT((DATA!$C$3:$C$3499=O$2)*(DATA!$M$3:$S$3499=$B34)*(DATA!$N$3:$T$3499="C5")) -> 0 | P34: =SUMPRODUCT((DATA!$C$3:$C$3499=P$2)*(DATA!$M$3:$S$3499=$B34)*(DATA!$N$3:$T$3499="C6")) -> 0 | Q34: =SUMPRODUCT((DATA!$C$3:$C$3499=Q$2)*(DATA!$M$3:$S$3499=$B34)*(DATA!$N$3:$T$3499="C6")) -> 0 | R34: =F34+H34+J34+L34+N34+P34 -> 0 | S34: =G34+I34+K34+M34+O34+Q34 -> 0 | T34: =R34+S34 -> 0 | U34: =IF(E34>0,(R34+S34)/E34,"") | V34: =SUMPRODUCT((DATA!$C$3:$C$3499=V$2)*(DATA!$M$3:$S$3499=$B34)*(DATA!$N$3:$T$3499="D7")) -> 0 | W34: =SUMPRODUCT((DATA!$C$3:$C$3499=W$2)*(DATA!$M$3:$S$3499=$B34)*(DATA!$N$3:$T$3499="D7")) -> 0 | X34: =SUMPRODUCT((DATA!$C$3:$C$3499=X$2)*(DATA!$M$3:$S$3499=$B34)*(DATA!$N$3:$T$3499="E8")) -> 0 | Y34: =SUMPRODUCT((DATA!$C$3:$C$3499=Y$2)*(DATA!$M$3:$S$3499=$B34)*(DATA!$N$3:$T$3499="E8")) -> 0 | Z34: =SUMPRODUCT((DATA!$C$3:$C$3499=Z$2)*(DATA!$M$3:$S$3499=$B34)*(DATA!$N$3:$T$3499="F9")) -> 0 | AA34: =SUMPRODUCT((DATA!$C$3:$C$3499=AA$2)*(DATA!$M$3:$S$3499=$B34)*(DATA!$N$3:$T$3499="F9")) -> 0 | AB34: =T34+V34+W34+X34+Y34 -> 0 | AC34: =IF(E34>0,(AB34)/E34,"")
C35: =COUNTIFS(DATA!$M$3:M$3499,B35,DATA!$C$3:C$3499,"M")+COUNTIFS(DATA!$O$3:O$3499,B35,DATA!$C$3:C$3499,"M")+COUNTIFS(DATA!$Q$3:Q$3499,B35,DATA!$C$3:C$3499,"M")+COUNTIFS(DATA!$S$3:S$3499,B35,DATA!$C$3:C$3499,"M") -> 0 | D35: =COUNTIFS(DATA!$M$3:M$3499,B35,DATA!$C$3:C$3499,"F")+COUNTIFS(DATA!$O$3:O$3499,B35,DATA!$C$3:C$3499,"F")+COUNTIFS(DATA!$Q$3:Q$3499,B35,DATA!$C$3:C$3499,"F")+COUNTIFS(DATA!$S$3:S$3499,B35,DATA!$C$3:C$3499,"F") -> 0 | E35: =C35+D35 -> 0 | F35: =SUMPRODUCT((DATA!$C$3:$C$3499=F$2)*(DATA!$M$3:$S$3499=$B35)*(DATA!$N$3:$T$3499="A1")) -> 0 | G35: =SUMPRODUCT((DATA!$C$3:$C$3499=G$2)*(DATA!$M$3:$S$3499=$B35)*(DATA!$N$3:$T$3499="A1")) -> 0 | H35: =SUMPRODUCT((DATA!$C$3:$C$3499=H$2)*(DATA!$M$3:$S$3499=$B35)*(DATA!$N$3:$T$3499="B2")) -> 0 | I35: =SUMPRODUCT((DATA!$C$3:$C$3499=I$2)*(DATA!$M$3:$S$3499=$B35)*(DATA!$N$3:$T$3499="B2")) -> 0 | J35: =SUMPRODUCT((DATA!$C$3:$C$3499=J$2)*(DATA!$M$3:$S$3499=$B35)*(DATA!$N$3:$T$3499="B3")) -> 0 | K35: =SUMPRODUCT((DATA!$C$3:$C$3499=K$2)*(DATA!$M$3:$S$3499=$B35)*(DATA!$N$3:$T$3499="B3")) -> 0 | L35: =SUMPRODUCT((DATA!$C$3:$C$3499=L$2)*(DATA!$M$3:$S$3499=$B35)*(DATA!$N$3:$T$3499="C4")) -> 0 | M35: =SUMPRODUCT((DATA!$C$3:$C$3499=M$2)*(DATA!$M$3:$S$3499=$B35)*(DATA!$N$3:$T$3499="C4")) -> 0 | N35: =SUMPRODUCT((DATA!$C$3:$C$3499=N$2)*(DATA!$M$3:$S$3499=$B35)*(DATA!$N$3:$T$3499="C5")) -> 0 | O35: =SUMPRODUCT((DATA!$C$3:$C$3499=O$2)*(DATA!$M$3:$S$3499=$B35)*(DATA!$N$3:$T$3499="C5")) -> 0 | P35: =SUMPRODUCT((DATA!$C$3:$C$3499=P$2)*(DATA!$M$3:$S$3499=$B35)*(DATA!$N$3:$T$3499="C6")) -> 0 | Q35: =SUMPRODUCT((DATA!$C$3:$C$3499=Q$2)*(DATA!$M$3:$S$3499=$B35)*(DATA!$N$3:$T$3499="C6")) -> 0 | R35: =F35+H35+J35+L35+N35+P35 -> 0 | S35: =G35+I35+K35+M35+O35+Q35 -> 0 | T35: =R35+S35 -> 0 | U35: =IF(E35>0,(R35+S35)/E35,"") | V35: =SUMPRODUCT((DATA!$C$3:$C$3499=V$2)*(DATA!$M$3:$S$3499=$B35)*(DATA!$N$3:$T$3499="D7")) -> 0 | W35: =SUMPRODUCT((DATA!$C$3:$C$3499=W$2)*(DATA!$M$3:$S$3499=$B35)*(DATA!$N$3:$T$3499="D7")) -> 0 | X35: =SUMPRODUCT((DATA!$C$3:$C$3499=X$2)*(DATA!$M$3:$S$3499=$B35)*(DATA!$N$3:$T$3499="E8")) -> 0 | Y35: =SUMPRODUCT((DATA!$C$3:$C$3499=Y$2)*(DATA!$M$3:$S$3499=$B35)*(DATA!$N$3:$T$3499="E8")) -> 0 | Z35: =SUMPRODUCT((DATA!$C$3:$C$3499=Z$2)*(DATA!$M$3:$S$3499=$B35)*(DATA!$N$3:$T$3499="F9")) -> 0 | AA35: =SUMPRODUCT((DATA!$C$3:$C$3499=AA$2)*(DATA!$M$3:$S$3499=$B35)*(DATA!$N$3:$T$3499="F9")) -> 0 | AB35: =T35+V35+W35+X35+Y35 -> 0 | AC35: =IF(E35>0,(AB35)/E35,"")
C36: =COUNTIFS(DATA!$M$3:M$3499,B36,DATA!$C$3:C$3499,"M")+COUNTIFS(DATA!$O$3:O$3499,B36,DATA!$C$3:C$3499,"M")+COUNTIFS(DATA!$Q$3:Q$3499,B36,DATA!$C$3:C$3499,"M")+COUNTIFS(DATA!$S$3:S$3499,B36,DATA!$C$3:C$3499,"M") -> 0 | D36: =COUNTIFS(DATA!$M$3:M$3499,B36,DATA!$C$3:C$3499,"F")+COUNTIFS(DATA!$O$3:O$3499,B36,DATA!$C$3:C$3499,"F")+COUNTIFS(DATA!$Q$3:Q$3499,B36,DATA!$C$3:C$3499,"F")+COUNTIFS(DATA!$S$3:S$3499,B36,DATA!$C$3:C$3499,"F") -> 0 | E36: =C36+D36 -> 0 | F36: =SUMPRODUCT((DATA!$C$3:$C$3499=F$2)*(DATA!$M$3:$S$3499=$B36)*(DATA!$N$3:$T$3499="A1")) -> 0 | G36: =SUMPRODUCT((DATA!$C$3:$C$3499=G$2)*(DATA!$M$3:$S$3499=$B36)*(DATA!$N$3:$T$3499="A1")) -> 0 | H36: =SUMPRODUCT((DATA!$C$3:$C$3499=H$2)*(DATA!$M$3:$S$3499=$B36)*(DATA!$N$3:$T$3499="B2")) -> 0 | I36: =SUMPRODUCT((DATA!$C$3:$C$3499=I$2)*(DATA!$M$3:$S$3499=$B36)*(DATA!$N$3:$T$3499="B2")) -> 0 | J36: =SUMPRODUCT((DATA!$C$3:$C$3499=J$2)*(DATA!$M$3:$S$3499=$B36)*(DATA!$N$3:$T$3499="B3")) -> 0 | K36: =SUMPRODUCT((DATA!$C$3:$C$3499=K$2)*(DATA!$M$3:$S$3499=$B36)*(DATA!$N$3:$T$3499="B3")) -> 0 | L36: =SUMPRODUCT((DATA!$C$3:$C$3499=L$2)*(DATA!$M$3:$S$3499=$B36)*(DATA!$N$3:$T$3499="C4")) -> 0 | M36: =SUMPRODUCT((DATA!$C$3:$C$3499=M$2)*(DATA!$M$3:$S$3499=$B36)*(DATA!$N$3:$T$3499="C4")) -> 0 | N36: =SUMPRODUCT((DATA!$C$3:$C$3499=N$2)*(DATA!$M$3:$S$3499=$B36)*(DATA!$N$3:$T$3499="C5")) -> 0 | O36: =SUMPRODUCT((DATA!$C$3:$C$3499=O$2)*(DATA!$M$3:$S$3499=$B36)*(DATA!$N$3:$T$3499="C5")) -> 0 | P36: =SUMPRODUCT((DATA!$C$3:$C$3499=P$2)*(DATA!$M$3:$S$3499=$B36)*(DATA!$N$3:$T$3499="C6")) -> 0 | Q36: =SUMPRODUCT((DATA!$C$3:$C$3499=Q$2)*(DATA!$M$3:$S$3499=$B36)*(DATA!$N$3:$T$3499="C6")) -> 0 | R36: =F36+H36+J36+L36+N36+P36 -> 0 | S36: =G36+I36+K36+M36+O36+Q36 -> 0 | T36: =R36+S36 -> 0 | U36: =IF(E36>0,(R36+S36)/E36,"") | V36: =SUMPRODUCT((DATA!$C$3:$C$3499=V$2)*(DATA!$M$3:$S$3499=$B36)*(DATA!$N$3:$T$3499="D7")) -> 0 | W36: =SUMPRODUCT((DATA!$C$3:$C$3499=W$2)*(DATA!$M$3:$S$3499=$B36)*(DATA!$N$3:$T$3499="D7")) -> 0 | X36: =SUMPRODUCT((DATA!$C$3:$C$3499=X$2)*(DATA!$M$3:$S$3499=$B36)*(DATA!$N$3:$T$3499="E8")) -> 0 | Y36: =SUMPRODUCT((DATA!$C$3:$C$3499=Y$2)*(DATA!$M$3:$S$3499=$B36)*(DATA!$N$3:$T$3499="E8")) -> 0 | Z36: =SUMPRODUCT((DATA!$C$3:$C$3499=Z$2)*(DATA!$M$3:$S$3499=$B36)*(DATA!$N$3:$T$3499="F9")) -> 0 | AA36: =SUMPRODUCT((DATA!$C$3:$C$3499=AA$2)*(DATA!$M$3:$S$3499=$B36)*(DATA!$N$3:$T$3499="F9")) -> 0 | AB36: =T36+V36+W36+X36+Y36 -> 0 | AC36: =IF(E36>0,(AB36)/E36,"")
C37: =COUNTIFS(DATA!$M$3:M$3499,B37,DATA!$C$3:C$3499,"M")+COUNTIFS(DATA!$O$3:O$3499,B37,DATA!$C$3:C$3499,"M")+COUNTIFS(DATA!$Q$3:Q$3499,B37,DATA!$C$3:C$3499,"M")+COUNTIFS(DATA!$S$3:S$3499,B37,DATA!$C$3:C$3499,"M") -> 0 | D37: =COUNTIFS(DATA!$M$3:M$3499,B37,DATA!$C$3:C$3499,"F")+COUNTIFS(DATA!$O$3:O$3499,B37,DATA!$C$3:C$3499,"F")+COUNTIFS(DATA!$Q$3:Q$3499,B37,DATA!$C$3:C$3499,"F")+COUNTIFS(DATA!$S$3:S$3499,B37,DATA!$C$3:C$3499,"F") -> 0 | E37: =C37+D37 -> 0 | F37: =SUMPRODUCT((DATA!$C$3:$C$3499=F$2)*(DATA!$M$3:$S$3499=$B37)*(DATA!$N$3:$T$3499="A1")) -> 0 | G37: =SUMPRODUCT((DATA!$C$3:$C$3499=G$2)*(DATA!$M$3:$S$3499=$B37)*(DATA!$N$3:$T$3499="A1")) -> 0 | H37: =SUMPRODUCT((DATA!$C$3:$C$3499=H$2)*(DATA!$M$3:$S$3499=$B37)*(DATA!$N$3:$T$3499="B2")) -> 0 | I37: =SUMPRODUCT((DATA!$C$3:$C$3499=I$2)*(DATA!$M$3:$S$3499=$B37)*(DATA!$N$3:$T$3499="B2")) -> 0 | J37: =SUMPRODUCT((DATA!$C$3:$C$3499=J$2)*(DATA!$M$3:$S$3499=$B37)*(DATA!$N$3:$T$3499="B3")) -> 0 | K37: =SUMPRODUCT((DATA!$C$3:$C$3499=K$2)*(DATA!$M$3:$S$3499=$B37)*(DATA!$N$3:$T$3499="B3")) -> 0 | L37: =SUMPRODUCT((DATA!$C$3:$C$3499=L$2)*(DATA!$M$3:$S$3499=$B37)*(DATA!$N$3:$T$3499="C4")) -> 0 | M37: =SUMPRODUCT((DATA!$C$3:$C$3499=M$2)*(DATA!$M$3:$S$3499=$B37)*(DATA!$N$3:$T$3499="C4")) -> 0 | N37: =SUMPRODUCT((DATA!$C$3:$C$3499=N$2)*(DATA!$M$3:$S$3499=$B37)*(DATA!$N$3:$T$3499="C5")) -> 0 | O37: =SUMPRODUCT((DATA!$C$3:$C$3499=O$2)*(DATA!$M$3:$S$3499=$B37)*(DATA!$N$3:$T$3499="C5")) -> 0 | P37: =SUMPRODUCT((DATA!$C$3:$C$3499=P$2)*(DATA!$M$3:$S$3499=$B37)*(DATA!$N$3:$T$3499="C6")) -> 0 | Q37: =SUMPRODUCT((DATA!$C$3:$C$3499=Q$2)*(DATA!$M$3:$S$3499=$B37)*(DATA!$N$3:$T$3499="C6")) -> 0 | R37: =F37+H37+J37+L37+N37+P37 -> 0 | S37: =G37+I37+K37+M37+O37+Q37 -> 0 | T37: =R37+S37 -> 0 | U37: =IF(E37>0,(R37+S37)/E37,"") | V37: =SUMPRODUCT((DATA!$C$3:$C$3499=V$2)*(DATA!$M$3:$S$3499=$B37)*(DATA!$N$3:$T$3499="D7")) -> 0 | W37: =SUMPRODUCT((DATA!$C$3:$C$3499=W$2)*(DATA!$M$3:$S$3499=$B37)*(DATA!$N$3:$T$3499="D7")) -> 0 | X37: =SUMPRODUCT((DATA!$C$3:$C$3499=X$2)*(DATA!$M$3:$S$3499=$B37)*(DATA!$N$3:$T$3499="E8")) -> 0 | Y37: =SUMPRODUCT((DATA!$C$3:$C$3499=Y$2)*(DATA!$M$3:$S$3499=$B37)*(DATA!$N$3:$T$3499="E8")) -> 0 | Z37: =SUMPRODUCT((DATA!$C$3:$C$3499=Z$2)*(DATA!$M$3:$S$3499=$B37)*(DATA!$N$3:$T$3499="F9")) -> 0 | AA37: =SUMPRODUCT((DATA!$C$3:$C$3499=AA$2)*(DATA!$M$3:$S$3499=$B37)*(DATA!$N$3:$T$3499="F9")) -> 0 | AB37: =T37+V37+W37+X37+Y37 -> 0 | AC37: =IF(E37>0,(AB37)/E37,"")
C38: =COUNTIFS(DATA!$M$3:M$3499,B38,DATA!$C$3:C$3499,"M")+COUNTIFS(DATA!$O$3:O$3499,B38,DATA!$C$3:C$3499,"M")+COUNTIFS(DATA!$Q$3:Q$3499,B38,DATA!$C$3:C$3499,"M")+COUNTIFS(DATA!$S$3:S$3499,B38,DATA!$C$3:C$3499,"M") -> 0 | D38: =COUNTIFS(DATA!$M$3:M$3499,B38,DATA!$C$3:C$3499,"F")+COUNTIFS(DATA!$O$3:O$3499,B38,DATA!$C$3:C$3499,"F")+COUNTIFS(DATA!$Q$3:Q$3499,B38,DATA!$C$3:C$3499,"F")+COUNTIFS(DATA!$S$3:S$3499,B38,DATA!$C$3:C$3499,"F") -> 0 | E38: =C38+D38 -> 0 | F38: =SUMPRODUCT((DATA!$C$3:$C$3499=F$2)*(DATA!$M$3:$S$3499=$B38)*(DATA!$N$3:$T$3499="A1")) -> 0 | G38: =SUMPRODUCT((DATA!$C$3:$C$3499=G$2)*(DATA!$M$3:$S$3499=$B38)*(DATA!$N$3:$T$3499="A1")) -> 0 | H38: =SUMPRODUCT((DATA!$C$3:$C$3499=H$2)*(DATA!$M$3:$S$3499=$B38)*(DATA!$N$3:$T$3499="B2")) -> 0 | I38: =SUMPRODUCT((DATA!$C$3:$C$3499=I$2)*(DATA!$M$3:$S$3499=$B38)*(DATA!$N$3:$T$3499="B2")) -> 0 | J38: =SUMPRODUCT((DATA!$C$3:$C$3499=J$2)*(DATA!$M$3:$S$3499=$B38)*(DATA!$N$3:$T$3499="B3")) -> 0 | K38: =SUMPRODUCT((DATA!$C$3:$C$3499=K$2)*(DATA!$M$3:$S$3499=$B38)*(DATA!$N$3:$T$3499="B3")) -> 0 | L38: =SUMPRODUCT((DATA!$C$3:$C$3499=L$2)*(DATA!$M$3:$S$3499=$B38)*(DATA!$N$3:$T$3499="C4")) -> 0 | M38: =SUMPRODUCT((DATA!$C$3:$C$3499=M$2)*(DATA!$M$3:$S$3499=$B38)*(DATA!$N$3:$T$3499="C4")) -> 0 | N38: =SUMPRODUCT((DATA!$C$3:$C$3499=N$2)*(DATA!$M$3:$S$3499=$B38)*(DATA!$N$3:$T$3499="C5")) -> 0 | O38: =SUMPRODUCT((DATA!$C$3:$C$3499=O$2)*(DATA!$M$3:$S$3499=$B38)*(DATA!$N$3:$T$3499="C5")) -> 0 | P38: =SUMPRODUCT((DATA!$C$3:$C$3499=P$2)*(DATA!$M$3:$S$3499=$B38)*(DATA!$N$3:$T$3499="C6")) -> 0 | Q38: =SUMPRODUCT((DATA!$C$3:$C$3499=Q$2)*(DATA!$M$3:$S$3499=$B38)*(DATA!$N$3:$T$3499="C6")) -> 0 | R38: =F38+H38+J38+L38+N38+P38 -> 0 | S38: =G38+I38+K38+M38+O38+Q38 -> 0 | T38: =R38+S38 -> 0 | U38: =IF(E38>0,(R38+S38)/E38,"") | V38: =SUMPRODUCT((DATA!$C$3:$C$3499=V$2)*(DATA!$M$3:$S$3499=$B38)*(DATA!$N$3:$T$3499="D7")) -> 0 | W38: =SUMPRODUCT((DATA!$C$3:$C$3499=W$2)*(DATA!$M$3:$S$3499=$B38)*(DATA!$N$3:$T$3499="D7")) -> 0 | X38: =SUMPRODUCT((DATA!$C$3:$C$3499=X$2)*(DATA!$M$3:$S$3499=$B38)*(DATA!$N$3:$T$3499="E8")) -> 0 | Y38: =SUMPRODUCT((DATA!$C$3:$C$3499=Y$2)*(DATA!$M$3:$S$3499=$B38)*(DATA!$N$3:$T$3499="E8")) -> 0 | Z38: =SUMPRODUCT((DATA!$C$3:$C$3499=Z$2)*(DATA!$M$3:$S$3499=$B38)*(DATA!$N$3:$T$3499="F9")) -> 0 | AA38: =SUMPRODUCT((DATA!$C$3:$C$3499=AA$2)*(DATA!$M$3:$S$3499=$B38)*(DATA!$N$3:$T$3499="F9")) -> 0 | AB38: =T38+V38+W38+X38+Y38 -> 0 | AC38: =IF(E38>0,(AB38)/E38,"")
C39: =COUNTIFS(DATA!$M$3:M$3499,B39,DATA!$C$3:C$3499,"M")+COUNTIFS(DATA!$O$3:O$3499,B39,DATA!$C$3:C$3499,"M")+COUNTIFS(DATA!$Q$3:Q$3499,B39,DATA!$C$3:C$3499,"M")+COUNTIFS(DATA!$S$3:S$3499,B39,DATA!$C$3:C$3499,"M") -> 0 | D39: =COUNTIFS(DATA!$M$3:M$3499,B39,DATA!$C$3:C$3499,"F")+COUNTIFS(DATA!$O$3:O$3499,B39,DATA!$C$3:C$3499,"F")+COUNTIFS(DATA!$Q$3:Q$3499,B39,DATA!$C$3:C$3499,"F")+COUNTIFS(DATA!$S$3:S$3499,B39,DATA!$C$3:C$3499,"F") -> 0 | E39: =C39+D39 -> 0 | F39: =SUMPRODUCT((DATA!$C$3:$C$3499=F$2)*(DATA!$M$3:$S$3499=$B39)*(DATA!$N$3:$T$3499="A1")) -> 0 | G39: =SUMPRODUCT((DATA!$C$3:$C$3499=G$2)*(DATA!$M$3:$S$3499=$B39)*(DATA!$N$3:$T$3499="A1")) -> 0 | H39: =SUMPRODUCT((DATA!$C$3:$C$3499=H$2)*(DATA!$M$3:$S$3499=$B39)*(DATA!$N$3:$T$3499="B2")) -> 0 | I39: =SUMPRODUCT((DATA!$C$3:$C$3499=I$2)*(DATA!$M$3:$S$3499=$B39)*(DATA!$N$3:$T$3499="B2")) -> 0 | J39: =SUMPRODUCT((DATA!$C$3:$C$3499=J$2)*(DATA!$M$3:$S$3499=$B39)*(DATA!$N$3:$T$3499="B3")) -> 0 | K39: =SUMPRODUCT((DATA!$C$3:$C$3499=K$2)*(DATA!$M$3:$S$3499=$B39)*(DATA!$N$3:$T$3499="B3")) -> 0 | L39: =SUMPRODUCT((DATA!$C$3:$C$3499=L$2)*(DATA!$M$3:$S$3499=$B39)*(DATA!$N$3:$T$3499="C4")) -> 0 | M39: =SUMPRODUCT((DATA!$C$3:$C$3499=M$2)*(DATA!$M$3:$S$3499=$B39)*(DATA!$N$3:$T$3499="C4")) -> 0 | N39: =SUMPRODUCT((DATA!$C$3:$C$3499=N$2)*(DATA!$M$3:$S$3499=$B39)*(DATA!$N$3:$T$3499="C5")) -> 0 | O39: =SUMPRODUCT((DATA!$C$3:$C$3499=O$2)*(DATA!$M$3:$S$3499=$B39)*(DATA!$N$3:$T$3499="C5")) -> 0 | P39: =SUMPRODUCT((DATA!$C$3:$C$3499=P$2)*(DATA!$M$3:$S$3499=$B39)*(DATA!$N$3:$T$3499="C6")) -> 0 | Q39: =SUMPRODUCT((DATA!$C$3:$C$3499=Q$2)*(DATA!$M$3:$S$3499=$B39)*(DATA!$N$3:$T$3499="C6")) -> 0 | R39: =F39+H39+J39+L39+N39+P39 -> 0 | S39: =G39+I39+K39+M39+O39+Q39 -> 0 | T39: =R39+S39 -> 0 | U39: =IF(E39>0,(R39+S39)/E39,"") | V39: =SUMPRODUCT((DATA!$C$3:$C$3499=V$2)*(DATA!$M$3:$S$3499=$B39)*(DATA!$N$3:$T$3499="D7")) -> 0 | W39: =SUMPRODUCT((DATA!$C$3:$C$3499=W$2)*(DATA!$M$3:$S$3499=$B39)*(DATA!$N$3:$T$3499="D7")) -> 0 | X39: =SUMPRODUCT((DATA!$C$3:$C$3499=X$2)*(DATA!$M$3:$S$3499=$B39)*(DATA!$N$3:$T$3499="E8")) -> 0 | Y39: =SUMPRODUCT((DATA!$C$3:$C$3499=Y$2)*(DATA!$M$3:$S$3499=$B39)*(DATA!$N$3:$T$3499="E8")) -> 0 | Z39: =SUMPRODUCT((DATA!$C$3:$C$3499=Z$2)*(DATA!$M$3:$S$3499=$B39)*(DATA!$N$3:$T$3499="F9")) -> 0 | AA39: =SUMPRODUCT((DATA!$C$3:$C$3499=AA$2)*(DATA!$M$3:$S$3499=$B39)*(DATA!$N$3:$T$3499="F9")) -> 0 | AB39: =T39+V39+W39+X39+Y39 -> 0 | AC39: =IF(E39>0,(AB39)/E39,"")
C40: =COUNTIFS(DATA!$M$3:M$3499,B40,DATA!$C$3:C$3499,"M")+COUNTIFS(DATA!$O$3:O$3499,B40,DATA!$C$3:C$3499,"M")+COUNTIFS(DATA!$Q$3:Q$3499,B40,DATA!$C$3:C$3499,"M")+COUNTIFS(DATA!$S$3:S$3499,B40,DATA!$C$3:C$3499,"M") -> 0 | D40: =COUNTIFS(DATA!$M$3:M$3499,B40,DATA!$C$3:C$3499,"F")+COUNTIFS(DATA!$O$3:O$3499,B40,DATA!$C$3:C$3499,"F")+COUNTIFS(DATA!$Q$3:Q$3499,B40,DATA!$C$3:C$3499,"F")+COUNTIFS(DATA!$S$3:S$3499,B40,DATA!$C$3:C$3499,"F") -> 0 | E40: =C40+D40 -> 0 | F40: =SUMPRODUCT((DATA!$C$3:$C$3499=F$2)*(DATA!$M$3:$S$3499=$B40)*(DATA!$N$3:$T$3499="A1")) -> 0 | G40: =SUMPRODUCT((DATA!$C$3:$C$3499=G$2)*(DATA!$M$3:$S$3499=$B40)*(DATA!$N$3:$T$3499="A1")) -> 0 | H40: =SUMPRODUCT((DATA!$C$3:$C$3499=H$2)*(DATA!$M$3:$S$3499=$B40)*(DATA!$N$3:$T$3499="B2")) -> 0 | I40: =SUMPRODUCT((DATA!$C$3:$C$3499=I$2)*(DATA!$M$3:$S$3499=$B40)*(DATA!$N$3:$T$3499="B2")) -> 0 | J40: =SUMPRODUCT((DATA!$C$3:$C$3499=J$2)*(DATA!$M$3:$S$3499=$B40)*(DATA!$N$3:$T$3499="B3")) -> 0 | K40: =SUMPRODUCT((DATA!$C$3:$C$3499=K$2)*(DATA!$M$3:$S$3499=$B40)*(DATA!$N$3:$T$3499="B3")) -> 0 | L40: =SUMPRODUCT((DATA!$C$3:$C$3499=L$2)*(DATA!$M$3:$S$3499=$B40)*(DATA!$N$3:$T$3499="C4")) -> 0 | M40: =SUMPRODUCT((DATA!$C$3:$C$3499=M$2)*(DATA!$M$3:$S$3499=$B40)*(DATA!$N$3:$T$3499="C4")) -> 0 | N40: =SUMPRODUCT((DATA!$C$3:$C$3499=N$2)*(DATA!$M$3:$S$3499=$B40)*(DATA!$N$3:$T$3499="C5")) -> 0 | O40: =SUMPRODUCT((DATA!$C$3:$C$3499=O$2)*(DATA!$M$3:$S$3499=$B40)*(DATA!$N$3:$T$3499="C5")) -> 0 | P40: =SUMPRODUCT((DATA!$C$3:$C$3499=P$2)*(DATA!$M$3:$S$3499=$B40)*(DATA!$N$3:$T$3499="C6")) -> 0 | Q40: =SUMPRODUCT((DATA!$C$3:$C$3499=Q$2)*(DATA!$M$3:$S$3499=$B40)*(DATA!$N$3:$T$3499="C6")) -> 0 | R40: =F40+H40+J40+L40+N40+P40 -> 0 | S40: =G40+I40+K40+M40+O40+Q40 -> 0 | T40: =R40+S40 -> 0 | U40: =IF(E40>0,(R40+S40)/E40,"") | V40: =SUMPRODUCT((DATA!$C$3:$C$3499=V$2)*(DATA!$M$3:$S$3499=$B40)*(DATA!$N$3:$T$3499="D7")) -> 0 | W40: =SUMPRODUCT((DATA!$C$3:$C$3499=W$2)*(DATA!$M$3:$S$3499=$B40)*(DATA!$N$3:$T$3499="D7")) -> 0 | X40: =SUMPRODUCT((DATA!$C$3:$C$3499=X$2)*(DATA!$M$3:$S$3499=$B40)*(DATA!$N$3:$T$3499="E8")) -> 0 | Y40: =SUMPRODUCT((DATA!$C$3:$C$3499=Y$2)*(DATA!$M$3:$S$3499=$B40)*(DATA!$N$3:$T$3499="E8")) -> 0 | Z40: =SUMPRODUCT((DATA!$C$3:$C$3499=Z$2)*(DATA!$M$3:$S$3499=$B40)*(DATA!$N$3:$T$3499="F9")) -> 0 | AA40: =SUMPRODUCT((DATA!$C$3:$C$3499=AA$2)*(DATA!$M$3:$S$3499=$B40)*(DATA!$N$3:$T$3499="F9")) -> 0 | AB40: =T40+V40+W40+X40+Y40 -> 0 | AC40: =IF(E40>0,(AB40)/E40,"")
C41: =COUNTIFS(DATA!$M$3:M$3499,B41,DATA!$C$3:C$3499,"M")+COUNTIFS(DATA!$O$3:O$3499,B41,DATA!$C$3:C$3499,"M")+COUNTIFS(DATA!$Q$3:Q$3499,B41,DATA!$C$3:C$3499,"M")+COUNTIFS(DATA!$S$3:S$3499,B41,DATA!$C$3:C$3499,"M") -> 0 | D41: =COUNTIFS(DATA!$M$3:M$3499,B41,DATA!$C$3:C$3499,"F")+COUNTIFS(DATA!$O$3:O$3499,B41,DATA!$C$3:C$3499,"F")+COUNTIFS(DATA!$Q$3:Q$3499,B41,DATA!$C$3:C$3499,"F")+COUNTIFS(DATA!$S$3:S$3499,B41,DATA!$C$3:C$3499,"F") -> 0 | E41: =C41+D41 -> 0 | F41: =SUMPRODUCT((DATA!$C$3:$C$3499=F$2)*(DATA!$M$3:$S$3499=$B41)*(DATA!$N$3:$T$3499="A1")) -> 0 | G41: =SUMPRODUCT((DATA!$C$3:$C$3499=G$2)*(DATA!$M$3:$S$3499=$B41)*(DATA!$N$3:$T$3499="A1")) -> 0 | H41: =SUMPRODUCT((DATA!$C$3:$C$3499=H$2)*(DATA!$M$3:$S$3499=$B41)*(DATA!$N$3:$T$3499="B2")) -> 0 | I41: =SUMPRODUCT((DATA!$C$3:$C$3499=I$2)*(DATA!$M$3:$S$3499=$B41)*(DATA!$N$3:$T$3499="B2")) -> 0 | J41: =SUMPRODUCT((DATA!$C$3:$C$3499=J$2)*(DATA!$M$3:$S$3499=$B41)*(DATA!$N$3:$T$3499="B3")) -> 0 | K41: =SUMPRODUCT((DATA!$C$3:$C$3499=K$2)*(DATA!$M$3:$S$3499=$B41)*(DATA!$N$3:$T$3499="B3")) -> 0 | L41: =SUMPRODUCT((DATA!$C$3:$C$3499=L$2)*(DATA!$M$3:$S$3499=$B41)*(DATA!$N$3:$T$3499="C4")) -> 0 | M41: =SUMPRODUCT((DATA!$C$3:$C$3499=M$2)*(DATA!$M$3:$S$3499=$B41)*(DATA!$N$3:$T$3499="C4")) -> 0 | N41: =SUMPRODUCT((DATA!$C$3:$C$3499=N$2)*(DATA!$M$3:$S$3499=$B41)*(DATA!$N$3:$T$3499="C5")) -> 0 | O41: =SUMPRODUCT((DATA!$C$3:$C$3499=O$2)*(DATA!$M$3:$S$3499=$B41)*(DATA!$N$3:$T$3499="C5")) -> 0 | P41: =SUMPRODUCT((DATA!$C$3:$C$3499=P$2)*(DATA!$M$3:$S$3499=$B41)*(DATA!$N$3:$T$3499="C6")) -> 0 | Q41: =SUMPRODUCT((DATA!$C$3:$C$3499=Q$2)*(DATA!$M$3:$S$3499=$B41)*(DATA!$N$3:$T$3499="C6")) -> 0 | R41: =F41+H41+J41+L41+N41+P41 -> 0 | S41: =G41+I41+K41+M41+O41+Q41 -> 0 | T41: =R41+S41 -> 0 | U41: =IF(E41>0,(R41+S41)/E41,"") | V41: =SUMPRODUCT((DATA!$C$3:$C$3499=V$2)*(DATA!$M$3:$S$3499=$B41)*(DATA!$N$3:$T$3499="D7")) -> 0 | W41: =SUMPRODUCT((DATA!$C$3:$C$3499=W$2)*(DATA!$M$3:$S$3499=$B41)*(DATA!$N$3:$T$3499="D7")) -> 0 | X41: =SUMPRODUCT((DATA!$C$3:$C$3499=X$2)*(DATA!$M$3:$S$3499=$B41)*(DATA!$N$3:$T$3499="E8")) -> 0 | Y41: =SUMPRODUCT((DATA!$C$3:$C$3499=Y$2)*(DATA!$M$3:$S$3499=$B41)*(DATA!$N$3:$T$3499="E8")) -> 0 | Z41: =SUMPRODUCT((DATA!$C$3:$C$3499=Z$2)*(DATA!$M$3:$S$3499=$B41)*(DATA!$N$3:$T$3499="F9")) -> 0 | AA41: =SUMPRODUCT((DATA!$C$3:$C$3499=AA$2)*(DATA!$M$3:$S$3499=$B41)*(DATA!$N$3:$T$3499="F9")) -> 0 | AB41: =T41+V41+W41+X41+Y41 -> 0 | AC41: =IF(E41>0,(AB41)/E41,"")
C42: =COUNTIFS(DATA!$M$3:M$3499,B42,DATA!$C$3:C$3499,"M")+COUNTIFS(DATA!$O$3:O$3499,B42,DATA!$C$3:C$3499,"M")+COUNTIFS(DATA!$Q$3:Q$3499,B42,DATA!$C$3:C$3499,"M")+COUNTIFS(DATA!$S$3:S$3499,B42,DATA!$C$3:C$3499,"M") -> 0 | D42: =COUNTIFS(DATA!$M$3:M$3499,B42,DATA!$C$3:C$3499,"F")+COUNTIFS(DATA!$O$3:O$3499,B42,DATA!$C$3:C$3499,"F")+COUNTIFS(DATA!$Q$3:Q$3499,B42,DATA!$C$3:C$3499,"F")+COUNTIFS(DATA!$S$3:S$3499,B42,DATA!$C$3:C$3499,"F") -> 0 | E42: =C42+D42 -> 0 | F42: =SUMPRODUCT((DATA!$C$3:$C$3499=F$2)*(DATA!$M$3:$S$3499=$B42)*(DATA!$N$3:$T$3499="A1")) -> 0 | G42: =SUMPRODUCT((DATA!$C$3:$C$3499=G$2)*(DATA!$M$3:$S$3499=$B42)*(DATA!$N$3:$T$3499="A1")) -> 0 | H42: =SUMPRODUCT((DATA!$C$3:$C$3499=H$2)*(DATA!$M$3:$S$3499=$B42)*(DATA!$N$3:$T$3499="B2")) -> 0 | I42: =SUMPRODUCT((DATA!$C$3:$C$3499=I$2)*(DATA!$M$3:$S$3499=$B42)*(DATA!$N$3:$T$3499="B2")) -> 0 | J42: =SUMPRODUCT((DATA!$C$3:$C$3499=J$2)*(DATA!$M$3:$S$3499=$B42)*(DATA!$N$3:$T$3499="B3")) -> 0 | K42: =SUMPRODUCT((DATA!$C$3:$C$3499=K$2)*(DATA!$M$3:$S$3499=$B42)*(DATA!$N$3:$T$3499="B3")) -> 0 | L42: =SUMPRODUCT((DATA!$C$3:$C$3499=L$2)*(DATA!$M$3:$S$3499=$B42)*(DATA!$N$3:$T$3499="C4")) -> 0 | M42: =SUMPRODUCT((DATA!$C$3:$C$3499=M$2)*(DATA!$M$3:$S$3499=$B42)*(DATA!$N$3:$T$3499="C4")) -> 0 | N42: =SUMPRODUCT((DATA!$C$3:$C$3499=N$2)*(DATA!$M$3:$S$3499=$B42)*(DATA!$N$3:$T$3499="C5")) -> 0 | O42: =SUMPRODUCT((DATA!$C$3:$C$3499=O$2)*(DATA!$M$3:$S$3499=$B42)*(DATA!$N$3:$T$3499="C5")) -> 0 | P42: =SUMPRODUCT((DATA!$C$3:$C$3499=P$2)*(DATA!$M$3:$S$3499=$B42)*(DATA!$N$3:$T$3499="C6")) -> 0 | Q42: =SUMPRODUCT((DATA!$C$3:$C$3499=Q$2)*(DATA!$M$3:$S$3499=$B42)*(DATA!$N$3:$T$3499="C6")) -> 0 | R42: =F42+H42+J42+L42+N42+P42 -> 0 | S42: =G42+I42+K42+M42+O42+Q42 -> 0 | T42: =R42+S42 -> 0 | U42: =IF(E42>0,(R42+S42)/E42,"") | V42: =SUMPRODUCT((DATA!$C$3:$C$3499=V$2)*(DATA!$M$3:$S$3499=$B42)*(DATA!$N$3:$T$3499="D7")) -> 0 | W42: =SUMPRODUCT((DATA!$C$3:$C$3499=W$2)*(DATA!$M$3:$S$3499=$B42)*(DATA!$N$3:$T$3499="D7")) -> 0 | X42: =SUMPRODUCT((DATA!$C$3:$C$3499=X$2)*(DATA!$M$3:$S$3499=$B42)*(DATA!$N$3:$T$3499="E8")) -> 0 | Y42: =SUMPRODUCT((DATA!$C$3:$C$3499=Y$2)*(DATA!$M$3:$S$3499=$B42)*(DATA!$N$3:$T$3499="E8")) -> 0 | Z42: =SUMPRODUCT((DATA!$C$3:$C$3499=Z$2)*(DATA!$M$3:$S$3499=$B42)*(DATA!$N$3:$T$3499="F9")) -> 0 | AA42: =SUMPRODUCT((DATA!$C$3:$C$3499=AA$2)*(DATA!$M$3:$S$3499=$B42)*(DATA!$N$3:$T$3499="F9")) -> 0 | AB42: =T42+V42+W42+X42+Y42 -> 0 | AC42: =IF(E42>0,(AB42)/E42,"")
C43: =COUNTIFS(DATA!$M$3:M$3499,B43,DATA!$C$3:C$3499,"M")+COUNTIFS(DATA!$O$3:O$3499,B43,DATA!$C$3:C$3499,"M")+COUNTIFS(DATA!$Q$3:Q$3499,B43,DATA!$C$3:C$3499,"M")+COUNTIFS(DATA!$S$3:S$3499,B43,DATA!$C$3:C$3499,"M") -> 0 | D43: =COUNTIFS(DATA!$M$3:M$3499,B43,DATA!$C$3:C$3499,"F")+COUNTIFS(DATA!$O$3:O$3499,B43,DATA!$C$3:C$3499,"F")+COUNTIFS(DATA!$Q$3:Q$3499,B43,DATA!$C$3:C$3499,"F")+COUNTIFS(DATA!$S$3:S$3499,B43,DATA!$C$3:C$3499,"F") -> 0 | E43: =C43+D43 -> 0 | F43: =SUMPRODUCT((DATA!$C$3:$C$3499=F$2)*(DATA!$M$3:$S$3499=$B43)*(DATA!$N$3:$T$3499="A1")) -> 0 | G43: =SUMPRODUCT((DATA!$C$3:$C$3499=G$2)*(DATA!$M$3:$S$3499=$B43)*(DATA!$N$3:$T$3499="A1")) -> 0 | H43: =SUMPRODUCT((DATA!$C$3:$C$3499=H$2)*(DATA!$M$3:$S$3499=$B43)*(DATA!$N$3:$T$3499="B2")) -> 0 | I43: =SUMPRODUCT((DATA!$C$3:$C$3499=I$2)*(DATA!$M$3:$S$3499=$B43)*(DATA!$N$3:$T$3499="B2")) -> 0 | J43: =SUMPRODUCT((DATA!$C$3:$C$3499=J$2)*(DATA!$M$3:$S$3499=$B43)*(DATA!$N$3:$T$3499="B3")) -> 0 | K43: =SUMPRODUCT((DATA!$C$3:$C$3499=K$2)*(DATA!$M$3:$S$3499=$B43)*(DATA!$N$3:$T$3499="B3")) -> 0 | L43: =SUMPRODUCT((DATA!$C$3:$C$3499=L$2)*(DATA!$M$3:$S$3499=$B43)*(DATA!$N$3:$T$3499="C4")) -> 0 | M43: =SUMPRODUCT((DATA!$C$3:$C$3499=M$2)*(DATA!$M$3:$S$3499=$B43)*(DATA!$N$3:$T$3499="C4")) -> 0 | N43: =SUMPRODUCT((DATA!$C$3:$C$3499=N$2)*(DATA!$M$3:$S$3499=$B43)*(DATA!$N$3:$T$3499="C5")) -> 0 | O43: =SUMPRODUCT((DATA!$C$3:$C$3499=O$2)*(DATA!$M$3:$S$3499=$B43)*(DATA!$N$3:$T$3499="C5")) -> 0 | P43: =SUMPRODUCT((DATA!$C$3:$C$3499=P$2)*(DATA!$M$3:$S$3499=$B43)*(DATA!$N$3:$T$3499="C6")) -> 0 | Q43: =SUMPRODUCT((DATA!$C$3:$C$3499=Q$2)*(DATA!$M$3:$S$3499=$B43)*(DATA!$N$3:$T$3499="C6")) -> 0 | R43: =F43+H43+J43+L43+N43+P43 -> 0 | S43: =G43+I43+K43+M43+O43+Q43 -> 0 | T43: =R43+S43 -> 0 | U43: =IF(E43>0,(R43+S43)/E43,"") | V43: =SUMPRODUCT((DATA!$C$3:$C$3499=V$2)*(DATA!$M$3:$S$3499=$B43)*(DATA!$N$3:$T$3499="D7")) -> 0 | W43: =SUMPRODUCT((DATA!$C$3:$C$3499=W$2)*(DATA!$M$3:$S$3499=$B43)*(DATA!$N$3:$T$3499="D7")) -> 0 | X43: =SUMPRODUCT((DATA!$C$3:$C$3499=X$2)*(DATA!$M$3:$S$3499=$B43)*(DATA!$N$3:$T$3499="E8")) -> 0 | Y43: =SUMPRODUCT((DATA!$C$3:$C$3499=Y$2)*(DATA!$M$3:$S$3499=$B43)*(DATA!$N$3:$T$3499="E8")) -> 0 | Z43: =SUMPRODUCT((DATA!$C$3:$C$3499=Z$2)*(DATA!$M$3:$S$3499=$B43)*(DATA!$N$3:$T$3499="F9")) -> 0 | AA43: =SUMPRODUCT((DATA!$C$3:$C$3499=AA$2)*(DATA!$M$3:$S$3499=$B43)*(DATA!$N$3:$T$3499="F9")) -> 0 | AB43: =T43+V43+W43+X43+Y43 -> 0 | AC43: =IF(E43>0,(AB43)/E43,"")
C44: =COUNTIFS(DATA!$M$3:M$3499,B44,DATA!$C$3:C$3499,"M")+COUNTIFS(DATA!$O$3:O$3499,B44,DATA!$C$3:C$3499,"M")+COUNTIFS(DATA!$Q$3:Q$3499,B44,DATA!$C$3:C$3499,"M")+COUNTIFS(DATA!$S$3:S$3499,B44,DATA!$C$3:C$3499,"M") -> 0 | D44: =COUNTIFS(DATA!$M$3:M$3499,B44,DATA!$C$3:C$3499,"F")+COUNTIFS(DATA!$O$3:O$3499,B44,DATA!$C$3:C$3499,"F")+COUNTIFS(DATA!$Q$3:Q$3499,B44,DATA!$C$3:C$3499,"F")+COUNTIFS(DATA!$S$3:S$3499,B44,DATA!$C$3:C$3499,"F") -> 0 | E44: =C44+D44 -> 0 | F44: =SUMPRODUCT((DATA!$C$3:$C$3499=F$2)*(DATA!$M$3:$S$3499=$B44)*(DATA!$N$3:$T$3499="A1")) -> 0 | G44: =SUMPRODUCT((DATA!$C$3:$C$3499=G$2)*(DATA!$M$3:$S$3499=$B44)*(DATA!$N$3:$T$3499="A1")) -> 0 | H44: =SUMPRODUCT((DATA!$C$3:$C$3499=H$2)*(DATA!$M$3:$S$3499=$B44)*(DATA!$N$3:$T$3499="B2")) -> 0 | I44: =SUMPRODUCT((DATA!$C$3:$C$3499=I$2)*(DATA!$M$3:$S$3499=$B44)*(DATA!$N$3:$T$3499="B2")) -> 0 | J44: =SUMPRODUCT((DATA!$C$3:$C$3499=J$2)*(DATA!$M$3:$S$3499=$B44)*(DATA!$N$3:$T$3499="B3")) -> 0 | K44: =SUMPRODUCT((DATA!$C$3:$C$3499=K$2)*(DATA!$M$3:$S$3499=$B44)*(DATA!$N$3:$T$3499="B3")) -> 0 | L44: =SUMPRODUCT((DATA!$C$3:$C$3499=L$2)*(DATA!$M$3:$S$3499=$B44)*(DATA!$N$3:$T$3499="C4")) -> 0 | M44: =SUMPRODUCT((DATA!$C$3:$C$3499=M$2)*(DATA!$M$3:$S$3499=$B44)*(DATA!$N$3:$T$3499="C4")) -> 0 | N44: =SUMPRODUCT((DATA!$C$3:$C$3499=N$2)*(DATA!$M$3:$S$3499=$B44)*(DATA!$N$3:$T$3499="C5")) -> 0 | O44: =SUMPRODUCT((DATA!$C$3:$C$3499=O$2)*(DATA!$M$3:$S$3499=$B44)*(DATA!$N$3:$T$3499="C5")) -> 0 | P44: =SUMPRODUCT((DATA!$C$3:$C$3499=P$2)*(DATA!$M$3:$S$3499=$B44)*(DATA!$N$3:$T$3499="C6")) -> 0 | Q44: =SUMPRODUCT((DATA!$C$3:$C$3499=Q$2)*(DATA!$M$3:$S$3499=$B44)*(DATA!$N$3:$T$3499="C6")) -> 0 | R44: =F44+H44+J44+L44+N44+P44 -> 0 | S44: =G44+I44+K44+M44+O44+Q44 -> 0 | T44: =R44+S44 -> 0 | U44: =IF(E44>0,(R44+S44)/E44,"") | V44: =SUMPRODUCT((DATA!$C$3:$C$3499=V$2)*(DATA!$M$3:$S$3499=$B44)*(DATA!$N$3:$T$3499="D7")) -> 0 | W44: =SUMPRODUCT((DATA!$C$3:$C$3499=W$2)*(DATA!$M$3:$S$3499=$B44)*(DATA!$N$3:$T$3499="D7")) -> 0 | X44: =SUMPRODUCT((DATA!$C$3:$C$3499=X$2)*(DATA!$M$3:$S$3499=$B44)*(DATA!$N$3:$T$3499="E8")) -> 0 | Y44: =SUMPRODUCT((DATA!$C$3:$C$3499=Y$2)*(DATA!$M$3:$S$3499=$B44)*(DATA!$N$3:$T$3499="E8")) -> 0 | Z44: =SUMPRODUCT((DATA!$C$3:$C$3499=Z$2)*(DATA!$M$3:$S$3499=$B44)*(DATA!$N$3:$T$3499="F9")) -> 0 | AA44: =SUMPRODUCT((DATA!$C$3:$C$3499=AA$2)*(DATA!$M$3:$S$3499=$B44)*(DATA!$N$3:$T$3499="F9")) -> 0 | AB44: =T44+V44+W44+X44+Y44 -> 0 | AC44: =IF(E44>0,(AB44)/E44,"")
C45: =COUNTIFS(DATA!$M$3:M$3499,B45,DATA!$C$3:C$3499,"M")+COUNTIFS(DATA!$O$3:O$3499,B45,DATA!$C$3:C$3499,"M")+COUNTIFS(DATA!$Q$3:Q$3499,B45,DATA!$C$3:C$3499,"M")+COUNTIFS(DATA!$S$3:S$3499,B45,DATA!$C$3:C$3499,"M") -> 0 | D45: =COUNTIFS(DATA!$M$3:M$3499,B45,DATA!$C$3:C$3499,"F")+COUNTIFS(DATA!$O$3:O$3499,B45,DATA!$C$3:C$3499,"F")+COUNTIFS(DATA!$Q$3:Q$3499,B45,DATA!$C$3:C$3499,"F")+COUNTIFS(DATA!$S$3:S$3499,B45,DATA!$C$3:C$3499,"F") -> 0 | E45: =C45+D45 -> 0 | F45: =SUMPRODUCT((DATA!$C$3:$C$3499=F$2)*(DATA!$M$3:$S$3499=$B45)*(DATA!$N$3:$T$3499="A1")) -> 0 | G45: =SUMPRODUCT((DATA!$C$3:$C$3499=G$2)*(DATA!$M$3:$S$3499=$B45)*(DATA!$N$3:$T$3499="A1")) -> 0 | H45: =SUMPRODUCT((DATA!$C$3:$C$3499=H$2)*(DATA!$M$3:$S$3499=$B45)*(DATA!$N$3:$T$3499="B2")) -> 0 | I45: =SUMPRODUCT((DATA!$C$3:$C$3499=I$2)*(DATA!$M$3:$S$3499=$B45)*(DATA!$N$3:$T$3499="B2")) -> 0 | J45: =SUMPRODUCT((DATA!$C$3:$C$3499=J$2)*(DATA!$M$3:$S$3499=$B45)*(DATA!$N$3:$T$3499="B3")) -> 0 | K45: =SUMPRODUCT((DATA!$C$3:$C$3499=K$2)*(DATA!$M$3:$S$3499=$B45)*(DATA!$N$3:$T$3499="B3")) -> 0 | L45: =SUMPRODUCT((DATA!$C$3:$C$3499=L$2)*(DATA!$M$3:$S$3499=$B45)*(DATA!$N$3:$T$3499="C4")) -> 0 | M45: =SUMPRODUCT((DATA!$C$3:$C$3499=M$2)*(DATA!$M$3:$S$3499=$B45)*(DATA!$N$3:$T$3499="C4")) -> 0 | N45: =SUMPRODUCT((DATA!$C$3:$C$3499=N$2)*(DATA!$M$3:$S$3499=$B45)*(DATA!$N$3:$T$3499="C5")) -> 0 | O45: =SUMPRODUCT((DATA!$C$3:$C$3499=O$2)*(DATA!$M$3:$S$3499=$B45)*(DATA!$N$3:$T$3499="C5")) -> 0 | P45: =SUMPRODUCT((DATA!$C$3:$C$3499=P$2)*(DATA!$M$3:$S$3499=$B45)*(DATA!$N$3:$T$3499="C6")) -> 0 | Q45: =SUMPRODUCT((DATA!$C$3:$C$3499=Q$2)*(DATA!$M$3:$S$3499=$B45)*(DATA!$N$3:$T$3499="C6")) -> 0 | R45: =F45+H45+J45+L45+N45+P45 -> 0 | S45: =G45+I45+K45+M45+O45+Q45 -> 0 | T45: =R45+S45 -> 0 | U45: =IF(E45>0,(R45+S45)/E45,"") | V45: =SUMPRODUCT((DATA!$C$3:$C$3499=V$2)*(DATA!$M$3:$S$3499=$B45)*(DATA!$N$3:$T$3499="D7")) -> 0 | W45: =SUMPRODUCT((DATA!$C$3:$C$3499=W$2)*(DATA!$M$3:$S$3499=$B45)*(DATA!$N$3:$T$3499="D7")) -> 0 | X45: =SUMPRODUCT((DATA!$C$3:$C$3499=X$2)*(DATA!$M$3:$S$3499=$B45)*(DATA!$N$3:$T$3499="E8")) -> 0 | Y45: =SUMPRODUCT((DATA!$C$3:$C$3499=Y$2)*(DATA!$M$3:$S$3499=$B45)*(DATA!$N$3:$T$3499="E8")) -> 0 | Z45: =SUMPRODUCT((DATA!$C$3:$C$3499=Z$2)*(DATA!$M$3:$S$3499=$B45)*(DATA!$N$3:$T$3499="F9")) -> 0 | AA45: =SUMPRODUCT((DATA!$C$3:$C$3499=AA$2)*(DATA!$M$3:$S$3499=$B45)*(DATA!$N$3:$T$3499="F9")) -> 0 | AB45: =T45+V45+W45+X45+Y45 -> 0 | AC45: =IF(E45>0,(AB45)/E45,"")
... C439: =COUNTIFS(DATA!$M$3:M$3499,B439,DATA!$C$3:C$3499,"M")+COUNTIFS(DATA!$O$3:O$3499,B439,DATA!$C$3:C$3499,"M")+COUNTIFS(DATA!$Q$3:Q$3499,B439,DATA!$C$3:C$3499,"M")+COUNTIFS(DATA!$S$3:S$3499,B439,DATA!$C$3:C$3499,"M") -> 0 | D439: =COUNTIFS(DATA!$M$3:M$3499,B439,DATA!$C$3:C$3499,"F")+COUNTIFS(DATA!$O$3:O$3499,B439,DATA!$C$3:C$3499,"F")+COUNTIFS(DATA!$Q$3:Q$3499,B439,DATA!$C$3:C$3499,"F")+COUNTIFS(DATA!$S$3:S$3499,B439,DATA!$C$3:C$3499,"F") -> 0 | E439: =C439+D439 -> 0 | F439: =SUMPRODUCT((DATA!$C$3:$C$3499=F$2)*(DATA!$M$3:$S$3499=$B439)*(DATA!$N$3:$T$3499="A1")) -> 0 | G439: =SUMPRODUCT((DATA!$C$3:$C$3499=G$2)*(DATA!$M$3:$S$3499=$B439)*(DATA!$N$3:$T$3499="A1")) -> 0 | H439: =SUMPRODUCT((DATA!$C$3:$C$3499=H$2)*(DATA!$M$3:$S$3499=$B439)*(DATA!$N$3:$T$3499="B2")) -> 0 | I439: =SUMPRODUCT((DATA!$C$3:$C$3499=I$2)*(DATA!$M$3:$S$3499=$B439)*(DATA!$N$3:$T$3499="B2")) -> 0 | J439: =SUMPRODUCT((DATA!$C$3:$C$3499=J$2)*(DATA!$M$3:$S$3499=$B439)*(DATA!$N$3:$T$3499="B3")) -> 0 | K439: =SUMPRODUCT((DATA!$C$3:$C$3499=K$2)*(DATA!$M$3:$S$3499=$B439)*(DATA!$N$3:$T$3499="B3")) -> 0 | L439: =SUMPRODUCT((DATA!$C$3:$C$3499=L$2)*(DATA!$M$3:$S$3499=$B439)*(DATA!$N$3:$T$3499="C4")) -> 0 | M439: =SUMPRODUCT((DATA!$C$3:$C$3499=M$2)*(DATA!$M$3:$S$3499=$B439)*(DATA!$N$3:$T$3499="C4")) -> 0 | N439: =SUMPRODUCT((DATA!$C$3:$C$3499=N$2)*(DATA!$M$3:$S$3499=$B439)*(DATA!$N$3:$T$3499="C5")) -> 0 | O439: =SUMPRODUCT((DATA!$C$3:$C$3499=O$2)*(DATA!$M$3:$S$3499=$B439)*(DATA!$N$3:$T$3499="C5")) -> 0 | P439: =SUMPRODUCT((DATA!$C$3:$C$3499=P$2)*(DATA!$M$3:$S$3499=$B439)*(DATA!$N$3:$T$3499="C6")) -> 0 | Q439: =SUMPRODUCT((DATA!$C$3:$C$3499=Q$2)*(DATA!$M$3:$S$3499=$B439)*(DATA!$N$3:$T$3499="C6")) -> 0 | R439: =F439+H439+J439+L439+N439+P439 -> 0 | S439: =G439+I439+K439+M439+O439+Q439 -> 0 | T439: =R439+S439 -> 0 | U439: =IF(E439>0,(R439+S439)/E439,"") | V439: =SUMPRODUCT((DATA!$C$3:$C$3499=V$2)*(DATA!$M$3:$S$3499=$B439)*(DATA!$N$3:$T$3499="D7")) -> 0 | W439: =SUMPRODUCT((DATA!$C$3:$C$3499=W$2)*(DATA!$M$3:$S$3499=$B439)*(DATA!$N$3:$T$3499="D7")) -> 0 | X439: =SUMPRODUCT((DATA!$C$3:$C$3499=X$2)*(DATA!$M$3:$S$3499=$B439)*(DATA!$N$3:$T$3499="E8")) -> 0 | Y439: =SUMPRODUCT((DATA!$C$3:$C$3499=Y$2)*(DATA!$M$3:$S$3499=$B439)*(DATA!$N$3:$T$3499="E8")) -> 0 | Z439: =SUMPRODUCT((DATA!$C$3:$C$3499=Z$2)*(DATA!$M$3:$S$3499=$B439)*(DATA!$N$3:$T$3499="F9")) -> 0 | AA439: =SUMPRODUCT((DATA!$C$3:$C$3499=AA$2)*(DATA!$M$3:$S$3499=$B439)*(DATA!$N$3:$T$3499="F9")) -> 0 | AB439: =T439+V439+W439+X439+Y439 -> 0 | AC439: =IF(E439>0,(AB439)/E439,"")

Sheet SUMMARY
A1: Passes in all subjects | H1: A1-C6 GENDER COUNT | J1: WHATSAPP ON 0541709799 FOR ALL SOFTWARE SOLUTIONS
D2: A1-C6 | E2: A1-C6% | F2: A1-E8 | G2: A1-E8 % | H2: MALE | I2: FEMALE | L2: Fill column D on DATA sheet to reflect here
A3: 8 | B3: subjects | D3: =COUNTIF(DATA!U$3:'DATA'!U$3499,A3) -> 13 | E3: =D3/D12 -> 0.020634921 | F3: =COUNTIF(DATA!V$3:'DATA'!V$3499,A3) -> 45 | G3: =F3/F$12 -> 0.071428571 | H3: =COUNTIFS(DATA!U$3:'DATA'!U$3499,A3,DATA!C$3:'DATA'!C$3499,LEFT(H$2)) -> 11 | I3: =COUNTIFS(DATA!V$3:'DATA'!V$3499,A3,DATA!C$3:'DATA'!C$3499,LEFT(I$2)) -> 24 | L3: PROGRAMS | M3: PRESENTED | N3: PASSED | O3: PERCENTAGE
A4: 7 | B4: subjects | D4: =COUNTIF(DATA!U$3:'DATA'!U$3499,A4) -> 10 | E4: =D4/D12 -> 0.015873016 | F4: =COUNTIF(DATA!V$3:'DATA'!V$3499,A4) -> 89 | G4: =F4/F$12 -> 0.14126984 | H4: =COUNTIFS(DATA!U$3:'DATA'!U$3499,A4,DATA!C$3:'DATA'!C$3499,LEFT(H$2)) -> 2 | I4: =COUNTIFS(DATA!V$3:'DATA'!V$3499,A4,DATA!C$3:'DATA'!C$3499,LEFT(I$2)) -> 65 | L4: AGRICULTURE | M4: =COUNTIF(DATA!F$3:'DATA'!F$3499,L4) -> 0 | N4: =COUNTIFS(DATA!$F$3:$F$3499,L4,DATA!$U$3:$U$3499,">=6") -> 0 | O4: =IF(N4>0,N4/M4,0) -> 0
A5: 6 | B5: subjects | D5: =COUNTIF(DATA!U$3:'DATA'!U$3499,A5) -> 51 | E5: =D5/D12 -> 0.080952381 | F5: =COUNTIF(DATA!V$3:'DATA'!V$3499,A5) -> 117 | G5: =F5/F$12 -> 0.18571429 | H5: =COUNTIFS(DATA!U$3:'DATA'!U$3499,A5,DATA!C$3:'DATA'!C$3499,LEFT(H$2)) -> 18 | I5: =COUNTIFS(DATA!V$3:'DATA'!V$3499,A5,DATA!C$3:'DATA'!C$3499,LEFT(I$2)) -> 66 | L5: GEN ARTS | M5: =COUNTIF(DATA!F$3:'DATA'!F$3499,L5) -> 0 | N5: =COUNTIFS(DATA!$F$3:$F$3499,L5,DATA!$U$3:$U$3499,">=6") -> 0 | O5: =IF(N5>0,N5/M5,0) -> 0
A6: 5 | B6: subjects | D6: =COUNTIF(DATA!U$3:'DATA'!U$3499,A6) -> 94 | E6: =D6/D12 -> 0.14920635 | F6: =COUNTIF(DATA!V$3:'DATA'!V$3499,A6) -> 118 | G6: =F6/F$12 -> 0.18730159 | H6: =COUNTIFS(DATA!U$3:'DATA'!U$3499,A6,DATA!C$3:'DATA'!C$3499,LEFT(H$2)) -> 25 | I6: =COUNTIFS(DATA!V$3:'DATA'!V$3499,A6,DATA!C$3:'DATA'!C$3499,LEFT(I$2)) -> 77 | L6: BUSINESS | M6: =COUNTIF(DATA!F$3:'DATA'!F$3499,L6) -> 0 | N6: =COUNTIFS(DATA!$F$3:$F$3499,L6,DATA!$U$3:$U$3499,">=6") -> 0 | O6: =IF(N6>0,N6/M6,0) -> 0
A7: 4 | B7: subjects | D7: =COUNTIF(DATA!U$3:'DATA'!U$3499,A7) -> 115 | E7: =D7/D12 -> 0.18253968 | F7: =COUNTIF(DATA!V$3:'DATA'!V$3499,A7) -> 85 | G7: =F7/F$12 -> 0.13492063 | H7: =COUNTIFS(DATA!U$3:'DATA'!U$3499,A7,DATA!C$3:'DATA'!C$3499,LEFT(H$2)) -> 38 | I7: =COUNTIFS(DATA!V$3:'DATA'!V$3499,A7,DATA!C$3:'DATA'!C$3499,LEFT(I$2)) -> 55 | L7: HOME ECONS | M7: =COUNTIF(DATA!F$3:'DATA'!F$3499,L7) -> 0 | N7: =COUNTIFS(DATA!$F$3:$F$3499,L7,DATA!$U$3:$U$3499,">=6") -> 0 | O7: =IF(N7>0,N7/M7,0) -> 0
A8: 3 | B8: subjects | D8: =COUNTIF(DATA!U$3:'DATA'!U$3499,A8) -> 68 | E8: =D8/D12 -> 0.10793651 | F8: =COUNTIF(DATA!V$3:'DATA'!V$3499,A8) -> 66 | G8: =F8/F$12 -> 0.1047619 | H8: =COUNTIFS(DATA!U$3:'DATA'!U$3499,A8,DATA!C$3:'DATA'!C$3499,LEFT(H$2)) -> 26 | I8: =COUNTIFS(DATA!V$3:'DATA'!V$3499,A8,DATA!C$3:'DATA'!C$3499,LEFT(I$2)) -> 41 | L8: SCIENCE | M8: =COUNTIF(DATA!F$3:'DATA'!F$3499,L8) -> 0 | N8: =COUNTIFS(DATA!$F$3:$F$3499,L8,DATA!$U$3:$U$3499,">=6") -> 0 | O8: =IF(N8>0,N8/M8,0) -> 0
A9: 2 | B9: subjects | D9: =COUNTIF(DATA!U$3:'DATA'!U$3499,A9) -> 98 | E9: =D9/D12 -> 0.15555556 | F9: =COUNTIF(DATA!V$3:'DATA'!V$3499,A9) -> 56 | G9: =F9/F$12 -> 0.088888889 | H9: =COUNTIFS(DATA!U$3:'DATA'!U$3499,A9,DATA!C$3:'DATA'!C$3499,LEFT(H$2)) -> 38 | I9: =COUNTIFS(DATA!V$3:'DATA'!V$3499,A9,DATA!C$3:'DATA'!C$3499,LEFT(I$2)) -> 32 | L9: TECHNICAL | M9: =COUNTIF(DATA!F$3:'DATA'!F$3499,L9) -> 0 | N9: =COUNTIFS(DATA!$F$3:$F$3499,L9,DATA!$U$3:$U$3499,">=6") -> 0 | O9: =IF(N9>0,N9/M9,0) -> 0
A10: 1 | B10: subject | D10: =COUNTIF(DATA!U$3:'DATA'!U$3499,A10) -> 90 | E10: =D10/D12 -> 0.14285714 | F10: =COUNTIF(DATA!V$3:'DATA'!V$3499,A10) -> 30 | G10: =F10/F$12 -> 0.047619048 | H10: =COUNTIFS(DATA!U$3:'DATA'!U$3499,A10,DATA!C$3:'DATA'!C$3499,LEFT(H$2)) -> 39 | I10: =COUNTIFS(DATA!V$3:'DATA'!V$3499,A10,DATA!C$3:'DATA'!C$3499,LEFT(I$2)) -> 19 | L10: VISUAL ARTS | M10: =COUNTIF(DATA!F$3:'DATA'!F$3499,L10) -> 0 | N10: =COUNTIFS(DATA!$F$3:$F$3499,L10,DATA!$U$3:$U$3499,">=6") -> 0 | O10: =IF(N10>0,N10/M10,0) -> 0
A11: 0 | B11: None | D11: =COUNTIF(DATA!U$3:'DATA'!U$3499,A11) -> 91 | E11: =D11/D12 -> 0.14444444 | F11: =COUNTIF(DATA!V$3:'DATA'!V$3499,A11) -> 24 | G11: =F11/F$12 -> 0.038095238 | H11: =COUNTIFS(DATA!U$3:'DATA'!U$3499,A11,DATA!C$3:'DATA'!C$3499,LEFT(H$2)) -> 45 | I11: =COUNTIFS(DATA!V$3:'DATA'!V$3499,A11,DATA!C$3:'DATA'!C$3499,LEFT(I$2)) -> 9 | M11: =SUM(M4:M9) -> 0 | N11: =SUM(N4:N9) -> 0
A12: TOTAL NUMBER OF STUDENTS | D12: =SUM(D3:D11) -> 630 | E12: =SUM(E3:E11) -> 1 | F12: =SUM(F3:F11) -> 630 | G12: =SUM(G3:G11) -> 1 | H12: =SUM(H3:H11) -> 242 | I12: =SUM(I3:I11) -> 388
A14: QUALIFICATION FOR TERTIARY(A1-C6) | G14: =COUNTIF(DATA!AH3:'DATA'!AH3499,">5") -> 14 | H14: =G14/D12 -> 0.022222222 | M14: PRESENTED | N14: QUALIFIED | O14: PERCENTAGE
A15: QUALIFICATION FOR TERTIARY(A1-E8) | G15: =COUNTIF(DATA!AK3:'DATA'!AK1498,">5") -> 59 | H15: =G15/D12 -> 0.093650794 | L15: MALE | M15: =SUBJECTS!C3 -> 242 | N15: =COUNTIFS(DATA!AH3:'DATA'!AH3499,">5",DATA!C3:'DATA'!C3499,"M") -> 11 | O15: =N15/M15 -> 0.045454545
L16: FEMALE | M16: =SUBJECTS!D3 -> 388 | N16: =COUNTIFS(DATA!AH3:'DATA'!AH3499,">5",DATA!C3:'DATA'!C3499,"F") -> 3 | O16: =N16/M16 -> 0.0077319588
L17: TOTAL | M17: =SUM(M15:M16) -> 630 | N17: =SUM(N15:N16) -> 14
A18: Number of students with count of A1s
A19: Count | C19: Male | D19: Female | E19: Total | F19: %
A20: 8 | B20: A1s | C20: =COUNTIFS(DATA!AN$3:'DATA'!AN$3499,A20,DATA!C$3:'DATA'!C$3499,"M") -> 0 | D20: =COUNTIFS(DATA!AN$3:'DATA'!AN$3499,A20,DATA!C$3:'DATA'!C$3499,"F") -> 0 | E20: =C20+D20 -> 0 | F20: =E20/$D$12 -> 0
A21: 7 | B21: A1s | C21: =COUNTIFS(DATA!AN$3:'DATA'!AN$3499,A21,DATA!C$3:'DATA'!C$3499,"M") -> 0 | D21: =COUNTIFS(DATA!AN$3:'DATA'!AN$3499,A21,DATA!C$3:'DATA'!C$3499,"F") -> 0 | E21: =C21+D21 -> 0 | F21: =E21/$D$12 -> 0
A22: 6 | B22: A1s | C22: =COUNTIFS(DATA!AN$3:'DATA'!AN$3499,A22,DATA!C$3:'DATA'!C$3499,"M") -> 0 | D22: =COUNTIFS(DATA!AN$3:'DATA'!AN$3499,A22,DATA!C$3:'DATA'!C$3499,"F") -> 0 | E22: =C22+D22 -> 0 | F22: =E22/$D$12 -> 0
A23: 5 | B23: A1s | C23: =COUNTIFS(DATA!AN$3:'DATA'!AN$3499,A23,DATA!C$3:'DATA'!C$3499,"M") -> 1 | D23: =COUNTIFS(DATA!AN$3:'DATA'!AN$3499,A23,DATA!C$3:'DATA'!C$3499,"F") -> 0 | E23: =C23+D23 -> 1 | F23: =E23/$D$12 -> 0.0015873016
A24: 4 | B24: A1s | C24: =COUNTIFS(DATA!AN$3:'DATA'!AN$3499,A24,DATA!C$3:'DATA'!C$3499,"M") -> 0 | D24: =COUNTIFS(DATA!AN$3:'DATA'!AN$3499,A24,DATA!C$3:'DATA'!C$3499,"F") -> 0 | E24: =C24+D24 -> 0 | F24: =E24/$D$12 -> 0
A25: 3 | B25: A1s | C25: =COUNTIFS(DATA!AN$3:'DATA'!AN$3499,A25,DATA!C$3:'DATA'!C$3499,"M") -> 1 | D25: =COUNTIFS(DATA!AN$3:'DATA'!AN$3499,A25,DATA!C$3:'DATA'!C$3499,"F") -> 0 | E25: =C25+D25 -> 1 | F25: =E25/$D$12 -> 0.0015873016
A26: 2 | B26: A1s | C26: =COUNTIFS(DATA!AN$3:'DATA'!AN$3499,A26,DATA!C$3:'DATA'!C$3499,"M") -> 4 | D26: =COUNTIFS(DATA!AN$3:'DATA'!AN$3499,A26,DATA!C$3:'DATA'!C$3499,"F") -> 6 | E26: =C26+D26 -> 10 | F26: =E26/$D$12 -> 0.015873016
A27: 1 | B27: A1s | C27: =COUNTIFS(DATA!AN$3:'DATA'!AN$3499,A27,DATA!C$3:'DATA'!C$3499,"M") -> 16 | D27: =COUNTIFS(DATA!AN$3:'DATA'!AN$3499,A27,DATA!C$3:'DATA'!C$3499,"F") -> 36 | E27: =C27+D27 -> 52 | F27: =E27/$D$12 -> 0.082539683
A28: 0 | B28: A1s | C28: =COUNTIFS(DATA!AN$3:'DATA'!AN$3499,A28,DATA!C$3:'DATA'!C$3499,"M") -> 220 | D28: =COUNTIFS(DATA!AN$3:'DATA'!AN$3499,A28,DATA!C$3:'DATA'!C$3499,"F") -> 346 | E28: =C28+D28 -> 566 | F28: =E28/$D$12 -> 0.8984127
A32: SUMMARY OF BEST 6 SUBJECTS AGGREGATES
A33: BEST AGGREGATE | G33: =MIN(DATA!AM3:'DATA'!AM3499) -> 8
A34: AVERAGE AGGREGATE | G34: =AVERAGE(DATA!AM3:'DATA'!AM3499) -> 38.173554
A35: WORST AGGREGATE | G35: =MAX(DATA!AM3:'DATA'!AM3499) -> 54
A37: AGGREGATES 6-36 | G37: =COUNTIFS(DATA!AM3:'DATA'!AM3499,">5",DATA!AM3:'DATA'!AM3499,"<37") -> 264 | H37: =G37/D$12 -> 0.41904762
A38: AGGREGATE(6-12) | G38: =COUNTIF(DATA!AM3:'DATA'!AM3499,"<13") -> 4 | H38: =G38/D$12 -> 0.0063492063
A39: AGGREGATE(13-20) | G39: =COUNTIFS(DATA!AM3:'DATA'!AM3499,">12",DATA!AM3:'DATA'!AM3499,"<21") -> 8 | H39: =G39/D$12 -> 0.012698413
A40: AGGREGATE(21-30) | G40: =COUNTIFS(DATA!AM3:'DATA'!AM3499,">20",DATA!AM3:'DATA'!AM3499,"<31") -> 140 | H40: =G40/D$12 -> 0.22222222
A41: AGGREGATE(31-36) | G41: =COUNTIFS(DATA!AM3:'DATA'!AM3499,">30",DATA!AM3:'DATA'!AM3499,"<37") -> 112 | H41: =G41/D$12 -> 0.17777778
A42: AGGREGATE(37-54) | G42: =COUNTIFS(DATA!AM3:'DATA'!AM3499,">36",DATA!AM3:'DATA'!AM3499,"<55") -> 341 | H42: =G42/D$12 -> 0.54126984
A43: NON-GRADABLE | G43: =D12-SUM(G38:G42) -> 25 | H43: =G43/D$12 -> 0.03968254
G44: =SUM(G38:G43) -> 630 | H44: =SUM(H38:H43) -> 1

Sheet GRADES
A1: Grade | B1: Count of Grades
A2: A1 | B2: =SUM(SUBJECTS!F3:G45) -> 80
A3: B2 | B3: =SUM(SUBJECTS!H3:I45) -> 123
A4: B3 | B4: =SUM(SUBJECTS!J3:K45) -> 521
A5: C4 | B5: =SUM(SUBJECTS!L3:M45) -> 279
A6: C5 | B6: =SUM(SUBJECTS!N3:O45) -> 304
A7: C6 | B7: =SUM(SUBJECTS!P3:Q45) -> 588
A8: D7 | B8: =SUM(SUBJECTS!V3:W45) -> 469
A9: E8 | B9: =SUM(SUBJECTS!X3:Y45) -> 584
A10: F9 | B10: =SUM(SUBJECTS!Z3:AA45) -> 2047
A11: X | B11: =SUM(SUBJECTS!Z4:AA46) -> 1946
A12: W | B12: =SUM(SUBJECTS!Z5:AA47) -> 1877
A13: P | B13: =SUM(SUBJECTS!Z6:AA48) -> 1320
A14: M | B14: =SUM(SUBJECTS!Z7:AA49) -> 921
A15: * | B15: =SUM(SUBJECTS!Z8:AA50) -> 870
